BEGIN:VCALENDAR
VERSION:2.0
PRODID:-//Vermont Sun Fitness Centers - ECPv6.15.20//NONSGML v1.0//EN
CALSCALE:GREGORIAN
METHOD:PUBLISH
X-ORIGINAL-URL:https://vermontsun.com
X-WR-CALDESC:Events for Vermont Sun Fitness Centers
REFRESH-INTERVAL;VALUE=DURATION:PT1H
X-Robots-Tag:noindex
X-PUBLISHED-TTL:PT1H
BEGIN:VTIMEZONE
TZID:America/New_York
BEGIN:DAYLIGHT
TZOFFSETFROM:-0500
TZOFFSETTO:-0400
TZNAME:EDT
DTSTART:20290311T070000
END:DAYLIGHT
BEGIN:STANDARD
TZOFFSETFROM:-0400
TZOFFSETTO:-0500
TZNAME:EST
DTSTART:20291104T060000
END:STANDARD
BEGIN:DAYLIGHT
TZOFFSETFROM:-0500
TZOFFSETTO:-0400
TZNAME:EDT
DTSTART:20300310T070000
END:DAYLIGHT
BEGIN:STANDARD
TZOFFSETFROM:-0400
TZOFFSETTO:-0500
TZNAME:EST
DTSTART:20301103T060000
END:STANDARD
BEGIN:DAYLIGHT
TZOFFSETFROM:-0500
TZOFFSETTO:-0400
TZNAME:EDT
DTSTART:20310309T070000
END:DAYLIGHT
BEGIN:STANDARD
TZOFFSETFROM:-0400
TZOFFSETTO:-0500
TZNAME:EST
DTSTART:20311102T060000
END:STANDARD
END:VTIMEZONE
BEGIN:VEVENT
DTSTART;TZID=America/New_York:20300619T101500
DTEND;TZID=America/New_York:20300619T111500
DTSTAMP:20260419T155246
CREATED:20230126T155727Z
LAST-MODIFIED:20260317T102315Z
UID:10020049-1908094500-1908098100@vermontsun.com
SUMMARY:Aquacise
DESCRIPTION:A fabulous non-impact class in our body soothing 83 degree Olympic pool! A great class for all fitness levels and those recovering from injuries. The arthritis aqua class is similar to the aqua aerobic but adheres to the guidelines of the American Arthritis Foundation.
URL:https://vermontsun.com/event/aquacise/2030-06-19/
LOCATION:VT Sun Middlebury\, 812 Exchange Street\, Middlebury\, VT\, 05753\, United States
CATEGORIES:aquacise
ATTACH;FMTTYPE=image/jpeg:https://vermontsun.com/wp-content/uploads/2015/08/aqua-aero.jpg
ORGANIZER;CN="VT Sun Middlebury":MAILTO:info@vermontsun.com
END:VEVENT
BEGIN:VEVENT
DTSTART;TZID=America/New_York:20300621T101500
DTEND;TZID=America/New_York:20300621T111500
DTSTAMP:20260419T155246
CREATED:20230126T155727Z
LAST-MODIFIED:20260317T102315Z
UID:10020050-1908267300-1908270900@vermontsun.com
SUMMARY:Aquacise
DESCRIPTION:A fabulous non-impact class in our body soothing 83 degree Olympic pool! A great class for all fitness levels and those recovering from injuries. The arthritis aqua class is similar to the aqua aerobic but adheres to the guidelines of the American Arthritis Foundation.
URL:https://vermontsun.com/event/aquacise/2030-06-21/
LOCATION:VT Sun Middlebury\, 812 Exchange Street\, Middlebury\, VT\, 05753\, United States
CATEGORIES:aquacise
ATTACH;FMTTYPE=image/jpeg:https://vermontsun.com/wp-content/uploads/2015/08/aqua-aero.jpg
ORGANIZER;CN="VT Sun Middlebury":MAILTO:info@vermontsun.com
END:VEVENT
BEGIN:VEVENT
DTSTART;TZID=America/New_York:20300625T101500
DTEND;TZID=America/New_York:20300625T111500
DTSTAMP:20260419T155246
CREATED:20230126T155727Z
LAST-MODIFIED:20260317T102315Z
UID:10020181-1908612900-1908616500@vermontsun.com
SUMMARY:Aquacise
DESCRIPTION:A fabulous non-impact class in our body soothing 83 degree Olympic pool! A great class for all fitness levels and those recovering from injuries. The arthritis aqua class is similar to the aqua aerobic but adheres to the guidelines of the American Arthritis Foundation.
URL:https://vermontsun.com/event/aquacise/2030-06-25/
LOCATION:VT Sun Middlebury\, 812 Exchange Street\, Middlebury\, VT\, 05753\, United States
CATEGORIES:aquacise
ATTACH;FMTTYPE=image/jpeg:https://vermontsun.com/wp-content/uploads/2015/08/aqua-aero.jpg
ORGANIZER;CN="VT Sun Middlebury":MAILTO:info@vermontsun.com
END:VEVENT
BEGIN:VEVENT
DTSTART;TZID=America/New_York:20300626T101500
DTEND;TZID=America/New_York:20300626T111500
DTSTAMP:20260419T155246
CREATED:20230126T155727Z
LAST-MODIFIED:20260317T102315Z
UID:10020182-1908699300-1908702900@vermontsun.com
SUMMARY:Aquacise
DESCRIPTION:A fabulous non-impact class in our body soothing 83 degree Olympic pool! A great class for all fitness levels and those recovering from injuries. The arthritis aqua class is similar to the aqua aerobic but adheres to the guidelines of the American Arthritis Foundation.
URL:https://vermontsun.com/event/aquacise/2030-06-26/
LOCATION:VT Sun Middlebury\, 812 Exchange Street\, Middlebury\, VT\, 05753\, United States
CATEGORIES:aquacise
ATTACH;FMTTYPE=image/jpeg:https://vermontsun.com/wp-content/uploads/2015/08/aqua-aero.jpg
ORGANIZER;CN="VT Sun Middlebury":MAILTO:info@vermontsun.com
END:VEVENT
BEGIN:VEVENT
DTSTART;TZID=America/New_York:20300628T101500
DTEND;TZID=America/New_York:20300628T111500
DTSTAMP:20260419T155246
CREATED:20230126T155727Z
LAST-MODIFIED:20260317T102315Z
UID:10020183-1908872100-1908875700@vermontsun.com
SUMMARY:Aquacise
DESCRIPTION:A fabulous non-impact class in our body soothing 83 degree Olympic pool! A great class for all fitness levels and those recovering from injuries. The arthritis aqua class is similar to the aqua aerobic but adheres to the guidelines of the American Arthritis Foundation.
URL:https://vermontsun.com/event/aquacise/2030-06-28/
LOCATION:VT Sun Middlebury\, 812 Exchange Street\, Middlebury\, VT\, 05753\, United States
CATEGORIES:aquacise
ATTACH;FMTTYPE=image/jpeg:https://vermontsun.com/wp-content/uploads/2015/08/aqua-aero.jpg
ORGANIZER;CN="VT Sun Middlebury":MAILTO:info@vermontsun.com
END:VEVENT
BEGIN:VEVENT
DTSTART;TZID=America/New_York:20300702T101500
DTEND;TZID=America/New_York:20300702T111500
DTSTAMP:20260419T155246
CREATED:20230126T155727Z
LAST-MODIFIED:20260317T102315Z
UID:10020184-1909217700-1909221300@vermontsun.com
SUMMARY:Aquacise
DESCRIPTION:A fabulous non-impact class in our body soothing 83 degree Olympic pool! A great class for all fitness levels and those recovering from injuries. The arthritis aqua class is similar to the aqua aerobic but adheres to the guidelines of the American Arthritis Foundation.
URL:https://vermontsun.com/event/aquacise/2030-07-02/
LOCATION:VT Sun Middlebury\, 812 Exchange Street\, Middlebury\, VT\, 05753\, United States
CATEGORIES:aquacise
ATTACH;FMTTYPE=image/jpeg:https://vermontsun.com/wp-content/uploads/2015/08/aqua-aero.jpg
ORGANIZER;CN="VT Sun Middlebury":MAILTO:info@vermontsun.com
END:VEVENT
BEGIN:VEVENT
DTSTART;TZID=America/New_York:20300703T101500
DTEND;TZID=America/New_York:20300703T111500
DTSTAMP:20260419T155246
CREATED:20230126T155727Z
LAST-MODIFIED:20260317T102315Z
UID:10020185-1909304100-1909307700@vermontsun.com
SUMMARY:Aquacise
DESCRIPTION:A fabulous non-impact class in our body soothing 83 degree Olympic pool! A great class for all fitness levels and those recovering from injuries. The arthritis aqua class is similar to the aqua aerobic but adheres to the guidelines of the American Arthritis Foundation.
URL:https://vermontsun.com/event/aquacise/2030-07-03/
LOCATION:VT Sun Middlebury\, 812 Exchange Street\, Middlebury\, VT\, 05753\, United States
CATEGORIES:aquacise
ATTACH;FMTTYPE=image/jpeg:https://vermontsun.com/wp-content/uploads/2015/08/aqua-aero.jpg
ORGANIZER;CN="VT Sun Middlebury":MAILTO:info@vermontsun.com
END:VEVENT
BEGIN:VEVENT
DTSTART;TZID=America/New_York:20300705T101500
DTEND;TZID=America/New_York:20300705T111500
DTSTAMP:20260419T155246
CREATED:20230126T155727Z
LAST-MODIFIED:20260317T102315Z
UID:10020186-1909476900-1909480500@vermontsun.com
SUMMARY:Aquacise
DESCRIPTION:A fabulous non-impact class in our body soothing 83 degree Olympic pool! A great class for all fitness levels and those recovering from injuries. The arthritis aqua class is similar to the aqua aerobic but adheres to the guidelines of the American Arthritis Foundation.
URL:https://vermontsun.com/event/aquacise/2030-07-05/
LOCATION:VT Sun Middlebury\, 812 Exchange Street\, Middlebury\, VT\, 05753\, United States
CATEGORIES:aquacise
ATTACH;FMTTYPE=image/jpeg:https://vermontsun.com/wp-content/uploads/2015/08/aqua-aero.jpg
ORGANIZER;CN="VT Sun Middlebury":MAILTO:info@vermontsun.com
END:VEVENT
BEGIN:VEVENT
DTSTART;TZID=America/New_York:20300709T101500
DTEND;TZID=America/New_York:20300709T111500
DTSTAMP:20260419T155246
CREATED:20230126T155727Z
LAST-MODIFIED:20260317T102315Z
UID:10020187-1909822500-1909826100@vermontsun.com
SUMMARY:Aquacise
DESCRIPTION:A fabulous non-impact class in our body soothing 83 degree Olympic pool! A great class for all fitness levels and those recovering from injuries. The arthritis aqua class is similar to the aqua aerobic but adheres to the guidelines of the American Arthritis Foundation.
URL:https://vermontsun.com/event/aquacise/2030-07-09/
LOCATION:VT Sun Middlebury\, 812 Exchange Street\, Middlebury\, VT\, 05753\, United States
CATEGORIES:aquacise
ATTACH;FMTTYPE=image/jpeg:https://vermontsun.com/wp-content/uploads/2015/08/aqua-aero.jpg
ORGANIZER;CN="VT Sun Middlebury":MAILTO:info@vermontsun.com
END:VEVENT
BEGIN:VEVENT
DTSTART;TZID=America/New_York:20300710T101500
DTEND;TZID=America/New_York:20300710T111500
DTSTAMP:20260419T155246
CREATED:20230126T155727Z
LAST-MODIFIED:20260317T102315Z
UID:10020188-1909908900-1909912500@vermontsun.com
SUMMARY:Aquacise
DESCRIPTION:A fabulous non-impact class in our body soothing 83 degree Olympic pool! A great class for all fitness levels and those recovering from injuries. The arthritis aqua class is similar to the aqua aerobic but adheres to the guidelines of the American Arthritis Foundation.
URL:https://vermontsun.com/event/aquacise/2030-07-10/
LOCATION:VT Sun Middlebury\, 812 Exchange Street\, Middlebury\, VT\, 05753\, United States
CATEGORIES:aquacise
ATTACH;FMTTYPE=image/jpeg:https://vermontsun.com/wp-content/uploads/2015/08/aqua-aero.jpg
ORGANIZER;CN="VT Sun Middlebury":MAILTO:info@vermontsun.com
END:VEVENT
BEGIN:VEVENT
DTSTART;TZID=America/New_York:20300712T101500
DTEND;TZID=America/New_York:20300712T111500
DTSTAMP:20260419T155246
CREATED:20230126T155727Z
LAST-MODIFIED:20260317T102315Z
UID:10020189-1910081700-1910085300@vermontsun.com
SUMMARY:Aquacise
DESCRIPTION:A fabulous non-impact class in our body soothing 83 degree Olympic pool! A great class for all fitness levels and those recovering from injuries. The arthritis aqua class is similar to the aqua aerobic but adheres to the guidelines of the American Arthritis Foundation.
URL:https://vermontsun.com/event/aquacise/2030-07-12/
LOCATION:VT Sun Middlebury\, 812 Exchange Street\, Middlebury\, VT\, 05753\, United States
CATEGORIES:aquacise
ATTACH;FMTTYPE=image/jpeg:https://vermontsun.com/wp-content/uploads/2015/08/aqua-aero.jpg
ORGANIZER;CN="VT Sun Middlebury":MAILTO:info@vermontsun.com
END:VEVENT
BEGIN:VEVENT
DTSTART;TZID=America/New_York:20300716T101500
DTEND;TZID=America/New_York:20300716T111500
DTSTAMP:20260419T155246
CREATED:20230126T155727Z
LAST-MODIFIED:20260317T102315Z
UID:10020456-1910427300-1910430900@vermontsun.com
SUMMARY:Aquacise
DESCRIPTION:A fabulous non-impact class in our body soothing 83 degree Olympic pool! A great class for all fitness levels and those recovering from injuries. The arthritis aqua class is similar to the aqua aerobic but adheres to the guidelines of the American Arthritis Foundation.
URL:https://vermontsun.com/event/aquacise/2030-07-16/
LOCATION:VT Sun Middlebury\, 812 Exchange Street\, Middlebury\, VT\, 05753\, United States
CATEGORIES:aquacise
ATTACH;FMTTYPE=image/jpeg:https://vermontsun.com/wp-content/uploads/2015/08/aqua-aero.jpg
ORGANIZER;CN="VT Sun Middlebury":MAILTO:info@vermontsun.com
END:VEVENT
BEGIN:VEVENT
DTSTART;TZID=America/New_York:20300717T101500
DTEND;TZID=America/New_York:20300717T111500
DTSTAMP:20260419T155246
CREATED:20230126T155727Z
LAST-MODIFIED:20260317T102315Z
UID:10020457-1910513700-1910517300@vermontsun.com
SUMMARY:Aquacise
DESCRIPTION:A fabulous non-impact class in our body soothing 83 degree Olympic pool! A great class for all fitness levels and those recovering from injuries. The arthritis aqua class is similar to the aqua aerobic but adheres to the guidelines of the American Arthritis Foundation.
URL:https://vermontsun.com/event/aquacise/2030-07-17/
LOCATION:VT Sun Middlebury\, 812 Exchange Street\, Middlebury\, VT\, 05753\, United States
CATEGORIES:aquacise
ATTACH;FMTTYPE=image/jpeg:https://vermontsun.com/wp-content/uploads/2015/08/aqua-aero.jpg
ORGANIZER;CN="VT Sun Middlebury":MAILTO:info@vermontsun.com
END:VEVENT
BEGIN:VEVENT
DTSTART;TZID=America/New_York:20300719T101500
DTEND;TZID=America/New_York:20300719T111500
DTSTAMP:20260419T155246
CREATED:20230126T155727Z
LAST-MODIFIED:20260317T102315Z
UID:10020458-1910686500-1910690100@vermontsun.com
SUMMARY:Aquacise
DESCRIPTION:A fabulous non-impact class in our body soothing 83 degree Olympic pool! A great class for all fitness levels and those recovering from injuries. The arthritis aqua class is similar to the aqua aerobic but adheres to the guidelines of the American Arthritis Foundation.
URL:https://vermontsun.com/event/aquacise/2030-07-19/
LOCATION:VT Sun Middlebury\, 812 Exchange Street\, Middlebury\, VT\, 05753\, United States
CATEGORIES:aquacise
ATTACH;FMTTYPE=image/jpeg:https://vermontsun.com/wp-content/uploads/2015/08/aqua-aero.jpg
ORGANIZER;CN="VT Sun Middlebury":MAILTO:info@vermontsun.com
END:VEVENT
BEGIN:VEVENT
DTSTART;TZID=America/New_York:20300723T101500
DTEND;TZID=America/New_York:20300723T111500
DTSTAMP:20260419T155246
CREATED:20230126T155727Z
LAST-MODIFIED:20260317T102315Z
UID:10020883-1911032100-1911035700@vermontsun.com
SUMMARY:Aquacise
DESCRIPTION:A fabulous non-impact class in our body soothing 83 degree Olympic pool! A great class for all fitness levels and those recovering from injuries. The arthritis aqua class is similar to the aqua aerobic but adheres to the guidelines of the American Arthritis Foundation.
URL:https://vermontsun.com/event/aquacise/2030-07-23/
LOCATION:VT Sun Middlebury\, 812 Exchange Street\, Middlebury\, VT\, 05753\, United States
CATEGORIES:aquacise
ATTACH;FMTTYPE=image/jpeg:https://vermontsun.com/wp-content/uploads/2015/08/aqua-aero.jpg
ORGANIZER;CN="VT Sun Middlebury":MAILTO:info@vermontsun.com
END:VEVENT
BEGIN:VEVENT
DTSTART;TZID=America/New_York:20300724T101500
DTEND;TZID=America/New_York:20300724T111500
DTSTAMP:20260419T155246
CREATED:20230126T155727Z
LAST-MODIFIED:20260317T102315Z
UID:10020884-1911118500-1911122100@vermontsun.com
SUMMARY:Aquacise
DESCRIPTION:A fabulous non-impact class in our body soothing 83 degree Olympic pool! A great class for all fitness levels and those recovering from injuries. The arthritis aqua class is similar to the aqua aerobic but adheres to the guidelines of the American Arthritis Foundation.
URL:https://vermontsun.com/event/aquacise/2030-07-24/
LOCATION:VT Sun Middlebury\, 812 Exchange Street\, Middlebury\, VT\, 05753\, United States
CATEGORIES:aquacise
ATTACH;FMTTYPE=image/jpeg:https://vermontsun.com/wp-content/uploads/2015/08/aqua-aero.jpg
ORGANIZER;CN="VT Sun Middlebury":MAILTO:info@vermontsun.com
END:VEVENT
BEGIN:VEVENT
DTSTART;TZID=America/New_York:20300726T101500
DTEND;TZID=America/New_York:20300726T111500
DTSTAMP:20260419T155246
CREATED:20230126T155727Z
LAST-MODIFIED:20260317T102315Z
UID:10020885-1911291300-1911294900@vermontsun.com
SUMMARY:Aquacise
DESCRIPTION:A fabulous non-impact class in our body soothing 83 degree Olympic pool! A great class for all fitness levels and those recovering from injuries. The arthritis aqua class is similar to the aqua aerobic but adheres to the guidelines of the American Arthritis Foundation.
URL:https://vermontsun.com/event/aquacise/2030-07-26/
LOCATION:VT Sun Middlebury\, 812 Exchange Street\, Middlebury\, VT\, 05753\, United States
CATEGORIES:aquacise
ATTACH;FMTTYPE=image/jpeg:https://vermontsun.com/wp-content/uploads/2015/08/aqua-aero.jpg
ORGANIZER;CN="VT Sun Middlebury":MAILTO:info@vermontsun.com
END:VEVENT
BEGIN:VEVENT
DTSTART;TZID=America/New_York:20300730T101500
DTEND;TZID=America/New_York:20300730T111500
DTSTAMP:20260419T155246
CREATED:20230126T155727Z
LAST-MODIFIED:20260317T102315Z
UID:10020886-1911636900-1911640500@vermontsun.com
SUMMARY:Aquacise
DESCRIPTION:A fabulous non-impact class in our body soothing 83 degree Olympic pool! A great class for all fitness levels and those recovering from injuries. The arthritis aqua class is similar to the aqua aerobic but adheres to the guidelines of the American Arthritis Foundation.
URL:https://vermontsun.com/event/aquacise/2030-07-30/
LOCATION:VT Sun Middlebury\, 812 Exchange Street\, Middlebury\, VT\, 05753\, United States
CATEGORIES:aquacise
ATTACH;FMTTYPE=image/jpeg:https://vermontsun.com/wp-content/uploads/2015/08/aqua-aero.jpg
ORGANIZER;CN="VT Sun Middlebury":MAILTO:info@vermontsun.com
END:VEVENT
BEGIN:VEVENT
DTSTART;TZID=America/New_York:20300731T101500
DTEND;TZID=America/New_York:20300731T111500
DTSTAMP:20260419T155246
CREATED:20230126T155727Z
LAST-MODIFIED:20260317T102315Z
UID:10020887-1911723300-1911726900@vermontsun.com
SUMMARY:Aquacise
DESCRIPTION:A fabulous non-impact class in our body soothing 83 degree Olympic pool! A great class for all fitness levels and those recovering from injuries. The arthritis aqua class is similar to the aqua aerobic but adheres to the guidelines of the American Arthritis Foundation.
URL:https://vermontsun.com/event/aquacise/2030-07-31/
LOCATION:VT Sun Middlebury\, 812 Exchange Street\, Middlebury\, VT\, 05753\, United States
CATEGORIES:aquacise
ATTACH;FMTTYPE=image/jpeg:https://vermontsun.com/wp-content/uploads/2015/08/aqua-aero.jpg
ORGANIZER;CN="VT Sun Middlebury":MAILTO:info@vermontsun.com
END:VEVENT
BEGIN:VEVENT
DTSTART;TZID=America/New_York:20300802T101500
DTEND;TZID=America/New_York:20300802T111500
DTSTAMP:20260419T155246
CREATED:20230126T155727Z
LAST-MODIFIED:20260317T102315Z
UID:10020888-1911896100-1911899700@vermontsun.com
SUMMARY:Aquacise
DESCRIPTION:A fabulous non-impact class in our body soothing 83 degree Olympic pool! A great class for all fitness levels and those recovering from injuries. The arthritis aqua class is similar to the aqua aerobic but adheres to the guidelines of the American Arthritis Foundation.
URL:https://vermontsun.com/event/aquacise/2030-08-02/
LOCATION:VT Sun Middlebury\, 812 Exchange Street\, Middlebury\, VT\, 05753\, United States
CATEGORIES:aquacise
ATTACH;FMTTYPE=image/jpeg:https://vermontsun.com/wp-content/uploads/2015/08/aqua-aero.jpg
ORGANIZER;CN="VT Sun Middlebury":MAILTO:info@vermontsun.com
END:VEVENT
BEGIN:VEVENT
DTSTART;TZID=America/New_York:20300806T101500
DTEND;TZID=America/New_York:20300806T111500
DTSTAMP:20260419T155246
CREATED:20230126T155727Z
LAST-MODIFIED:20260317T102315Z
UID:10020889-1912241700-1912245300@vermontsun.com
SUMMARY:Aquacise
DESCRIPTION:A fabulous non-impact class in our body soothing 83 degree Olympic pool! A great class for all fitness levels and those recovering from injuries. The arthritis aqua class is similar to the aqua aerobic but adheres to the guidelines of the American Arthritis Foundation.
URL:https://vermontsun.com/event/aquacise/2030-08-06/
LOCATION:VT Sun Middlebury\, 812 Exchange Street\, Middlebury\, VT\, 05753\, United States
CATEGORIES:aquacise
ATTACH;FMTTYPE=image/jpeg:https://vermontsun.com/wp-content/uploads/2015/08/aqua-aero.jpg
ORGANIZER;CN="VT Sun Middlebury":MAILTO:info@vermontsun.com
END:VEVENT
BEGIN:VEVENT
DTSTART;TZID=America/New_York:20300807T101500
DTEND;TZID=America/New_York:20300807T111500
DTSTAMP:20260419T155246
CREATED:20230126T155727Z
LAST-MODIFIED:20260317T102315Z
UID:10020890-1912328100-1912331700@vermontsun.com
SUMMARY:Aquacise
DESCRIPTION:A fabulous non-impact class in our body soothing 83 degree Olympic pool! A great class for all fitness levels and those recovering from injuries. The arthritis aqua class is similar to the aqua aerobic but adheres to the guidelines of the American Arthritis Foundation.
URL:https://vermontsun.com/event/aquacise/2030-08-07/
LOCATION:VT Sun Middlebury\, 812 Exchange Street\, Middlebury\, VT\, 05753\, United States
CATEGORIES:aquacise
ATTACH;FMTTYPE=image/jpeg:https://vermontsun.com/wp-content/uploads/2015/08/aqua-aero.jpg
ORGANIZER;CN="VT Sun Middlebury":MAILTO:info@vermontsun.com
END:VEVENT
BEGIN:VEVENT
DTSTART;TZID=America/New_York:20300809T101500
DTEND;TZID=America/New_York:20300809T111500
DTSTAMP:20260419T155246
CREATED:20230126T155727Z
LAST-MODIFIED:20260317T102315Z
UID:10020891-1912500900-1912504500@vermontsun.com
SUMMARY:Aquacise
DESCRIPTION:A fabulous non-impact class in our body soothing 83 degree Olympic pool! A great class for all fitness levels and those recovering from injuries. The arthritis aqua class is similar to the aqua aerobic but adheres to the guidelines of the American Arthritis Foundation.
URL:https://vermontsun.com/event/aquacise/2030-08-09/
LOCATION:VT Sun Middlebury\, 812 Exchange Street\, Middlebury\, VT\, 05753\, United States
CATEGORIES:aquacise
ATTACH;FMTTYPE=image/jpeg:https://vermontsun.com/wp-content/uploads/2015/08/aqua-aero.jpg
ORGANIZER;CN="VT Sun Middlebury":MAILTO:info@vermontsun.com
END:VEVENT
BEGIN:VEVENT
DTSTART;TZID=America/New_York:20300813T101500
DTEND;TZID=America/New_York:20300813T111500
DTSTAMP:20260419T155246
CREATED:20230126T155727Z
LAST-MODIFIED:20260317T102315Z
UID:10020892-1912846500-1912850100@vermontsun.com
SUMMARY:Aquacise
DESCRIPTION:A fabulous non-impact class in our body soothing 83 degree Olympic pool! A great class for all fitness levels and those recovering from injuries. The arthritis aqua class is similar to the aqua aerobic but adheres to the guidelines of the American Arthritis Foundation.
URL:https://vermontsun.com/event/aquacise/2030-08-13/
LOCATION:VT Sun Middlebury\, 812 Exchange Street\, Middlebury\, VT\, 05753\, United States
CATEGORIES:aquacise
ATTACH;FMTTYPE=image/jpeg:https://vermontsun.com/wp-content/uploads/2015/08/aqua-aero.jpg
ORGANIZER;CN="VT Sun Middlebury":MAILTO:info@vermontsun.com
END:VEVENT
BEGIN:VEVENT
DTSTART;TZID=America/New_York:20300814T101500
DTEND;TZID=America/New_York:20300814T111500
DTSTAMP:20260419T155246
CREATED:20230126T155727Z
LAST-MODIFIED:20260317T102315Z
UID:10020893-1912932900-1912936500@vermontsun.com
SUMMARY:Aquacise
DESCRIPTION:A fabulous non-impact class in our body soothing 83 degree Olympic pool! A great class for all fitness levels and those recovering from injuries. The arthritis aqua class is similar to the aqua aerobic but adheres to the guidelines of the American Arthritis Foundation.
URL:https://vermontsun.com/event/aquacise/2030-08-14/
LOCATION:VT Sun Middlebury\, 812 Exchange Street\, Middlebury\, VT\, 05753\, United States
CATEGORIES:aquacise
ATTACH;FMTTYPE=image/jpeg:https://vermontsun.com/wp-content/uploads/2015/08/aqua-aero.jpg
ORGANIZER;CN="VT Sun Middlebury":MAILTO:info@vermontsun.com
END:VEVENT
BEGIN:VEVENT
DTSTART;TZID=America/New_York:20300816T101500
DTEND;TZID=America/New_York:20300816T111500
DTSTAMP:20260419T155246
CREATED:20230126T155727Z
LAST-MODIFIED:20260317T102315Z
UID:10020894-1913105700-1913109300@vermontsun.com
SUMMARY:Aquacise
DESCRIPTION:A fabulous non-impact class in our body soothing 83 degree Olympic pool! A great class for all fitness levels and those recovering from injuries. The arthritis aqua class is similar to the aqua aerobic but adheres to the guidelines of the American Arthritis Foundation.
URL:https://vermontsun.com/event/aquacise/2030-08-16/
LOCATION:VT Sun Middlebury\, 812 Exchange Street\, Middlebury\, VT\, 05753\, United States
CATEGORIES:aquacise
ATTACH;FMTTYPE=image/jpeg:https://vermontsun.com/wp-content/uploads/2015/08/aqua-aero.jpg
ORGANIZER;CN="VT Sun Middlebury":MAILTO:info@vermontsun.com
END:VEVENT
BEGIN:VEVENT
DTSTART;TZID=America/New_York:20300820T101500
DTEND;TZID=America/New_York:20300820T111500
DTSTAMP:20260419T155246
CREATED:20230126T155727Z
LAST-MODIFIED:20260317T102315Z
UID:10020895-1913451300-1913454900@vermontsun.com
SUMMARY:Aquacise
DESCRIPTION:A fabulous non-impact class in our body soothing 83 degree Olympic pool! A great class for all fitness levels and those recovering from injuries. The arthritis aqua class is similar to the aqua aerobic but adheres to the guidelines of the American Arthritis Foundation.
URL:https://vermontsun.com/event/aquacise/2030-08-20/
LOCATION:VT Sun Middlebury\, 812 Exchange Street\, Middlebury\, VT\, 05753\, United States
CATEGORIES:aquacise
ATTACH;FMTTYPE=image/jpeg:https://vermontsun.com/wp-content/uploads/2015/08/aqua-aero.jpg
ORGANIZER;CN="VT Sun Middlebury":MAILTO:info@vermontsun.com
END:VEVENT
BEGIN:VEVENT
DTSTART;TZID=America/New_York:20300821T101500
DTEND;TZID=America/New_York:20300821T111500
DTSTAMP:20260419T155246
CREATED:20230126T155727Z
LAST-MODIFIED:20260317T102315Z
UID:10020896-1913537700-1913541300@vermontsun.com
SUMMARY:Aquacise
DESCRIPTION:A fabulous non-impact class in our body soothing 83 degree Olympic pool! A great class for all fitness levels and those recovering from injuries. The arthritis aqua class is similar to the aqua aerobic but adheres to the guidelines of the American Arthritis Foundation.
URL:https://vermontsun.com/event/aquacise/2030-08-21/
LOCATION:VT Sun Middlebury\, 812 Exchange Street\, Middlebury\, VT\, 05753\, United States
CATEGORIES:aquacise
ATTACH;FMTTYPE=image/jpeg:https://vermontsun.com/wp-content/uploads/2015/08/aqua-aero.jpg
ORGANIZER;CN="VT Sun Middlebury":MAILTO:info@vermontsun.com
END:VEVENT
BEGIN:VEVENT
DTSTART;TZID=America/New_York:20300823T101500
DTEND;TZID=America/New_York:20300823T111500
DTSTAMP:20260419T155246
CREATED:20230126T155727Z
LAST-MODIFIED:20260317T102315Z
UID:10020897-1913710500-1913714100@vermontsun.com
SUMMARY:Aquacise
DESCRIPTION:A fabulous non-impact class in our body soothing 83 degree Olympic pool! A great class for all fitness levels and those recovering from injuries. The arthritis aqua class is similar to the aqua aerobic but adheres to the guidelines of the American Arthritis Foundation.
URL:https://vermontsun.com/event/aquacise/2030-08-23/
LOCATION:VT Sun Middlebury\, 812 Exchange Street\, Middlebury\, VT\, 05753\, United States
CATEGORIES:aquacise
ATTACH;FMTTYPE=image/jpeg:https://vermontsun.com/wp-content/uploads/2015/08/aqua-aero.jpg
ORGANIZER;CN="VT Sun Middlebury":MAILTO:info@vermontsun.com
END:VEVENT
BEGIN:VEVENT
DTSTART;TZID=America/New_York:20300827T101500
DTEND;TZID=America/New_York:20300827T111500
DTSTAMP:20260419T155246
CREATED:20230126T155727Z
LAST-MODIFIED:20260317T102315Z
UID:10020898-1914056100-1914059700@vermontsun.com
SUMMARY:Aquacise
DESCRIPTION:A fabulous non-impact class in our body soothing 83 degree Olympic pool! A great class for all fitness levels and those recovering from injuries. The arthritis aqua class is similar to the aqua aerobic but adheres to the guidelines of the American Arthritis Foundation.
URL:https://vermontsun.com/event/aquacise/2030-08-27/
LOCATION:VT Sun Middlebury\, 812 Exchange Street\, Middlebury\, VT\, 05753\, United States
CATEGORIES:aquacise
ATTACH;FMTTYPE=image/jpeg:https://vermontsun.com/wp-content/uploads/2015/08/aqua-aero.jpg
ORGANIZER;CN="VT Sun Middlebury":MAILTO:info@vermontsun.com
END:VEVENT
END:VCALENDAR