BEGIN:VCALENDAR
VERSION:2.0
PRODID:-//Vermont Sun Fitness Centers - ECPv6.15.20//NONSGML v1.0//EN
CALSCALE:GREGORIAN
METHOD:PUBLISH
X-ORIGINAL-URL:https://vermontsun.com
X-WR-CALDESC:Events for Vermont Sun Fitness Centers
REFRESH-INTERVAL;VALUE=DURATION:PT1H
X-Robots-Tag:noindex
X-PUBLISHED-TTL:PT1H
BEGIN:VTIMEZONE
TZID:America/New_York
BEGIN:DAYLIGHT
TZOFFSETFROM:-0500
TZOFFSETTO:-0400
TZNAME:EDT
DTSTART:20300310T070000
END:DAYLIGHT
BEGIN:STANDARD
TZOFFSETFROM:-0400
TZOFFSETTO:-0500
TZNAME:EST
DTSTART:20301103T060000
END:STANDARD
BEGIN:DAYLIGHT
TZOFFSETFROM:-0500
TZOFFSETTO:-0400
TZNAME:EDT
DTSTART:20310309T070000
END:DAYLIGHT
BEGIN:STANDARD
TZOFFSETFROM:-0400
TZOFFSETTO:-0500
TZNAME:EST
DTSTART:20311102T060000
END:STANDARD
BEGIN:DAYLIGHT
TZOFFSETFROM:-0500
TZOFFSETTO:-0400
TZNAME:EDT
DTSTART:20320314T070000
END:DAYLIGHT
BEGIN:STANDARD
TZOFFSETFROM:-0400
TZOFFSETTO:-0500
TZNAME:EST
DTSTART:20321107T060000
END:STANDARD
END:VTIMEZONE
BEGIN:VEVENT
DTSTART;TZID=America/New_York:20310101T101500
DTEND;TZID=America/New_York:20310101T111500
DTSTAMP:20260420T023006
CREATED:20230126T155727Z
LAST-MODIFIED:20260317T102315Z
UID:10021637-1925028900-1925032500@vermontsun.com
SUMMARY:Aquacise
DESCRIPTION:A fabulous non-impact class in our body soothing 83 degree Olympic pool! A great class for all fitness levels and those recovering from injuries. The arthritis aqua class is similar to the aqua aerobic but adheres to the guidelines of the American Arthritis Foundation.
URL:https://vermontsun.com/event/aquacise/2031-01-01/
LOCATION:VT Sun Middlebury\, 812 Exchange Street\, Middlebury\, VT\, 05753\, United States
CATEGORIES:aquacise
ATTACH;FMTTYPE=image/jpeg:https://vermontsun.com/wp-content/uploads/2015/08/aqua-aero.jpg
ORGANIZER;CN="VT Sun Middlebury":MAILTO:info@vermontsun.com
END:VEVENT
BEGIN:VEVENT
DTSTART;TZID=America/New_York:20310103T101500
DTEND;TZID=America/New_York:20310103T111500
DTSTAMP:20260420T023006
CREATED:20230126T155727Z
LAST-MODIFIED:20260317T102315Z
UID:10021638-1925201700-1925205300@vermontsun.com
SUMMARY:Aquacise
DESCRIPTION:A fabulous non-impact class in our body soothing 83 degree Olympic pool! A great class for all fitness levels and those recovering from injuries. The arthritis aqua class is similar to the aqua aerobic but adheres to the guidelines of the American Arthritis Foundation.
URL:https://vermontsun.com/event/aquacise/2031-01-03/
LOCATION:VT Sun Middlebury\, 812 Exchange Street\, Middlebury\, VT\, 05753\, United States
CATEGORIES:aquacise
ATTACH;FMTTYPE=image/jpeg:https://vermontsun.com/wp-content/uploads/2015/08/aqua-aero.jpg
ORGANIZER;CN="VT Sun Middlebury":MAILTO:info@vermontsun.com
END:VEVENT
BEGIN:VEVENT
DTSTART;TZID=America/New_York:20310107T101500
DTEND;TZID=America/New_York:20310107T111500
DTSTAMP:20260420T023006
CREATED:20230126T155727Z
LAST-MODIFIED:20260317T102315Z
UID:10021639-1925547300-1925550900@vermontsun.com
SUMMARY:Aquacise
DESCRIPTION:A fabulous non-impact class in our body soothing 83 degree Olympic pool! A great class for all fitness levels and those recovering from injuries. The arthritis aqua class is similar to the aqua aerobic but adheres to the guidelines of the American Arthritis Foundation.
URL:https://vermontsun.com/event/aquacise/2031-01-07/
LOCATION:VT Sun Middlebury\, 812 Exchange Street\, Middlebury\, VT\, 05753\, United States
CATEGORIES:aquacise
ATTACH;FMTTYPE=image/jpeg:https://vermontsun.com/wp-content/uploads/2015/08/aqua-aero.jpg
ORGANIZER;CN="VT Sun Middlebury":MAILTO:info@vermontsun.com
END:VEVENT
BEGIN:VEVENT
DTSTART;TZID=America/New_York:20310108T101500
DTEND;TZID=America/New_York:20310108T111500
DTSTAMP:20260420T023006
CREATED:20230126T155727Z
LAST-MODIFIED:20260317T102315Z
UID:10021640-1925633700-1925637300@vermontsun.com
SUMMARY:Aquacise
DESCRIPTION:A fabulous non-impact class in our body soothing 83 degree Olympic pool! A great class for all fitness levels and those recovering from injuries. The arthritis aqua class is similar to the aqua aerobic but adheres to the guidelines of the American Arthritis Foundation.
URL:https://vermontsun.com/event/aquacise/2031-01-08/
LOCATION:VT Sun Middlebury\, 812 Exchange Street\, Middlebury\, VT\, 05753\, United States
CATEGORIES:aquacise
ATTACH;FMTTYPE=image/jpeg:https://vermontsun.com/wp-content/uploads/2015/08/aqua-aero.jpg
ORGANIZER;CN="VT Sun Middlebury":MAILTO:info@vermontsun.com
END:VEVENT
BEGIN:VEVENT
DTSTART;TZID=America/New_York:20310110T101500
DTEND;TZID=America/New_York:20310110T111500
DTSTAMP:20260420T023006
CREATED:20230126T155727Z
LAST-MODIFIED:20260317T102315Z
UID:10021641-1925806500-1925810100@vermontsun.com
SUMMARY:Aquacise
DESCRIPTION:A fabulous non-impact class in our body soothing 83 degree Olympic pool! A great class for all fitness levels and those recovering from injuries. The arthritis aqua class is similar to the aqua aerobic but adheres to the guidelines of the American Arthritis Foundation.
URL:https://vermontsun.com/event/aquacise/2031-01-10/
LOCATION:VT Sun Middlebury\, 812 Exchange Street\, Middlebury\, VT\, 05753\, United States
CATEGORIES:aquacise
ATTACH;FMTTYPE=image/jpeg:https://vermontsun.com/wp-content/uploads/2015/08/aqua-aero.jpg
ORGANIZER;CN="VT Sun Middlebury":MAILTO:info@vermontsun.com
END:VEVENT
BEGIN:VEVENT
DTSTART;TZID=America/New_York:20310114T101500
DTEND;TZID=America/New_York:20310114T111500
DTSTAMP:20260420T023006
CREATED:20230126T155727Z
LAST-MODIFIED:20260317T102315Z
UID:10021694-1926152100-1926155700@vermontsun.com
SUMMARY:Aquacise
DESCRIPTION:A fabulous non-impact class in our body soothing 83 degree Olympic pool! A great class for all fitness levels and those recovering from injuries. The arthritis aqua class is similar to the aqua aerobic but adheres to the guidelines of the American Arthritis Foundation.
URL:https://vermontsun.com/event/aquacise/2031-01-14/
LOCATION:VT Sun Middlebury\, 812 Exchange Street\, Middlebury\, VT\, 05753\, United States
CATEGORIES:aquacise
ATTACH;FMTTYPE=image/jpeg:https://vermontsun.com/wp-content/uploads/2015/08/aqua-aero.jpg
ORGANIZER;CN="VT Sun Middlebury":MAILTO:info@vermontsun.com
END:VEVENT
BEGIN:VEVENT
DTSTART;TZID=America/New_York:20310115T101500
DTEND;TZID=America/New_York:20310115T111500
DTSTAMP:20260420T023006
CREATED:20230126T155727Z
LAST-MODIFIED:20260317T102315Z
UID:10021695-1926238500-1926242100@vermontsun.com
SUMMARY:Aquacise
DESCRIPTION:A fabulous non-impact class in our body soothing 83 degree Olympic pool! A great class for all fitness levels and those recovering from injuries. The arthritis aqua class is similar to the aqua aerobic but adheres to the guidelines of the American Arthritis Foundation.
URL:https://vermontsun.com/event/aquacise/2031-01-15/
LOCATION:VT Sun Middlebury\, 812 Exchange Street\, Middlebury\, VT\, 05753\, United States
CATEGORIES:aquacise
ATTACH;FMTTYPE=image/jpeg:https://vermontsun.com/wp-content/uploads/2015/08/aqua-aero.jpg
ORGANIZER;CN="VT Sun Middlebury":MAILTO:info@vermontsun.com
END:VEVENT
BEGIN:VEVENT
DTSTART;TZID=America/New_York:20310117T101500
DTEND;TZID=America/New_York:20310117T111500
DTSTAMP:20260420T023006
CREATED:20230126T155727Z
LAST-MODIFIED:20260317T102315Z
UID:10021696-1926411300-1926414900@vermontsun.com
SUMMARY:Aquacise
DESCRIPTION:A fabulous non-impact class in our body soothing 83 degree Olympic pool! A great class for all fitness levels and those recovering from injuries. The arthritis aqua class is similar to the aqua aerobic but adheres to the guidelines of the American Arthritis Foundation.
URL:https://vermontsun.com/event/aquacise/2031-01-17/
LOCATION:VT Sun Middlebury\, 812 Exchange Street\, Middlebury\, VT\, 05753\, United States
CATEGORIES:aquacise
ATTACH;FMTTYPE=image/jpeg:https://vermontsun.com/wp-content/uploads/2015/08/aqua-aero.jpg
ORGANIZER;CN="VT Sun Middlebury":MAILTO:info@vermontsun.com
END:VEVENT
BEGIN:VEVENT
DTSTART;TZID=America/New_York:20310121T101500
DTEND;TZID=America/New_York:20310121T111500
DTSTAMP:20260420T023006
CREATED:20230126T155727Z
LAST-MODIFIED:20260317T102315Z
UID:10021697-1926756900-1926760500@vermontsun.com
SUMMARY:Aquacise
DESCRIPTION:A fabulous non-impact class in our body soothing 83 degree Olympic pool! A great class for all fitness levels and those recovering from injuries. The arthritis aqua class is similar to the aqua aerobic but adheres to the guidelines of the American Arthritis Foundation.
URL:https://vermontsun.com/event/aquacise/2031-01-21/
LOCATION:VT Sun Middlebury\, 812 Exchange Street\, Middlebury\, VT\, 05753\, United States
CATEGORIES:aquacise
ATTACH;FMTTYPE=image/jpeg:https://vermontsun.com/wp-content/uploads/2015/08/aqua-aero.jpg
ORGANIZER;CN="VT Sun Middlebury":MAILTO:info@vermontsun.com
END:VEVENT
BEGIN:VEVENT
DTSTART;TZID=America/New_York:20310122T101500
DTEND;TZID=America/New_York:20310122T111500
DTSTAMP:20260420T023006
CREATED:20230126T155727Z
LAST-MODIFIED:20260317T102315Z
UID:10021698-1926843300-1926846900@vermontsun.com
SUMMARY:Aquacise
DESCRIPTION:A fabulous non-impact class in our body soothing 83 degree Olympic pool! A great class for all fitness levels and those recovering from injuries. The arthritis aqua class is similar to the aqua aerobic but adheres to the guidelines of the American Arthritis Foundation.
URL:https://vermontsun.com/event/aquacise/2031-01-22/
LOCATION:VT Sun Middlebury\, 812 Exchange Street\, Middlebury\, VT\, 05753\, United States
CATEGORIES:aquacise
ATTACH;FMTTYPE=image/jpeg:https://vermontsun.com/wp-content/uploads/2015/08/aqua-aero.jpg
ORGANIZER;CN="VT Sun Middlebury":MAILTO:info@vermontsun.com
END:VEVENT
BEGIN:VEVENT
DTSTART;TZID=America/New_York:20310124T101500
DTEND;TZID=America/New_York:20310124T111500
DTSTAMP:20260420T023006
CREATED:20230126T155727Z
LAST-MODIFIED:20260317T102315Z
UID:10021699-1927016100-1927019700@vermontsun.com
SUMMARY:Aquacise
DESCRIPTION:A fabulous non-impact class in our body soothing 83 degree Olympic pool! A great class for all fitness levels and those recovering from injuries. The arthritis aqua class is similar to the aqua aerobic but adheres to the guidelines of the American Arthritis Foundation.
URL:https://vermontsun.com/event/aquacise/2031-01-24/
LOCATION:VT Sun Middlebury\, 812 Exchange Street\, Middlebury\, VT\, 05753\, United States
CATEGORIES:aquacise
ATTACH;FMTTYPE=image/jpeg:https://vermontsun.com/wp-content/uploads/2015/08/aqua-aero.jpg
ORGANIZER;CN="VT Sun Middlebury":MAILTO:info@vermontsun.com
END:VEVENT
BEGIN:VEVENT
DTSTART;TZID=America/New_York:20310128T101500
DTEND;TZID=America/New_York:20310128T111500
DTSTAMP:20260420T023006
CREATED:20230126T155727Z
LAST-MODIFIED:20260317T102315Z
UID:10021752-1927361700-1927365300@vermontsun.com
SUMMARY:Aquacise
DESCRIPTION:A fabulous non-impact class in our body soothing 83 degree Olympic pool! A great class for all fitness levels and those recovering from injuries. The arthritis aqua class is similar to the aqua aerobic but adheres to the guidelines of the American Arthritis Foundation.
URL:https://vermontsun.com/event/aquacise/2031-01-28/
LOCATION:VT Sun Middlebury\, 812 Exchange Street\, Middlebury\, VT\, 05753\, United States
CATEGORIES:aquacise
ATTACH;FMTTYPE=image/jpeg:https://vermontsun.com/wp-content/uploads/2015/08/aqua-aero.jpg
ORGANIZER;CN="VT Sun Middlebury":MAILTO:info@vermontsun.com
END:VEVENT
BEGIN:VEVENT
DTSTART;TZID=America/New_York:20310129T101500
DTEND;TZID=America/New_York:20310129T111500
DTSTAMP:20260420T023006
CREATED:20230126T155727Z
LAST-MODIFIED:20260317T102315Z
UID:10021753-1927448100-1927451700@vermontsun.com
SUMMARY:Aquacise
DESCRIPTION:A fabulous non-impact class in our body soothing 83 degree Olympic pool! A great class for all fitness levels and those recovering from injuries. The arthritis aqua class is similar to the aqua aerobic but adheres to the guidelines of the American Arthritis Foundation.
URL:https://vermontsun.com/event/aquacise/2031-01-29/
LOCATION:VT Sun Middlebury\, 812 Exchange Street\, Middlebury\, VT\, 05753\, United States
CATEGORIES:aquacise
ATTACH;FMTTYPE=image/jpeg:https://vermontsun.com/wp-content/uploads/2015/08/aqua-aero.jpg
ORGANIZER;CN="VT Sun Middlebury":MAILTO:info@vermontsun.com
END:VEVENT
BEGIN:VEVENT
DTSTART;TZID=America/New_York:20310131T101500
DTEND;TZID=America/New_York:20310131T111500
DTSTAMP:20260420T023006
CREATED:20230126T155727Z
LAST-MODIFIED:20260317T102315Z
UID:10021754-1927620900-1927624500@vermontsun.com
SUMMARY:Aquacise
DESCRIPTION:A fabulous non-impact class in our body soothing 83 degree Olympic pool! A great class for all fitness levels and those recovering from injuries. The arthritis aqua class is similar to the aqua aerobic but adheres to the guidelines of the American Arthritis Foundation.
URL:https://vermontsun.com/event/aquacise/2031-01-31/
LOCATION:VT Sun Middlebury\, 812 Exchange Street\, Middlebury\, VT\, 05753\, United States
CATEGORIES:aquacise
ATTACH;FMTTYPE=image/jpeg:https://vermontsun.com/wp-content/uploads/2015/08/aqua-aero.jpg
ORGANIZER;CN="VT Sun Middlebury":MAILTO:info@vermontsun.com
END:VEVENT
BEGIN:VEVENT
DTSTART;TZID=America/New_York:20310204T101500
DTEND;TZID=America/New_York:20310204T111500
DTSTAMP:20260420T023006
CREATED:20230126T155727Z
LAST-MODIFIED:20260317T102315Z
UID:10021757-1927966500-1927970100@vermontsun.com
SUMMARY:Aquacise
DESCRIPTION:A fabulous non-impact class in our body soothing 83 degree Olympic pool! A great class for all fitness levels and those recovering from injuries. The arthritis aqua class is similar to the aqua aerobic but adheres to the guidelines of the American Arthritis Foundation.
URL:https://vermontsun.com/event/aquacise/2031-02-04/
LOCATION:VT Sun Middlebury\, 812 Exchange Street\, Middlebury\, VT\, 05753\, United States
CATEGORIES:aquacise
ATTACH;FMTTYPE=image/jpeg:https://vermontsun.com/wp-content/uploads/2015/08/aqua-aero.jpg
ORGANIZER;CN="VT Sun Middlebury":MAILTO:info@vermontsun.com
END:VEVENT
BEGIN:VEVENT
DTSTART;TZID=America/New_York:20310205T101500
DTEND;TZID=America/New_York:20310205T111500
DTSTAMP:20260420T023006
CREATED:20230126T155727Z
LAST-MODIFIED:20260317T102315Z
UID:10021788-1928052900-1928056500@vermontsun.com
SUMMARY:Aquacise
DESCRIPTION:A fabulous non-impact class in our body soothing 83 degree Olympic pool! A great class for all fitness levels and those recovering from injuries. The arthritis aqua class is similar to the aqua aerobic but adheres to the guidelines of the American Arthritis Foundation.
URL:https://vermontsun.com/event/aquacise/2031-02-05/
LOCATION:VT Sun Middlebury\, 812 Exchange Street\, Middlebury\, VT\, 05753\, United States
CATEGORIES:aquacise
ATTACH;FMTTYPE=image/jpeg:https://vermontsun.com/wp-content/uploads/2015/08/aqua-aero.jpg
ORGANIZER;CN="VT Sun Middlebury":MAILTO:info@vermontsun.com
END:VEVENT
BEGIN:VEVENT
DTSTART;TZID=America/New_York:20310207T101500
DTEND;TZID=America/New_York:20310207T111500
DTSTAMP:20260420T023006
CREATED:20230126T155727Z
LAST-MODIFIED:20260317T102315Z
UID:10021789-1928225700-1928229300@vermontsun.com
SUMMARY:Aquacise
DESCRIPTION:A fabulous non-impact class in our body soothing 83 degree Olympic pool! A great class for all fitness levels and those recovering from injuries. The arthritis aqua class is similar to the aqua aerobic but adheres to the guidelines of the American Arthritis Foundation.
URL:https://vermontsun.com/event/aquacise/2031-02-07/
LOCATION:VT Sun Middlebury\, 812 Exchange Street\, Middlebury\, VT\, 05753\, United States
CATEGORIES:aquacise
ATTACH;FMTTYPE=image/jpeg:https://vermontsun.com/wp-content/uploads/2015/08/aqua-aero.jpg
ORGANIZER;CN="VT Sun Middlebury":MAILTO:info@vermontsun.com
END:VEVENT
BEGIN:VEVENT
DTSTART;TZID=America/New_York:20310211T101500
DTEND;TZID=America/New_York:20310211T111500
DTSTAMP:20260420T023006
CREATED:20230126T155727Z
LAST-MODIFIED:20260317T102315Z
UID:10021790-1928571300-1928574900@vermontsun.com
SUMMARY:Aquacise
DESCRIPTION:A fabulous non-impact class in our body soothing 83 degree Olympic pool! A great class for all fitness levels and those recovering from injuries. The arthritis aqua class is similar to the aqua aerobic but adheres to the guidelines of the American Arthritis Foundation.
URL:https://vermontsun.com/event/aquacise/2031-02-11/
LOCATION:VT Sun Middlebury\, 812 Exchange Street\, Middlebury\, VT\, 05753\, United States
CATEGORIES:aquacise
ATTACH;FMTTYPE=image/jpeg:https://vermontsun.com/wp-content/uploads/2015/08/aqua-aero.jpg
ORGANIZER;CN="VT Sun Middlebury":MAILTO:info@vermontsun.com
END:VEVENT
BEGIN:VEVENT
DTSTART;TZID=America/New_York:20310212T101500
DTEND;TZID=America/New_York:20310212T111500
DTSTAMP:20260420T023006
CREATED:20230126T155727Z
LAST-MODIFIED:20260317T102315Z
UID:10021791-1928657700-1928661300@vermontsun.com
SUMMARY:Aquacise
DESCRIPTION:A fabulous non-impact class in our body soothing 83 degree Olympic pool! A great class for all fitness levels and those recovering from injuries. The arthritis aqua class is similar to the aqua aerobic but adheres to the guidelines of the American Arthritis Foundation.
URL:https://vermontsun.com/event/aquacise/2031-02-12/
LOCATION:VT Sun Middlebury\, 812 Exchange Street\, Middlebury\, VT\, 05753\, United States
CATEGORIES:aquacise
ATTACH;FMTTYPE=image/jpeg:https://vermontsun.com/wp-content/uploads/2015/08/aqua-aero.jpg
ORGANIZER;CN="VT Sun Middlebury":MAILTO:info@vermontsun.com
END:VEVENT
BEGIN:VEVENT
DTSTART;TZID=America/New_York:20310214T101500
DTEND;TZID=America/New_York:20310214T111500
DTSTAMP:20260420T023006
CREATED:20230126T155727Z
LAST-MODIFIED:20260317T102315Z
UID:10021792-1928830500-1928834100@vermontsun.com
SUMMARY:Aquacise
DESCRIPTION:A fabulous non-impact class in our body soothing 83 degree Olympic pool! A great class for all fitness levels and those recovering from injuries. The arthritis aqua class is similar to the aqua aerobic but adheres to the guidelines of the American Arthritis Foundation.
URL:https://vermontsun.com/event/aquacise/2031-02-14/
LOCATION:VT Sun Middlebury\, 812 Exchange Street\, Middlebury\, VT\, 05753\, United States
CATEGORIES:aquacise
ATTACH;FMTTYPE=image/jpeg:https://vermontsun.com/wp-content/uploads/2015/08/aqua-aero.jpg
ORGANIZER;CN="VT Sun Middlebury":MAILTO:info@vermontsun.com
END:VEVENT
BEGIN:VEVENT
DTSTART;TZID=America/New_York:20310218T101500
DTEND;TZID=America/New_York:20310218T111500
DTSTAMP:20260420T023006
CREATED:20230126T155727Z
LAST-MODIFIED:20260317T102315Z
UID:10021793-1929176100-1929179700@vermontsun.com
SUMMARY:Aquacise
DESCRIPTION:A fabulous non-impact class in our body soothing 83 degree Olympic pool! A great class for all fitness levels and those recovering from injuries. The arthritis aqua class is similar to the aqua aerobic but adheres to the guidelines of the American Arthritis Foundation.
URL:https://vermontsun.com/event/aquacise/2031-02-18/
LOCATION:VT Sun Middlebury\, 812 Exchange Street\, Middlebury\, VT\, 05753\, United States
CATEGORIES:aquacise
ATTACH;FMTTYPE=image/jpeg:https://vermontsun.com/wp-content/uploads/2015/08/aqua-aero.jpg
ORGANIZER;CN="VT Sun Middlebury":MAILTO:info@vermontsun.com
END:VEVENT
BEGIN:VEVENT
DTSTART;TZID=America/New_York:20310219T101500
DTEND;TZID=America/New_York:20310219T111500
DTSTAMP:20260420T023006
CREATED:20230126T155727Z
LAST-MODIFIED:20260317T102315Z
UID:10021794-1929262500-1929266100@vermontsun.com
SUMMARY:Aquacise
DESCRIPTION:A fabulous non-impact class in our body soothing 83 degree Olympic pool! A great class for all fitness levels and those recovering from injuries. The arthritis aqua class is similar to the aqua aerobic but adheres to the guidelines of the American Arthritis Foundation.
URL:https://vermontsun.com/event/aquacise/2031-02-19/
LOCATION:VT Sun Middlebury\, 812 Exchange Street\, Middlebury\, VT\, 05753\, United States
CATEGORIES:aquacise
ATTACH;FMTTYPE=image/jpeg:https://vermontsun.com/wp-content/uploads/2015/08/aqua-aero.jpg
ORGANIZER;CN="VT Sun Middlebury":MAILTO:info@vermontsun.com
END:VEVENT
BEGIN:VEVENT
DTSTART;TZID=America/New_York:20310221T101500
DTEND;TZID=America/New_York:20310221T111500
DTSTAMP:20260420T023006
CREATED:20230126T155727Z
LAST-MODIFIED:20260317T102315Z
UID:10021795-1929435300-1929438900@vermontsun.com
SUMMARY:Aquacise
DESCRIPTION:A fabulous non-impact class in our body soothing 83 degree Olympic pool! A great class for all fitness levels and those recovering from injuries. The arthritis aqua class is similar to the aqua aerobic but adheres to the guidelines of the American Arthritis Foundation.
URL:https://vermontsun.com/event/aquacise/2031-02-21/
LOCATION:VT Sun Middlebury\, 812 Exchange Street\, Middlebury\, VT\, 05753\, United States
CATEGORIES:aquacise
ATTACH;FMTTYPE=image/jpeg:https://vermontsun.com/wp-content/uploads/2015/08/aqua-aero.jpg
ORGANIZER;CN="VT Sun Middlebury":MAILTO:info@vermontsun.com
END:VEVENT
BEGIN:VEVENT
DTSTART;TZID=America/New_York:20310225T101500
DTEND;TZID=America/New_York:20310225T111500
DTSTAMP:20260420T023006
CREATED:20230126T155727Z
LAST-MODIFIED:20260317T102315Z
UID:10021796-1929780900-1929784500@vermontsun.com
SUMMARY:Aquacise
DESCRIPTION:A fabulous non-impact class in our body soothing 83 degree Olympic pool! A great class for all fitness levels and those recovering from injuries. The arthritis aqua class is similar to the aqua aerobic but adheres to the guidelines of the American Arthritis Foundation.
URL:https://vermontsun.com/event/aquacise/2031-02-25/
LOCATION:VT Sun Middlebury\, 812 Exchange Street\, Middlebury\, VT\, 05753\, United States
CATEGORIES:aquacise
ATTACH;FMTTYPE=image/jpeg:https://vermontsun.com/wp-content/uploads/2015/08/aqua-aero.jpg
ORGANIZER;CN="VT Sun Middlebury":MAILTO:info@vermontsun.com
END:VEVENT
BEGIN:VEVENT
DTSTART;TZID=America/New_York:20310226T101500
DTEND;TZID=America/New_York:20310226T111500
DTSTAMP:20260420T023006
CREATED:20230126T155727Z
LAST-MODIFIED:20260317T102315Z
UID:10021797-1929867300-1929870900@vermontsun.com
SUMMARY:Aquacise
DESCRIPTION:A fabulous non-impact class in our body soothing 83 degree Olympic pool! A great class for all fitness levels and those recovering from injuries. The arthritis aqua class is similar to the aqua aerobic but adheres to the guidelines of the American Arthritis Foundation.
URL:https://vermontsun.com/event/aquacise/2031-02-26/
LOCATION:VT Sun Middlebury\, 812 Exchange Street\, Middlebury\, VT\, 05753\, United States
CATEGORIES:aquacise
ATTACH;FMTTYPE=image/jpeg:https://vermontsun.com/wp-content/uploads/2015/08/aqua-aero.jpg
ORGANIZER;CN="VT Sun Middlebury":MAILTO:info@vermontsun.com
END:VEVENT
BEGIN:VEVENT
DTSTART;TZID=America/New_York:20310228T101500
DTEND;TZID=America/New_York:20310228T111500
DTSTAMP:20260420T023006
CREATED:20230126T155727Z
LAST-MODIFIED:20260317T102315Z
UID:10021798-1930040100-1930043700@vermontsun.com
SUMMARY:Aquacise
DESCRIPTION:A fabulous non-impact class in our body soothing 83 degree Olympic pool! A great class for all fitness levels and those recovering from injuries. The arthritis aqua class is similar to the aqua aerobic but adheres to the guidelines of the American Arthritis Foundation.
URL:https://vermontsun.com/event/aquacise/2031-02-28/
LOCATION:VT Sun Middlebury\, 812 Exchange Street\, Middlebury\, VT\, 05753\, United States
CATEGORIES:aquacise
ATTACH;FMTTYPE=image/jpeg:https://vermontsun.com/wp-content/uploads/2015/08/aqua-aero.jpg
ORGANIZER;CN="VT Sun Middlebury":MAILTO:info@vermontsun.com
END:VEVENT
BEGIN:VEVENT
DTSTART;TZID=America/New_York:20310304T101500
DTEND;TZID=America/New_York:20310304T111500
DTSTAMP:20260420T023006
CREATED:20230126T155727Z
LAST-MODIFIED:20260317T102315Z
UID:10021799-1930385700-1930389300@vermontsun.com
SUMMARY:Aquacise
DESCRIPTION:A fabulous non-impact class in our body soothing 83 degree Olympic pool! A great class for all fitness levels and those recovering from injuries. The arthritis aqua class is similar to the aqua aerobic but adheres to the guidelines of the American Arthritis Foundation.
URL:https://vermontsun.com/event/aquacise/2031-03-04/
LOCATION:VT Sun Middlebury\, 812 Exchange Street\, Middlebury\, VT\, 05753\, United States
CATEGORIES:aquacise
ATTACH;FMTTYPE=image/jpeg:https://vermontsun.com/wp-content/uploads/2015/08/aqua-aero.jpg
ORGANIZER;CN="VT Sun Middlebury":MAILTO:info@vermontsun.com
END:VEVENT
BEGIN:VEVENT
DTSTART;TZID=America/New_York:20310305T101500
DTEND;TZID=America/New_York:20310305T111500
DTSTAMP:20260420T023006
CREATED:20230126T155727Z
LAST-MODIFIED:20260317T102315Z
UID:10021800-1930472100-1930475700@vermontsun.com
SUMMARY:Aquacise
DESCRIPTION:A fabulous non-impact class in our body soothing 83 degree Olympic pool! A great class for all fitness levels and those recovering from injuries. The arthritis aqua class is similar to the aqua aerobic but adheres to the guidelines of the American Arthritis Foundation.
URL:https://vermontsun.com/event/aquacise/2031-03-05/
LOCATION:VT Sun Middlebury\, 812 Exchange Street\, Middlebury\, VT\, 05753\, United States
CATEGORIES:aquacise
ATTACH;FMTTYPE=image/jpeg:https://vermontsun.com/wp-content/uploads/2015/08/aqua-aero.jpg
ORGANIZER;CN="VT Sun Middlebury":MAILTO:info@vermontsun.com
END:VEVENT
BEGIN:VEVENT
DTSTART;TZID=America/New_York:20310307T101500
DTEND;TZID=America/New_York:20310307T111500
DTSTAMP:20260420T023006
CREATED:20230126T155727Z
LAST-MODIFIED:20260317T102315Z
UID:10021801-1930644900-1930648500@vermontsun.com
SUMMARY:Aquacise
DESCRIPTION:A fabulous non-impact class in our body soothing 83 degree Olympic pool! A great class for all fitness levels and those recovering from injuries. The arthritis aqua class is similar to the aqua aerobic but adheres to the guidelines of the American Arthritis Foundation.
URL:https://vermontsun.com/event/aquacise/2031-03-07/
LOCATION:VT Sun Middlebury\, 812 Exchange Street\, Middlebury\, VT\, 05753\, United States
CATEGORIES:aquacise
ATTACH;FMTTYPE=image/jpeg:https://vermontsun.com/wp-content/uploads/2015/08/aqua-aero.jpg
ORGANIZER;CN="VT Sun Middlebury":MAILTO:info@vermontsun.com
END:VEVENT
BEGIN:VEVENT
DTSTART;TZID=America/New_York:20310311T101500
DTEND;TZID=America/New_York:20310311T111500
DTSTAMP:20260420T023006
CREATED:20230126T155727Z
LAST-MODIFIED:20260317T102315Z
UID:10021802-1930990500-1930994100@vermontsun.com
SUMMARY:Aquacise
DESCRIPTION:A fabulous non-impact class in our body soothing 83 degree Olympic pool! A great class for all fitness levels and those recovering from injuries. The arthritis aqua class is similar to the aqua aerobic but adheres to the guidelines of the American Arthritis Foundation.
URL:https://vermontsun.com/event/aquacise/2031-03-11/
LOCATION:VT Sun Middlebury\, 812 Exchange Street\, Middlebury\, VT\, 05753\, United States
CATEGORIES:aquacise
ATTACH;FMTTYPE=image/jpeg:https://vermontsun.com/wp-content/uploads/2015/08/aqua-aero.jpg
ORGANIZER;CN="VT Sun Middlebury":MAILTO:info@vermontsun.com
END:VEVENT
END:VCALENDAR