BEGIN:VCALENDAR
VERSION:2.0
PRODID:-//Vermont Sun Fitness Centers - ECPv6.15.20//NONSGML v1.0//EN
CALSCALE:GREGORIAN
METHOD:PUBLISH
X-WR-CALNAME:Vermont Sun Fitness Centers
X-ORIGINAL-URL:https://vermontsun.com
X-WR-CALDESC:Events for Vermont Sun Fitness Centers
REFRESH-INTERVAL;VALUE=DURATION:PT1H
X-Robots-Tag:noindex
X-PUBLISHED-TTL:PT1H
BEGIN:VTIMEZONE
TZID:America/New_York
BEGIN:DAYLIGHT
TZOFFSETFROM:-0500
TZOFFSETTO:-0400
TZNAME:EDT
DTSTART:20300310T070000
END:DAYLIGHT
BEGIN:STANDARD
TZOFFSETFROM:-0400
TZOFFSETTO:-0500
TZNAME:EST
DTSTART:20301103T060000
END:STANDARD
BEGIN:DAYLIGHT
TZOFFSETFROM:-0500
TZOFFSETTO:-0400
TZNAME:EDT
DTSTART:20310309T070000
END:DAYLIGHT
BEGIN:STANDARD
TZOFFSETFROM:-0400
TZOFFSETTO:-0500
TZNAME:EST
DTSTART:20311102T060000
END:STANDARD
BEGIN:DAYLIGHT
TZOFFSETFROM:-0500
TZOFFSETTO:-0400
TZNAME:EDT
DTSTART:20320314T070000
END:DAYLIGHT
BEGIN:STANDARD
TZOFFSETFROM:-0400
TZOFFSETTO:-0500
TZNAME:EST
DTSTART:20321107T060000
END:STANDARD
END:VTIMEZONE
BEGIN:VEVENT
DTSTART;TZID=America/New_York:20310226T101500
DTEND;TZID=America/New_York:20310226T111500
DTSTAMP:20260420T053549
CREATED:20230126T155727Z
LAST-MODIFIED:20260317T102315Z
UID:10021797-1929867300-1929870900@vermontsun.com
SUMMARY:Aquacise
DESCRIPTION:A fabulous non-impact class in our body soothing 83 degree Olympic pool! A great class for all fitness levels and those recovering from injuries. The arthritis aqua class is similar to the aqua aerobic but adheres to the guidelines of the American Arthritis Foundation.
URL:https://vermontsun.com/event/aquacise/2031-02-26/
LOCATION:VT Sun Middlebury\, 812 Exchange Street\, Middlebury\, VT\, 05753\, United States
CATEGORIES:aquacise
ATTACH;FMTTYPE=image/jpeg:https://vermontsun.com/wp-content/uploads/2015/08/aqua-aero.jpg
ORGANIZER;CN="VT Sun Middlebury":MAILTO:info@vermontsun.com
END:VEVENT
BEGIN:VEVENT
DTSTART;TZID=America/New_York:20310228T101500
DTEND;TZID=America/New_York:20310228T111500
DTSTAMP:20260420T053549
CREATED:20230126T155727Z
LAST-MODIFIED:20260317T102315Z
UID:10021798-1930040100-1930043700@vermontsun.com
SUMMARY:Aquacise
DESCRIPTION:A fabulous non-impact class in our body soothing 83 degree Olympic pool! A great class for all fitness levels and those recovering from injuries. The arthritis aqua class is similar to the aqua aerobic but adheres to the guidelines of the American Arthritis Foundation.
URL:https://vermontsun.com/event/aquacise/2031-02-28/
LOCATION:VT Sun Middlebury\, 812 Exchange Street\, Middlebury\, VT\, 05753\, United States
CATEGORIES:aquacise
ATTACH;FMTTYPE=image/jpeg:https://vermontsun.com/wp-content/uploads/2015/08/aqua-aero.jpg
ORGANIZER;CN="VT Sun Middlebury":MAILTO:info@vermontsun.com
END:VEVENT
BEGIN:VEVENT
DTSTART;TZID=America/New_York:20310304T101500
DTEND;TZID=America/New_York:20310304T111500
DTSTAMP:20260420T053549
CREATED:20230126T155727Z
LAST-MODIFIED:20260317T102315Z
UID:10021799-1930385700-1930389300@vermontsun.com
SUMMARY:Aquacise
DESCRIPTION:A fabulous non-impact class in our body soothing 83 degree Olympic pool! A great class for all fitness levels and those recovering from injuries. The arthritis aqua class is similar to the aqua aerobic but adheres to the guidelines of the American Arthritis Foundation.
URL:https://vermontsun.com/event/aquacise/2031-03-04/
LOCATION:VT Sun Middlebury\, 812 Exchange Street\, Middlebury\, VT\, 05753\, United States
CATEGORIES:aquacise
ATTACH;FMTTYPE=image/jpeg:https://vermontsun.com/wp-content/uploads/2015/08/aqua-aero.jpg
ORGANIZER;CN="VT Sun Middlebury":MAILTO:info@vermontsun.com
END:VEVENT
BEGIN:VEVENT
DTSTART;TZID=America/New_York:20310305T101500
DTEND;TZID=America/New_York:20310305T111500
DTSTAMP:20260420T053549
CREATED:20230126T155727Z
LAST-MODIFIED:20260317T102315Z
UID:10021800-1930472100-1930475700@vermontsun.com
SUMMARY:Aquacise
DESCRIPTION:A fabulous non-impact class in our body soothing 83 degree Olympic pool! A great class for all fitness levels and those recovering from injuries. The arthritis aqua class is similar to the aqua aerobic but adheres to the guidelines of the American Arthritis Foundation.
URL:https://vermontsun.com/event/aquacise/2031-03-05/
LOCATION:VT Sun Middlebury\, 812 Exchange Street\, Middlebury\, VT\, 05753\, United States
CATEGORIES:aquacise
ATTACH;FMTTYPE=image/jpeg:https://vermontsun.com/wp-content/uploads/2015/08/aqua-aero.jpg
ORGANIZER;CN="VT Sun Middlebury":MAILTO:info@vermontsun.com
END:VEVENT
BEGIN:VEVENT
DTSTART;TZID=America/New_York:20310307T101500
DTEND;TZID=America/New_York:20310307T111500
DTSTAMP:20260420T053549
CREATED:20230126T155727Z
LAST-MODIFIED:20260317T102315Z
UID:10021801-1930644900-1930648500@vermontsun.com
SUMMARY:Aquacise
DESCRIPTION:A fabulous non-impact class in our body soothing 83 degree Olympic pool! A great class for all fitness levels and those recovering from injuries. The arthritis aqua class is similar to the aqua aerobic but adheres to the guidelines of the American Arthritis Foundation.
URL:https://vermontsun.com/event/aquacise/2031-03-07/
LOCATION:VT Sun Middlebury\, 812 Exchange Street\, Middlebury\, VT\, 05753\, United States
CATEGORIES:aquacise
ATTACH;FMTTYPE=image/jpeg:https://vermontsun.com/wp-content/uploads/2015/08/aqua-aero.jpg
ORGANIZER;CN="VT Sun Middlebury":MAILTO:info@vermontsun.com
END:VEVENT
BEGIN:VEVENT
DTSTART;TZID=America/New_York:20310311T101500
DTEND;TZID=America/New_York:20310311T111500
DTSTAMP:20260420T053549
CREATED:20230126T155727Z
LAST-MODIFIED:20260317T102315Z
UID:10021802-1930990500-1930994100@vermontsun.com
SUMMARY:Aquacise
DESCRIPTION:A fabulous non-impact class in our body soothing 83 degree Olympic pool! A great class for all fitness levels and those recovering from injuries. The arthritis aqua class is similar to the aqua aerobic but adheres to the guidelines of the American Arthritis Foundation.
URL:https://vermontsun.com/event/aquacise/2031-03-11/
LOCATION:VT Sun Middlebury\, 812 Exchange Street\, Middlebury\, VT\, 05753\, United States
CATEGORIES:aquacise
ATTACH;FMTTYPE=image/jpeg:https://vermontsun.com/wp-content/uploads/2015/08/aqua-aero.jpg
ORGANIZER;CN="VT Sun Middlebury":MAILTO:info@vermontsun.com
END:VEVENT
BEGIN:VEVENT
DTSTART;TZID=America/New_York:20310312T101500
DTEND;TZID=America/New_York:20310312T111500
DTSTAMP:20260420T053549
CREATED:20230126T155727Z
LAST-MODIFIED:20260317T102315Z
UID:10021803-1931076900-1931080500@vermontsun.com
SUMMARY:Aquacise
DESCRIPTION:A fabulous non-impact class in our body soothing 83 degree Olympic pool! A great class for all fitness levels and those recovering from injuries. The arthritis aqua class is similar to the aqua aerobic but adheres to the guidelines of the American Arthritis Foundation.
URL:https://vermontsun.com/event/aquacise/2031-03-12/
LOCATION:VT Sun Middlebury\, 812 Exchange Street\, Middlebury\, VT\, 05753\, United States
CATEGORIES:aquacise
ATTACH;FMTTYPE=image/jpeg:https://vermontsun.com/wp-content/uploads/2015/08/aqua-aero.jpg
ORGANIZER;CN="VT Sun Middlebury":MAILTO:info@vermontsun.com
END:VEVENT
BEGIN:VEVENT
DTSTART;TZID=America/New_York:20310314T101500
DTEND;TZID=America/New_York:20310314T111500
DTSTAMP:20260420T053549
CREATED:20230126T155727Z
LAST-MODIFIED:20260317T102315Z
UID:10021804-1931249700-1931253300@vermontsun.com
SUMMARY:Aquacise
DESCRIPTION:A fabulous non-impact class in our body soothing 83 degree Olympic pool! A great class for all fitness levels and those recovering from injuries. The arthritis aqua class is similar to the aqua aerobic but adheres to the guidelines of the American Arthritis Foundation.
URL:https://vermontsun.com/event/aquacise/2031-03-14/
LOCATION:VT Sun Middlebury\, 812 Exchange Street\, Middlebury\, VT\, 05753\, United States
CATEGORIES:aquacise
ATTACH;FMTTYPE=image/jpeg:https://vermontsun.com/wp-content/uploads/2015/08/aqua-aero.jpg
ORGANIZER;CN="VT Sun Middlebury":MAILTO:info@vermontsun.com
END:VEVENT
END:VCALENDAR