BEGIN:VCALENDAR
VERSION:2.0
PRODID:-//Vermont Sun Fitness Centers - ECPv6.15.20//NONSGML v1.0//EN
CALSCALE:GREGORIAN
METHOD:PUBLISH
X-WR-CALNAME:Vermont Sun Fitness Centers
X-ORIGINAL-URL:https://vermontsun.com
X-WR-CALDESC:Events for Vermont Sun Fitness Centers
REFRESH-INTERVAL;VALUE=DURATION:PT1H
X-Robots-Tag:noindex
X-PUBLISHED-TTL:PT1H
BEGIN:VTIMEZONE
TZID:America/New_York
BEGIN:DAYLIGHT
TZOFFSETFROM:-0500
TZOFFSETTO:-0400
TZNAME:EDT
DTSTART:20250309T070000
END:DAYLIGHT
BEGIN:STANDARD
TZOFFSETFROM:-0400
TZOFFSETTO:-0500
TZNAME:EST
DTSTART:20251102T060000
END:STANDARD
BEGIN:DAYLIGHT
TZOFFSETFROM:-0500
TZOFFSETTO:-0400
TZNAME:EDT
DTSTART:20260308T070000
END:DAYLIGHT
BEGIN:STANDARD
TZOFFSETFROM:-0400
TZOFFSETTO:-0500
TZNAME:EST
DTSTART:20261101T060000
END:STANDARD
BEGIN:DAYLIGHT
TZOFFSETFROM:-0500
TZOFFSETTO:-0400
TZNAME:EDT
DTSTART:20270314T070000
END:DAYLIGHT
BEGIN:STANDARD
TZOFFSETFROM:-0400
TZOFFSETTO:-0500
TZNAME:EST
DTSTART:20271107T060000
END:STANDARD
END:VTIMEZONE
BEGIN:VEVENT
DTSTART;TZID=America/New_York:20261201T090000
DTEND;TZID=America/New_York:20261201T100000
DTSTAMP:20260421T122202
CREATED:20230126T155627Z
LAST-MODIFIED:20260127T010014Z
UID:10009447-1796115600-1796119200@vermontsun.com
SUMMARY:Forever Fit
DESCRIPTION:Warm up in the multi-purpose room then begin a variety of exercises incorporating floor aerobics\, weights flexibility and balance. Finish with a long relaxing stretch. This class is appropriate for the “mature” population or those just beginning an exercise program.
URL:https://vermontsun.com/event/forever-fit/2026-12-01/
LOCATION:VT Sun Middlebury\, 812 Exchange Street\, Middlebury\, VT\, 05753\, United States
CATEGORIES:forever fit
ATTACH;FMTTYPE=image/jpeg:https://vermontsun.com/wp-content/uploads/2015/08/senior-fit.jpg
ORGANIZER;CN="VT Sun Middlebury":MAILTO:info@vermontsun.com
END:VEVENT
BEGIN:VEVENT
DTSTART;TZID=America/New_York:20261208T090000
DTEND;TZID=America/New_York:20261208T100000
DTSTAMP:20260421T122202
CREATED:20230126T155627Z
LAST-MODIFIED:20260127T010014Z
UID:10009448-1796720400-1796724000@vermontsun.com
SUMMARY:Forever Fit
DESCRIPTION:Warm up in the multi-purpose room then begin a variety of exercises incorporating floor aerobics\, weights flexibility and balance. Finish with a long relaxing stretch. This class is appropriate for the “mature” population or those just beginning an exercise program.
URL:https://vermontsun.com/event/forever-fit/2026-12-08/
LOCATION:VT Sun Middlebury\, 812 Exchange Street\, Middlebury\, VT\, 05753\, United States
CATEGORIES:forever fit
ATTACH;FMTTYPE=image/jpeg:https://vermontsun.com/wp-content/uploads/2015/08/senior-fit.jpg
ORGANIZER;CN="VT Sun Middlebury":MAILTO:info@vermontsun.com
END:VEVENT
BEGIN:VEVENT
DTSTART;TZID=America/New_York:20261215T090000
DTEND;TZID=America/New_York:20261215T100000
DTSTAMP:20260421T122202
CREATED:20230126T155627Z
LAST-MODIFIED:20260127T010014Z
UID:10009449-1797325200-1797328800@vermontsun.com
SUMMARY:Forever Fit
DESCRIPTION:Warm up in the multi-purpose room then begin a variety of exercises incorporating floor aerobics\, weights flexibility and balance. Finish with a long relaxing stretch. This class is appropriate for the “mature” population or those just beginning an exercise program.
URL:https://vermontsun.com/event/forever-fit/2026-12-15/
LOCATION:VT Sun Middlebury\, 812 Exchange Street\, Middlebury\, VT\, 05753\, United States
CATEGORIES:forever fit
ATTACH;FMTTYPE=image/jpeg:https://vermontsun.com/wp-content/uploads/2015/08/senior-fit.jpg
ORGANIZER;CN="VT Sun Middlebury":MAILTO:info@vermontsun.com
END:VEVENT
BEGIN:VEVENT
DTSTART;TZID=America/New_York:20261222T090000
DTEND;TZID=America/New_York:20261222T100000
DTSTAMP:20260421T122202
CREATED:20230126T155627Z
LAST-MODIFIED:20260127T010014Z
UID:10009450-1797930000-1797933600@vermontsun.com
SUMMARY:Forever Fit
DESCRIPTION:Warm up in the multi-purpose room then begin a variety of exercises incorporating floor aerobics\, weights flexibility and balance. Finish with a long relaxing stretch. This class is appropriate for the “mature” population or those just beginning an exercise program.
URL:https://vermontsun.com/event/forever-fit/2026-12-22/
LOCATION:VT Sun Middlebury\, 812 Exchange Street\, Middlebury\, VT\, 05753\, United States
CATEGORIES:forever fit
ATTACH;FMTTYPE=image/jpeg:https://vermontsun.com/wp-content/uploads/2015/08/senior-fit.jpg
ORGANIZER;CN="VT Sun Middlebury":MAILTO:info@vermontsun.com
END:VEVENT
BEGIN:VEVENT
DTSTART;TZID=America/New_York:20261229T090000
DTEND;TZID=America/New_York:20261229T100000
DTSTAMP:20260421T122202
CREATED:20230126T155627Z
LAST-MODIFIED:20260127T010014Z
UID:10009451-1798534800-1798538400@vermontsun.com
SUMMARY:Forever Fit
DESCRIPTION:Warm up in the multi-purpose room then begin a variety of exercises incorporating floor aerobics\, weights flexibility and balance. Finish with a long relaxing stretch. This class is appropriate for the “mature” population or those just beginning an exercise program.
URL:https://vermontsun.com/event/forever-fit/2026-12-29/
LOCATION:VT Sun Middlebury\, 812 Exchange Street\, Middlebury\, VT\, 05753\, United States
CATEGORIES:forever fit
ATTACH;FMTTYPE=image/jpeg:https://vermontsun.com/wp-content/uploads/2015/08/senior-fit.jpg
ORGANIZER;CN="VT Sun Middlebury":MAILTO:info@vermontsun.com
END:VEVENT
END:VCALENDAR