BEGIN:VCALENDAR
VERSION:2.0
PRODID:-//Vermont Sun Fitness Centers - ECPv6.15.20//NONSGML v1.0//EN
CALSCALE:GREGORIAN
METHOD:PUBLISH
X-WR-CALNAME:Vermont Sun Fitness Centers
X-ORIGINAL-URL:https://vermontsun.com
X-WR-CALDESC:Events for Vermont Sun Fitness Centers
REFRESH-INTERVAL;VALUE=DURATION:PT1H
X-Robots-Tag:noindex
X-PUBLISHED-TTL:PT1H
BEGIN:VTIMEZONE
TZID:America/New_York
BEGIN:DAYLIGHT
TZOFFSETFROM:-0500
TZOFFSETTO:-0400
TZNAME:EDT
DTSTART:20240310T070000
END:DAYLIGHT
BEGIN:STANDARD
TZOFFSETFROM:-0400
TZOFFSETTO:-0500
TZNAME:EST
DTSTART:20241103T060000
END:STANDARD
BEGIN:DAYLIGHT
TZOFFSETFROM:-0500
TZOFFSETTO:-0400
TZNAME:EDT
DTSTART:20250309T070000
END:DAYLIGHT
BEGIN:STANDARD
TZOFFSETFROM:-0400
TZOFFSETTO:-0500
TZNAME:EST
DTSTART:20251102T060000
END:STANDARD
BEGIN:DAYLIGHT
TZOFFSETFROM:-0500
TZOFFSETTO:-0400
TZNAME:EDT
DTSTART:20260308T070000
END:DAYLIGHT
BEGIN:STANDARD
TZOFFSETFROM:-0400
TZOFFSETTO:-0500
TZNAME:EST
DTSTART:20261101T060000
END:STANDARD
END:VTIMEZONE
BEGIN:VEVENT
DTSTART;TZID=America/New_York:20250109T173000
DTEND;TZID=America/New_York:20250109T183000
DTSTAMP:20260423T061702
CREATED:20241007T163635Z
LAST-MODIFIED:20251204T113115Z
UID:10012723-1736443800-1736447400@vermontsun.com
SUMMARY:Jazzercise Cardio Sculpt (Addt’l fee)
DESCRIPTION:Thursdays\, 5:30 – 6:30pm Cardio Sculpt: High-energy dance cardio\, followed by strength training
URL:https://vermontsun.com/event/jazzercise-cardio-sculpt-addtl-fee-2/2025-01-09/
LOCATION:VT Sun Middlebury\, 812 Exchange Street\, Middlebury\, VT\, 05753\, United States
CATEGORIES:Jazzercise
END:VEVENT
BEGIN:VEVENT
DTSTART;TZID=America/New_York:20250110T081500
DTEND;TZID=America/New_York:20250110T085000
DTSTAMP:20260423T061702
CREATED:20241007T163759Z
LAST-MODIFIED:20251204T113017Z
UID:10013241-1736496900-1736499000@vermontsun.com
SUMMARY:Jazzercise Cardio Sculpt (Addt’l fee)
DESCRIPTION:Fridays\, 8:15 – 8:50am Cardio Sculpt: High-energy dance cardio\, followed by strength training
URL:https://vermontsun.com/event/jazzercise-cardio-sculpt-addtl-fee-3/2025-01-10/
LOCATION:VT Sun Middlebury\, 812 Exchange Street\, Middlebury\, VT\, 05753\, United States
CATEGORIES:Jazzercise
END:VEVENT
BEGIN:VEVENT
DTSTART;TZID=America/New_York:20250111T080000
DTEND;TZID=America/New_York:20250111T083000
DTSTAMP:20260423T061702
CREATED:20241007T163857Z
LAST-MODIFIED:20241007T163857Z
UID:10013759-1736582400-1736584200@vermontsun.com
SUMMARY:Jazzercise Stretch (Addt’l fee)
DESCRIPTION:Saturdays\, 8:00 – 8:30am Stretch: Increase flexibility and relieve soreness in this dance-based restorative class.
URL:https://vermontsun.com/event/jazzercise-stretch-addtl-fee/2025-01-11/
LOCATION:VT Sun Middlebury\, 812 Exchange Street\, Middlebury\, VT\, 05753\, United States
CATEGORIES:Jazzercise
END:VEVENT
BEGIN:VEVENT
DTSTART;TZID=America/New_York:20250111T083000
DTEND;TZID=America/New_York:20250111T090000
DTSTAMP:20260423T061702
CREATED:20241007T164008Z
LAST-MODIFIED:20241008T143010Z
UID:10014277-1736584200-1736586000@vermontsun.com
SUMMARY:Jazzercise Cardio Sculpt (Addt’l fee)
DESCRIPTION:Saturdays\, 8:30 – 9:00am Cardio Sculpt: High-energy dance cardio\, followed by strength training
URL:https://vermontsun.com/event/jazzercise-cardio-sculpt-addtl-fee-4/2025-01-11/
LOCATION:VT Sun Middlebury\, 812 Exchange Street\, Middlebury\, VT\, 05753\, United States
CATEGORIES:Jazzercise
END:VEVENT
BEGIN:VEVENT
DTSTART;TZID=America/New_York:20250113T081500
DTEND;TZID=America/New_York:20250113T084500
DTSTAMP:20260423T061702
CREATED:20230313T125655Z
LAST-MODIFIED:20260125T152007Z
UID:10010652-1736756100-1736757900@vermontsun.com
SUMMARY:Jazzercise Cardio (Addt’l fee)
DESCRIPTION:Mondays\, 8:15 – 8:45am Cardio: Thirty minutes of high-energy dance cardio
URL:https://vermontsun.com/event/pop-up-spin-sign-up-required/2025-01-13/
LOCATION:VT Sun Middlebury\, 812 Exchange Street\, Middlebury\, VT\, 05753\, United States
CATEGORIES:Jazzercise
END:VEVENT
BEGIN:VEVENT
DTSTART;TZID=America/New_York:20250114T173000
DTEND;TZID=America/New_York:20250114T183000
DTSTAMP:20260423T061702
CREATED:20241007T162951Z
LAST-MODIFIED:20241030T141004Z
UID:10011170-1736875800-1736879400@vermontsun.com
SUMMARY:Jazzercise Power Sculpt (Addt’l fee)
DESCRIPTION:Tuesdays\, 5:30 – 6:30pm Power Sculpt: Blends heart-pumping bursts of dance cardio with powerful strength training\, followed by a specialized toning segment
URL:https://vermontsun.com/event/jazzercise-power-sculpt-addtl-fee/2025-01-14/
LOCATION:VT Sun Middlebury\, 812 Exchange Street\, Middlebury\, VT\, 05753\, United States
CATEGORIES:Jazzercise
END:VEVENT
BEGIN:VEVENT
DTSTART;TZID=America/New_York:20250115T081500
DTEND;TZID=America/New_York:20250115T090000
DTSTAMP:20260423T061702
CREATED:20241007T163103Z
LAST-MODIFIED:20241030T141350Z
UID:10011688-1736928900-1736931600@vermontsun.com
SUMMARY:Jazzercise Sculpt (Addt’l fee)
DESCRIPTION:Wednesdays\, 8:15 – 9am Sculpt: Focuses on strength training to build strong\, lean muscles
URL:https://vermontsun.com/event/jazzercise-sculpt-addtl-fee/2025-01-15/
LOCATION:VT Sun Middlebury\, 812 Exchange Street\, Middlebury\, VT\, 05753\, United States
CATEGORIES:Jazzercise
END:VEVENT
BEGIN:VEVENT
DTSTART;TZID=America/New_York:20250115T161500
DTEND;TZID=America/New_York:20250115T171500
DTSTAMP:20260423T061702
CREATED:20241007T163521Z
LAST-MODIFIED:20251204T115102Z
UID:10012206-1736957700-1736961300@vermontsun.com
SUMMARY:Jazzercise Cardio Sculpt (Addt’l fee)
DESCRIPTION:Wednesdays\, 4:15 – 5pm Cardio Sculpt: High-energy dance cardio\, followed by strength training
URL:https://vermontsun.com/event/jazzercise-cardio-sculpt-addtl-fee/2025-01-15/
LOCATION:VT Sun Middlebury\, 812 Exchange Street\, Middlebury\, VT\, 05753\, United States
CATEGORIES:Jazzercise
END:VEVENT
BEGIN:VEVENT
DTSTART;TZID=America/New_York:20250116T173000
DTEND;TZID=America/New_York:20250116T183000
DTSTAMP:20260423T061702
CREATED:20241007T163635Z
LAST-MODIFIED:20251204T113115Z
UID:10012724-1737048600-1737052200@vermontsun.com
SUMMARY:Jazzercise Cardio Sculpt (Addt’l fee)
DESCRIPTION:Thursdays\, 5:30 – 6:30pm Cardio Sculpt: High-energy dance cardio\, followed by strength training
URL:https://vermontsun.com/event/jazzercise-cardio-sculpt-addtl-fee-2/2025-01-16/
LOCATION:VT Sun Middlebury\, 812 Exchange Street\, Middlebury\, VT\, 05753\, United States
CATEGORIES:Jazzercise
END:VEVENT
BEGIN:VEVENT
DTSTART;TZID=America/New_York:20250117T081500
DTEND;TZID=America/New_York:20250117T085000
DTSTAMP:20260423T061703
CREATED:20241007T163759Z
LAST-MODIFIED:20251204T113017Z
UID:10013242-1737101700-1737103800@vermontsun.com
SUMMARY:Jazzercise Cardio Sculpt (Addt’l fee)
DESCRIPTION:Fridays\, 8:15 – 8:50am Cardio Sculpt: High-energy dance cardio\, followed by strength training
URL:https://vermontsun.com/event/jazzercise-cardio-sculpt-addtl-fee-3/2025-01-17/
LOCATION:VT Sun Middlebury\, 812 Exchange Street\, Middlebury\, VT\, 05753\, United States
CATEGORIES:Jazzercise
END:VEVENT
BEGIN:VEVENT
DTSTART;TZID=America/New_York:20250118T080000
DTEND;TZID=America/New_York:20250118T083000
DTSTAMP:20260423T061703
CREATED:20241007T163857Z
LAST-MODIFIED:20241007T163857Z
UID:10013760-1737187200-1737189000@vermontsun.com
SUMMARY:Jazzercise Stretch (Addt’l fee)
DESCRIPTION:Saturdays\, 8:00 – 8:30am Stretch: Increase flexibility and relieve soreness in this dance-based restorative class.
URL:https://vermontsun.com/event/jazzercise-stretch-addtl-fee/2025-01-18/
LOCATION:VT Sun Middlebury\, 812 Exchange Street\, Middlebury\, VT\, 05753\, United States
CATEGORIES:Jazzercise
END:VEVENT
BEGIN:VEVENT
DTSTART;TZID=America/New_York:20250118T083000
DTEND;TZID=America/New_York:20250118T090000
DTSTAMP:20260423T061703
CREATED:20241007T164008Z
LAST-MODIFIED:20241008T143010Z
UID:10014278-1737189000-1737190800@vermontsun.com
SUMMARY:Jazzercise Cardio Sculpt (Addt’l fee)
DESCRIPTION:Saturdays\, 8:30 – 9:00am Cardio Sculpt: High-energy dance cardio\, followed by strength training
URL:https://vermontsun.com/event/jazzercise-cardio-sculpt-addtl-fee-4/2025-01-18/
LOCATION:VT Sun Middlebury\, 812 Exchange Street\, Middlebury\, VT\, 05753\, United States
CATEGORIES:Jazzercise
END:VEVENT
BEGIN:VEVENT
DTSTART;TZID=America/New_York:20250120T081500
DTEND;TZID=America/New_York:20250120T084500
DTSTAMP:20260423T061703
CREATED:20230313T125655Z
LAST-MODIFIED:20260125T152007Z
UID:10010653-1737360900-1737362700@vermontsun.com
SUMMARY:Jazzercise Cardio (Addt’l fee)
DESCRIPTION:Mondays\, 8:15 – 8:45am Cardio: Thirty minutes of high-energy dance cardio
URL:https://vermontsun.com/event/pop-up-spin-sign-up-required/2025-01-20/
LOCATION:VT Sun Middlebury\, 812 Exchange Street\, Middlebury\, VT\, 05753\, United States
CATEGORIES:Jazzercise
END:VEVENT
BEGIN:VEVENT
DTSTART;TZID=America/New_York:20250121T173000
DTEND;TZID=America/New_York:20250121T183000
DTSTAMP:20260423T061703
CREATED:20241007T162951Z
LAST-MODIFIED:20241030T141004Z
UID:10011171-1737480600-1737484200@vermontsun.com
SUMMARY:Jazzercise Power Sculpt (Addt’l fee)
DESCRIPTION:Tuesdays\, 5:30 – 6:30pm Power Sculpt: Blends heart-pumping bursts of dance cardio with powerful strength training\, followed by a specialized toning segment
URL:https://vermontsun.com/event/jazzercise-power-sculpt-addtl-fee/2025-01-21/
LOCATION:VT Sun Middlebury\, 812 Exchange Street\, Middlebury\, VT\, 05753\, United States
CATEGORIES:Jazzercise
END:VEVENT
BEGIN:VEVENT
DTSTART;TZID=America/New_York:20250122T081500
DTEND;TZID=America/New_York:20250122T090000
DTSTAMP:20260423T061703
CREATED:20241007T163103Z
LAST-MODIFIED:20241030T141350Z
UID:10011689-1737533700-1737536400@vermontsun.com
SUMMARY:Jazzercise Sculpt (Addt’l fee)
DESCRIPTION:Wednesdays\, 8:15 – 9am Sculpt: Focuses on strength training to build strong\, lean muscles
URL:https://vermontsun.com/event/jazzercise-sculpt-addtl-fee/2025-01-22/
LOCATION:VT Sun Middlebury\, 812 Exchange Street\, Middlebury\, VT\, 05753\, United States
CATEGORIES:Jazzercise
END:VEVENT
BEGIN:VEVENT
DTSTART;TZID=America/New_York:20250122T161500
DTEND;TZID=America/New_York:20250122T171500
DTSTAMP:20260423T061703
CREATED:20241007T163521Z
LAST-MODIFIED:20251204T115102Z
UID:10012207-1737562500-1737566100@vermontsun.com
SUMMARY:Jazzercise Cardio Sculpt (Addt’l fee)
DESCRIPTION:Wednesdays\, 4:15 – 5pm Cardio Sculpt: High-energy dance cardio\, followed by strength training
URL:https://vermontsun.com/event/jazzercise-cardio-sculpt-addtl-fee/2025-01-22/
LOCATION:VT Sun Middlebury\, 812 Exchange Street\, Middlebury\, VT\, 05753\, United States
CATEGORIES:Jazzercise
END:VEVENT
BEGIN:VEVENT
DTSTART;TZID=America/New_York:20250123T173000
DTEND;TZID=America/New_York:20250123T183000
DTSTAMP:20260423T061703
CREATED:20241007T163635Z
LAST-MODIFIED:20251204T113115Z
UID:10012725-1737653400-1737657000@vermontsun.com
SUMMARY:Jazzercise Cardio Sculpt (Addt’l fee)
DESCRIPTION:Thursdays\, 5:30 – 6:30pm Cardio Sculpt: High-energy dance cardio\, followed by strength training
URL:https://vermontsun.com/event/jazzercise-cardio-sculpt-addtl-fee-2/2025-01-23/
LOCATION:VT Sun Middlebury\, 812 Exchange Street\, Middlebury\, VT\, 05753\, United States
CATEGORIES:Jazzercise
END:VEVENT
BEGIN:VEVENT
DTSTART;TZID=America/New_York:20250124T081500
DTEND;TZID=America/New_York:20250124T085000
DTSTAMP:20260423T061703
CREATED:20241007T163759Z
LAST-MODIFIED:20251204T113017Z
UID:10013243-1737706500-1737708600@vermontsun.com
SUMMARY:Jazzercise Cardio Sculpt (Addt’l fee)
DESCRIPTION:Fridays\, 8:15 – 8:50am Cardio Sculpt: High-energy dance cardio\, followed by strength training
URL:https://vermontsun.com/event/jazzercise-cardio-sculpt-addtl-fee-3/2025-01-24/
LOCATION:VT Sun Middlebury\, 812 Exchange Street\, Middlebury\, VT\, 05753\, United States
CATEGORIES:Jazzercise
END:VEVENT
BEGIN:VEVENT
DTSTART;TZID=America/New_York:20250125T080000
DTEND;TZID=America/New_York:20250125T083000
DTSTAMP:20260423T061703
CREATED:20241007T163857Z
LAST-MODIFIED:20241007T163857Z
UID:10013761-1737792000-1737793800@vermontsun.com
SUMMARY:Jazzercise Stretch (Addt’l fee)
DESCRIPTION:Saturdays\, 8:00 – 8:30am Stretch: Increase flexibility and relieve soreness in this dance-based restorative class.
URL:https://vermontsun.com/event/jazzercise-stretch-addtl-fee/2025-01-25/
LOCATION:VT Sun Middlebury\, 812 Exchange Street\, Middlebury\, VT\, 05753\, United States
CATEGORIES:Jazzercise
END:VEVENT
BEGIN:VEVENT
DTSTART;TZID=America/New_York:20250125T083000
DTEND;TZID=America/New_York:20250125T090000
DTSTAMP:20260423T061703
CREATED:20241007T164008Z
LAST-MODIFIED:20241008T143010Z
UID:10014279-1737793800-1737795600@vermontsun.com
SUMMARY:Jazzercise Cardio Sculpt (Addt’l fee)
DESCRIPTION:Saturdays\, 8:30 – 9:00am Cardio Sculpt: High-energy dance cardio\, followed by strength training
URL:https://vermontsun.com/event/jazzercise-cardio-sculpt-addtl-fee-4/2025-01-25/
LOCATION:VT Sun Middlebury\, 812 Exchange Street\, Middlebury\, VT\, 05753\, United States
CATEGORIES:Jazzercise
END:VEVENT
BEGIN:VEVENT
DTSTART;TZID=America/New_York:20250127T081500
DTEND;TZID=America/New_York:20250127T084500
DTSTAMP:20260423T061703
CREATED:20230313T125655Z
LAST-MODIFIED:20260125T152007Z
UID:10010654-1737965700-1737967500@vermontsun.com
SUMMARY:Jazzercise Cardio (Addt’l fee)
DESCRIPTION:Mondays\, 8:15 – 8:45am Cardio: Thirty minutes of high-energy dance cardio
URL:https://vermontsun.com/event/pop-up-spin-sign-up-required/2025-01-27/
LOCATION:VT Sun Middlebury\, 812 Exchange Street\, Middlebury\, VT\, 05753\, United States
CATEGORIES:Jazzercise
END:VEVENT
BEGIN:VEVENT
DTSTART;TZID=America/New_York:20250128T173000
DTEND;TZID=America/New_York:20250128T183000
DTSTAMP:20260423T061703
CREATED:20241007T162951Z
LAST-MODIFIED:20241030T141004Z
UID:10011172-1738085400-1738089000@vermontsun.com
SUMMARY:Jazzercise Power Sculpt (Addt’l fee)
DESCRIPTION:Tuesdays\, 5:30 – 6:30pm Power Sculpt: Blends heart-pumping bursts of dance cardio with powerful strength training\, followed by a specialized toning segment
URL:https://vermontsun.com/event/jazzercise-power-sculpt-addtl-fee/2025-01-28/
LOCATION:VT Sun Middlebury\, 812 Exchange Street\, Middlebury\, VT\, 05753\, United States
CATEGORIES:Jazzercise
END:VEVENT
BEGIN:VEVENT
DTSTART;TZID=America/New_York:20250129T081500
DTEND;TZID=America/New_York:20250129T090000
DTSTAMP:20260423T061703
CREATED:20241007T163103Z
LAST-MODIFIED:20241030T141350Z
UID:10011690-1738138500-1738141200@vermontsun.com
SUMMARY:Jazzercise Sculpt (Addt’l fee)
DESCRIPTION:Wednesdays\, 8:15 – 9am Sculpt: Focuses on strength training to build strong\, lean muscles
URL:https://vermontsun.com/event/jazzercise-sculpt-addtl-fee/2025-01-29/
LOCATION:VT Sun Middlebury\, 812 Exchange Street\, Middlebury\, VT\, 05753\, United States
CATEGORIES:Jazzercise
END:VEVENT
BEGIN:VEVENT
DTSTART;TZID=America/New_York:20250129T161500
DTEND;TZID=America/New_York:20250129T171500
DTSTAMP:20260423T061703
CREATED:20241007T163521Z
LAST-MODIFIED:20251204T115102Z
UID:10012208-1738167300-1738170900@vermontsun.com
SUMMARY:Jazzercise Cardio Sculpt (Addt’l fee)
DESCRIPTION:Wednesdays\, 4:15 – 5pm Cardio Sculpt: High-energy dance cardio\, followed by strength training
URL:https://vermontsun.com/event/jazzercise-cardio-sculpt-addtl-fee/2025-01-29/
LOCATION:VT Sun Middlebury\, 812 Exchange Street\, Middlebury\, VT\, 05753\, United States
CATEGORIES:Jazzercise
END:VEVENT
BEGIN:VEVENT
DTSTART;TZID=America/New_York:20250130T173000
DTEND;TZID=America/New_York:20250130T183000
DTSTAMP:20260423T061703
CREATED:20241007T163635Z
LAST-MODIFIED:20251204T113115Z
UID:10012726-1738258200-1738261800@vermontsun.com
SUMMARY:Jazzercise Cardio Sculpt (Addt’l fee)
DESCRIPTION:Thursdays\, 5:30 – 6:30pm Cardio Sculpt: High-energy dance cardio\, followed by strength training
URL:https://vermontsun.com/event/jazzercise-cardio-sculpt-addtl-fee-2/2025-01-30/
LOCATION:VT Sun Middlebury\, 812 Exchange Street\, Middlebury\, VT\, 05753\, United States
CATEGORIES:Jazzercise
END:VEVENT
BEGIN:VEVENT
DTSTART;TZID=America/New_York:20250131T081500
DTEND;TZID=America/New_York:20250131T085000
DTSTAMP:20260423T061703
CREATED:20241007T163759Z
LAST-MODIFIED:20251204T113017Z
UID:10013244-1738311300-1738313400@vermontsun.com
SUMMARY:Jazzercise Cardio Sculpt (Addt’l fee)
DESCRIPTION:Fridays\, 8:15 – 8:50am Cardio Sculpt: High-energy dance cardio\, followed by strength training
URL:https://vermontsun.com/event/jazzercise-cardio-sculpt-addtl-fee-3/2025-01-31/
LOCATION:VT Sun Middlebury\, 812 Exchange Street\, Middlebury\, VT\, 05753\, United States
CATEGORIES:Jazzercise
END:VEVENT
BEGIN:VEVENT
DTSTART;TZID=America/New_York:20250201T080000
DTEND;TZID=America/New_York:20250201T083000
DTSTAMP:20260423T061703
CREATED:20241007T163857Z
LAST-MODIFIED:20241007T163857Z
UID:10013762-1738396800-1738398600@vermontsun.com
SUMMARY:Jazzercise Stretch (Addt’l fee)
DESCRIPTION:Saturdays\, 8:00 – 8:30am Stretch: Increase flexibility and relieve soreness in this dance-based restorative class.
URL:https://vermontsun.com/event/jazzercise-stretch-addtl-fee/2025-02-01/
LOCATION:VT Sun Middlebury\, 812 Exchange Street\, Middlebury\, VT\, 05753\, United States
CATEGORIES:Jazzercise
END:VEVENT
BEGIN:VEVENT
DTSTART;TZID=America/New_York:20250201T083000
DTEND;TZID=America/New_York:20250201T090000
DTSTAMP:20260423T061703
CREATED:20241007T164008Z
LAST-MODIFIED:20241008T143010Z
UID:10014280-1738398600-1738400400@vermontsun.com
SUMMARY:Jazzercise Cardio Sculpt (Addt’l fee)
DESCRIPTION:Saturdays\, 8:30 – 9:00am Cardio Sculpt: High-energy dance cardio\, followed by strength training
URL:https://vermontsun.com/event/jazzercise-cardio-sculpt-addtl-fee-4/2025-02-01/
LOCATION:VT Sun Middlebury\, 812 Exchange Street\, Middlebury\, VT\, 05753\, United States
CATEGORIES:Jazzercise
END:VEVENT
BEGIN:VEVENT
DTSTART;TZID=America/New_York:20250203T081500
DTEND;TZID=America/New_York:20250203T084500
DTSTAMP:20260423T061703
CREATED:20230313T125655Z
LAST-MODIFIED:20260125T152007Z
UID:10010655-1738570500-1738572300@vermontsun.com
SUMMARY:Jazzercise Cardio (Addt’l fee)
DESCRIPTION:Mondays\, 8:15 – 8:45am Cardio: Thirty minutes of high-energy dance cardio
URL:https://vermontsun.com/event/pop-up-spin-sign-up-required/2025-02-03/
LOCATION:VT Sun Middlebury\, 812 Exchange Street\, Middlebury\, VT\, 05753\, United States
CATEGORIES:Jazzercise
END:VEVENT
BEGIN:VEVENT
DTSTART;TZID=America/New_York:20250204T173000
DTEND;TZID=America/New_York:20250204T183000
DTSTAMP:20260423T061703
CREATED:20241007T162951Z
LAST-MODIFIED:20241030T141004Z
UID:10011173-1738690200-1738693800@vermontsun.com
SUMMARY:Jazzercise Power Sculpt (Addt’l fee)
DESCRIPTION:Tuesdays\, 5:30 – 6:30pm Power Sculpt: Blends heart-pumping bursts of dance cardio with powerful strength training\, followed by a specialized toning segment
URL:https://vermontsun.com/event/jazzercise-power-sculpt-addtl-fee/2025-02-04/
LOCATION:VT Sun Middlebury\, 812 Exchange Street\, Middlebury\, VT\, 05753\, United States
CATEGORIES:Jazzercise
END:VEVENT
END:VCALENDAR