BEGIN:VCALENDAR
VERSION:2.0
PRODID:-//Vermont Sun Fitness Centers - ECPv6.15.20//NONSGML v1.0//EN
CALSCALE:GREGORIAN
METHOD:PUBLISH
X-ORIGINAL-URL:https://vermontsun.com
X-WR-CALDESC:Events for Vermont Sun Fitness Centers
REFRESH-INTERVAL;VALUE=DURATION:PT1H
X-Robots-Tag:noindex
X-PUBLISHED-TTL:PT1H
BEGIN:VTIMEZONE
TZID:America/New_York
BEGIN:DAYLIGHT
TZOFFSETFROM:-0500
TZOFFSETTO:-0400
TZNAME:EDT
DTSTART:20240310T070000
END:DAYLIGHT
BEGIN:STANDARD
TZOFFSETFROM:-0400
TZOFFSETTO:-0500
TZNAME:EST
DTSTART:20241103T060000
END:STANDARD
BEGIN:DAYLIGHT
TZOFFSETFROM:-0500
TZOFFSETTO:-0400
TZNAME:EDT
DTSTART:20250309T070000
END:DAYLIGHT
BEGIN:STANDARD
TZOFFSETFROM:-0400
TZOFFSETTO:-0500
TZNAME:EST
DTSTART:20251102T060000
END:STANDARD
BEGIN:DAYLIGHT
TZOFFSETFROM:-0500
TZOFFSETTO:-0400
TZNAME:EDT
DTSTART:20260308T070000
END:DAYLIGHT
BEGIN:STANDARD
TZOFFSETFROM:-0400
TZOFFSETTO:-0500
TZNAME:EST
DTSTART:20261101T060000
END:STANDARD
END:VTIMEZONE
BEGIN:VEVENT
DTSTART;TZID=America/New_York:20250919T081500
DTEND;TZID=America/New_York:20250919T085000
DTSTAMP:20260422T180231
CREATED:20241007T163759Z
LAST-MODIFIED:20251204T113017Z
UID:10013277-1758269700-1758271800@vermontsun.com
SUMMARY:Jazzercise Cardio Sculpt (Addt’l fee)
DESCRIPTION:Fridays\, 8:15 – 8:50am Cardio Sculpt: High-energy dance cardio\, followed by strength training
URL:https://vermontsun.com/event/jazzercise-cardio-sculpt-addtl-fee-3/2025-09-19/
LOCATION:VT Sun Middlebury\, 812 Exchange Street\, Middlebury\, VT\, 05753\, United States
CATEGORIES:Jazzercise
END:VEVENT
BEGIN:VEVENT
DTSTART;TZID=America/New_York:20250920T080000
DTEND;TZID=America/New_York:20250920T083000
DTSTAMP:20260422T180231
CREATED:20241007T163857Z
LAST-MODIFIED:20241007T163857Z
UID:10013795-1758355200-1758357000@vermontsun.com
SUMMARY:Jazzercise Stretch (Addt’l fee)
DESCRIPTION:Saturdays\, 8:00 – 8:30am Stretch: Increase flexibility and relieve soreness in this dance-based restorative class.
URL:https://vermontsun.com/event/jazzercise-stretch-addtl-fee/2025-09-20/
LOCATION:VT Sun Middlebury\, 812 Exchange Street\, Middlebury\, VT\, 05753\, United States
CATEGORIES:Jazzercise
END:VEVENT
BEGIN:VEVENT
DTSTART;TZID=America/New_York:20250920T083000
DTEND;TZID=America/New_York:20250920T090000
DTSTAMP:20260422T180231
CREATED:20241007T164008Z
LAST-MODIFIED:20241008T143010Z
UID:10014313-1758357000-1758358800@vermontsun.com
SUMMARY:Jazzercise Cardio Sculpt (Addt’l fee)
DESCRIPTION:Saturdays\, 8:30 – 9:00am Cardio Sculpt: High-energy dance cardio\, followed by strength training
URL:https://vermontsun.com/event/jazzercise-cardio-sculpt-addtl-fee-4/2025-09-20/
LOCATION:VT Sun Middlebury\, 812 Exchange Street\, Middlebury\, VT\, 05753\, United States
CATEGORIES:Jazzercise
END:VEVENT
BEGIN:VEVENT
DTSTART;TZID=America/New_York:20250922T081500
DTEND;TZID=America/New_York:20250922T084500
DTSTAMP:20260422T180231
CREATED:20230313T125655Z
LAST-MODIFIED:20260125T152007Z
UID:10010688-1758528900-1758530700@vermontsun.com
SUMMARY:Jazzercise Cardio (Addt’l fee)
DESCRIPTION:Mondays\, 8:15 – 8:45am Cardio: Thirty minutes of high-energy dance cardio
URL:https://vermontsun.com/event/pop-up-spin-sign-up-required/2025-09-22/
LOCATION:VT Sun Middlebury\, 812 Exchange Street\, Middlebury\, VT\, 05753\, United States
CATEGORIES:Jazzercise
END:VEVENT
BEGIN:VEVENT
DTSTART;TZID=America/New_York:20250923T173000
DTEND;TZID=America/New_York:20250923T183000
DTSTAMP:20260422T180231
CREATED:20241007T162951Z
LAST-MODIFIED:20241030T141004Z
UID:10011206-1758648600-1758652200@vermontsun.com
SUMMARY:Jazzercise Power Sculpt (Addt’l fee)
DESCRIPTION:Tuesdays\, 5:30 – 6:30pm Power Sculpt: Blends heart-pumping bursts of dance cardio with powerful strength training\, followed by a specialized toning segment
URL:https://vermontsun.com/event/jazzercise-power-sculpt-addtl-fee/2025-09-23/
LOCATION:VT Sun Middlebury\, 812 Exchange Street\, Middlebury\, VT\, 05753\, United States
CATEGORIES:Jazzercise
END:VEVENT
BEGIN:VEVENT
DTSTART;TZID=America/New_York:20250924T081500
DTEND;TZID=America/New_York:20250924T090000
DTSTAMP:20260422T180231
CREATED:20241007T163103Z
LAST-MODIFIED:20241030T141350Z
UID:10011724-1758701700-1758704400@vermontsun.com
SUMMARY:Jazzercise Sculpt (Addt’l fee)
DESCRIPTION:Wednesdays\, 8:15 – 9am Sculpt: Focuses on strength training to build strong\, lean muscles
URL:https://vermontsun.com/event/jazzercise-sculpt-addtl-fee/2025-09-24/
LOCATION:VT Sun Middlebury\, 812 Exchange Street\, Middlebury\, VT\, 05753\, United States
CATEGORIES:Jazzercise
END:VEVENT
BEGIN:VEVENT
DTSTART;TZID=America/New_York:20250924T161500
DTEND;TZID=America/New_York:20250924T171500
DTSTAMP:20260422T180231
CREATED:20241007T163521Z
LAST-MODIFIED:20251204T115102Z
UID:10012242-1758730500-1758734100@vermontsun.com
SUMMARY:Jazzercise Cardio Sculpt (Addt’l fee)
DESCRIPTION:Wednesdays\, 4:15 – 5pm Cardio Sculpt: High-energy dance cardio\, followed by strength training
URL:https://vermontsun.com/event/jazzercise-cardio-sculpt-addtl-fee/2025-09-24/
LOCATION:VT Sun Middlebury\, 812 Exchange Street\, Middlebury\, VT\, 05753\, United States
CATEGORIES:Jazzercise
END:VEVENT
BEGIN:VEVENT
DTSTART;TZID=America/New_York:20250925T173000
DTEND;TZID=America/New_York:20250925T183000
DTSTAMP:20260422T180231
CREATED:20241007T163635Z
LAST-MODIFIED:20251204T113115Z
UID:10012760-1758821400-1758825000@vermontsun.com
SUMMARY:Jazzercise Cardio Sculpt (Addt’l fee)
DESCRIPTION:Thursdays\, 5:30 – 6:30pm Cardio Sculpt: High-energy dance cardio\, followed by strength training
URL:https://vermontsun.com/event/jazzercise-cardio-sculpt-addtl-fee-2/2025-09-25/
LOCATION:VT Sun Middlebury\, 812 Exchange Street\, Middlebury\, VT\, 05753\, United States
CATEGORIES:Jazzercise
END:VEVENT
BEGIN:VEVENT
DTSTART;TZID=America/New_York:20250926T081500
DTEND;TZID=America/New_York:20250926T085000
DTSTAMP:20260422T180231
CREATED:20241007T163759Z
LAST-MODIFIED:20251204T113017Z
UID:10013278-1758874500-1758876600@vermontsun.com
SUMMARY:Jazzercise Cardio Sculpt (Addt’l fee)
DESCRIPTION:Fridays\, 8:15 – 8:50am Cardio Sculpt: High-energy dance cardio\, followed by strength training
URL:https://vermontsun.com/event/jazzercise-cardio-sculpt-addtl-fee-3/2025-09-26/
LOCATION:VT Sun Middlebury\, 812 Exchange Street\, Middlebury\, VT\, 05753\, United States
CATEGORIES:Jazzercise
END:VEVENT
BEGIN:VEVENT
DTSTART;TZID=America/New_York:20250927T080000
DTEND;TZID=America/New_York:20250927T083000
DTSTAMP:20260422T180231
CREATED:20241007T163857Z
LAST-MODIFIED:20241007T163857Z
UID:10013796-1758960000-1758961800@vermontsun.com
SUMMARY:Jazzercise Stretch (Addt’l fee)
DESCRIPTION:Saturdays\, 8:00 – 8:30am Stretch: Increase flexibility and relieve soreness in this dance-based restorative class.
URL:https://vermontsun.com/event/jazzercise-stretch-addtl-fee/2025-09-27/
LOCATION:VT Sun Middlebury\, 812 Exchange Street\, Middlebury\, VT\, 05753\, United States
CATEGORIES:Jazzercise
END:VEVENT
BEGIN:VEVENT
DTSTART;TZID=America/New_York:20250927T083000
DTEND;TZID=America/New_York:20250927T090000
DTSTAMP:20260422T180231
CREATED:20241007T164008Z
LAST-MODIFIED:20241008T143010Z
UID:10014314-1758961800-1758963600@vermontsun.com
SUMMARY:Jazzercise Cardio Sculpt (Addt’l fee)
DESCRIPTION:Saturdays\, 8:30 – 9:00am Cardio Sculpt: High-energy dance cardio\, followed by strength training
URL:https://vermontsun.com/event/jazzercise-cardio-sculpt-addtl-fee-4/2025-09-27/
LOCATION:VT Sun Middlebury\, 812 Exchange Street\, Middlebury\, VT\, 05753\, United States
CATEGORIES:Jazzercise
END:VEVENT
BEGIN:VEVENT
DTSTART;TZID=America/New_York:20250929T081500
DTEND;TZID=America/New_York:20250929T084500
DTSTAMP:20260422T180231
CREATED:20230313T125655Z
LAST-MODIFIED:20260125T152007Z
UID:10010689-1759133700-1759135500@vermontsun.com
SUMMARY:Jazzercise Cardio (Addt’l fee)
DESCRIPTION:Mondays\, 8:15 – 8:45am Cardio: Thirty minutes of high-energy dance cardio
URL:https://vermontsun.com/event/pop-up-spin-sign-up-required/2025-09-29/
LOCATION:VT Sun Middlebury\, 812 Exchange Street\, Middlebury\, VT\, 05753\, United States
CATEGORIES:Jazzercise
END:VEVENT
BEGIN:VEVENT
DTSTART;TZID=America/New_York:20250930T173000
DTEND;TZID=America/New_York:20250930T183000
DTSTAMP:20260422T180231
CREATED:20241007T162951Z
LAST-MODIFIED:20241030T141004Z
UID:10011207-1759253400-1759257000@vermontsun.com
SUMMARY:Jazzercise Power Sculpt (Addt’l fee)
DESCRIPTION:Tuesdays\, 5:30 – 6:30pm Power Sculpt: Blends heart-pumping bursts of dance cardio with powerful strength training\, followed by a specialized toning segment
URL:https://vermontsun.com/event/jazzercise-power-sculpt-addtl-fee/2025-09-30/
LOCATION:VT Sun Middlebury\, 812 Exchange Street\, Middlebury\, VT\, 05753\, United States
CATEGORIES:Jazzercise
END:VEVENT
BEGIN:VEVENT
DTSTART;TZID=America/New_York:20251001T081500
DTEND;TZID=America/New_York:20251001T090000
DTSTAMP:20260422T180231
CREATED:20241007T163103Z
LAST-MODIFIED:20241030T141350Z
UID:10011725-1759306500-1759309200@vermontsun.com
SUMMARY:Jazzercise Sculpt (Addt’l fee)
DESCRIPTION:Wednesdays\, 8:15 – 9am Sculpt: Focuses on strength training to build strong\, lean muscles
URL:https://vermontsun.com/event/jazzercise-sculpt-addtl-fee/2025-10-01/
LOCATION:VT Sun Middlebury\, 812 Exchange Street\, Middlebury\, VT\, 05753\, United States
CATEGORIES:Jazzercise
END:VEVENT
BEGIN:VEVENT
DTSTART;TZID=America/New_York:20251001T161500
DTEND;TZID=America/New_York:20251001T171500
DTSTAMP:20260422T180231
CREATED:20241007T163521Z
LAST-MODIFIED:20251204T115102Z
UID:10012243-1759335300-1759338900@vermontsun.com
SUMMARY:Jazzercise Cardio Sculpt (Addt’l fee)
DESCRIPTION:Wednesdays\, 4:15 – 5pm Cardio Sculpt: High-energy dance cardio\, followed by strength training
URL:https://vermontsun.com/event/jazzercise-cardio-sculpt-addtl-fee/2025-10-01/
LOCATION:VT Sun Middlebury\, 812 Exchange Street\, Middlebury\, VT\, 05753\, United States
CATEGORIES:Jazzercise
END:VEVENT
BEGIN:VEVENT
DTSTART;TZID=America/New_York:20251002T173000
DTEND;TZID=America/New_York:20251002T183000
DTSTAMP:20260422T180231
CREATED:20241007T163635Z
LAST-MODIFIED:20251204T113115Z
UID:10012761-1759426200-1759429800@vermontsun.com
SUMMARY:Jazzercise Cardio Sculpt (Addt’l fee)
DESCRIPTION:Thursdays\, 5:30 – 6:30pm Cardio Sculpt: High-energy dance cardio\, followed by strength training
URL:https://vermontsun.com/event/jazzercise-cardio-sculpt-addtl-fee-2/2025-10-02/
LOCATION:VT Sun Middlebury\, 812 Exchange Street\, Middlebury\, VT\, 05753\, United States
CATEGORIES:Jazzercise
END:VEVENT
BEGIN:VEVENT
DTSTART;TZID=America/New_York:20251003T081500
DTEND;TZID=America/New_York:20251003T085000
DTSTAMP:20260422T180231
CREATED:20241007T163759Z
LAST-MODIFIED:20251204T113017Z
UID:10013279-1759479300-1759481400@vermontsun.com
SUMMARY:Jazzercise Cardio Sculpt (Addt’l fee)
DESCRIPTION:Fridays\, 8:15 – 8:50am Cardio Sculpt: High-energy dance cardio\, followed by strength training
URL:https://vermontsun.com/event/jazzercise-cardio-sculpt-addtl-fee-3/2025-10-03/
LOCATION:VT Sun Middlebury\, 812 Exchange Street\, Middlebury\, VT\, 05753\, United States
CATEGORIES:Jazzercise
END:VEVENT
BEGIN:VEVENT
DTSTART;TZID=America/New_York:20251004T080000
DTEND;TZID=America/New_York:20251004T083000
DTSTAMP:20260422T180231
CREATED:20241007T163857Z
LAST-MODIFIED:20241007T163857Z
UID:10013797-1759564800-1759566600@vermontsun.com
SUMMARY:Jazzercise Stretch (Addt’l fee)
DESCRIPTION:Saturdays\, 8:00 – 8:30am Stretch: Increase flexibility and relieve soreness in this dance-based restorative class.
URL:https://vermontsun.com/event/jazzercise-stretch-addtl-fee/2025-10-04/
LOCATION:VT Sun Middlebury\, 812 Exchange Street\, Middlebury\, VT\, 05753\, United States
CATEGORIES:Jazzercise
END:VEVENT
BEGIN:VEVENT
DTSTART;TZID=America/New_York:20251004T083000
DTEND;TZID=America/New_York:20251004T090000
DTSTAMP:20260422T180231
CREATED:20241007T164008Z
LAST-MODIFIED:20241008T143010Z
UID:10014315-1759566600-1759568400@vermontsun.com
SUMMARY:Jazzercise Cardio Sculpt (Addt’l fee)
DESCRIPTION:Saturdays\, 8:30 – 9:00am Cardio Sculpt: High-energy dance cardio\, followed by strength training
URL:https://vermontsun.com/event/jazzercise-cardio-sculpt-addtl-fee-4/2025-10-04/
LOCATION:VT Sun Middlebury\, 812 Exchange Street\, Middlebury\, VT\, 05753\, United States
CATEGORIES:Jazzercise
END:VEVENT
BEGIN:VEVENT
DTSTART;TZID=America/New_York:20251006T081500
DTEND;TZID=America/New_York:20251006T084500
DTSTAMP:20260422T180231
CREATED:20230313T125655Z
LAST-MODIFIED:20260125T152007Z
UID:10010690-1759738500-1759740300@vermontsun.com
SUMMARY:Jazzercise Cardio (Addt’l fee)
DESCRIPTION:Mondays\, 8:15 – 8:45am Cardio: Thirty minutes of high-energy dance cardio
URL:https://vermontsun.com/event/pop-up-spin-sign-up-required/2025-10-06/
LOCATION:VT Sun Middlebury\, 812 Exchange Street\, Middlebury\, VT\, 05753\, United States
CATEGORIES:Jazzercise
END:VEVENT
BEGIN:VEVENT
DTSTART;TZID=America/New_York:20251007T173000
DTEND;TZID=America/New_York:20251007T183000
DTSTAMP:20260422T180231
CREATED:20241007T162951Z
LAST-MODIFIED:20241030T141004Z
UID:10011208-1759858200-1759861800@vermontsun.com
SUMMARY:Jazzercise Power Sculpt (Addt’l fee)
DESCRIPTION:Tuesdays\, 5:30 – 6:30pm Power Sculpt: Blends heart-pumping bursts of dance cardio with powerful strength training\, followed by a specialized toning segment
URL:https://vermontsun.com/event/jazzercise-power-sculpt-addtl-fee/2025-10-07/
LOCATION:VT Sun Middlebury\, 812 Exchange Street\, Middlebury\, VT\, 05753\, United States
CATEGORIES:Jazzercise
END:VEVENT
BEGIN:VEVENT
DTSTART;TZID=America/New_York:20251008T081500
DTEND;TZID=America/New_York:20251008T090000
DTSTAMP:20260422T180231
CREATED:20241007T163103Z
LAST-MODIFIED:20241030T141350Z
UID:10011726-1759911300-1759914000@vermontsun.com
SUMMARY:Jazzercise Sculpt (Addt’l fee)
DESCRIPTION:Wednesdays\, 8:15 – 9am Sculpt: Focuses on strength training to build strong\, lean muscles
URL:https://vermontsun.com/event/jazzercise-sculpt-addtl-fee/2025-10-08/
LOCATION:VT Sun Middlebury\, 812 Exchange Street\, Middlebury\, VT\, 05753\, United States
CATEGORIES:Jazzercise
END:VEVENT
BEGIN:VEVENT
DTSTART;TZID=America/New_York:20251008T161500
DTEND;TZID=America/New_York:20251008T171500
DTSTAMP:20260422T180231
CREATED:20241007T163521Z
LAST-MODIFIED:20251204T115102Z
UID:10012244-1759940100-1759943700@vermontsun.com
SUMMARY:Jazzercise Cardio Sculpt (Addt’l fee)
DESCRIPTION:Wednesdays\, 4:15 – 5pm Cardio Sculpt: High-energy dance cardio\, followed by strength training
URL:https://vermontsun.com/event/jazzercise-cardio-sculpt-addtl-fee/2025-10-08/
LOCATION:VT Sun Middlebury\, 812 Exchange Street\, Middlebury\, VT\, 05753\, United States
CATEGORIES:Jazzercise
END:VEVENT
BEGIN:VEVENT
DTSTART;TZID=America/New_York:20251009T173000
DTEND;TZID=America/New_York:20251009T183000
DTSTAMP:20260422T180231
CREATED:20241007T163635Z
LAST-MODIFIED:20251204T113115Z
UID:10012762-1760031000-1760034600@vermontsun.com
SUMMARY:Jazzercise Cardio Sculpt (Addt’l fee)
DESCRIPTION:Thursdays\, 5:30 – 6:30pm Cardio Sculpt: High-energy dance cardio\, followed by strength training
URL:https://vermontsun.com/event/jazzercise-cardio-sculpt-addtl-fee-2/2025-10-09/
LOCATION:VT Sun Middlebury\, 812 Exchange Street\, Middlebury\, VT\, 05753\, United States
CATEGORIES:Jazzercise
END:VEVENT
BEGIN:VEVENT
DTSTART;TZID=America/New_York:20251010T081500
DTEND;TZID=America/New_York:20251010T085000
DTSTAMP:20260422T180231
CREATED:20241007T163759Z
LAST-MODIFIED:20251204T113017Z
UID:10013280-1760084100-1760086200@vermontsun.com
SUMMARY:Jazzercise Cardio Sculpt (Addt’l fee)
DESCRIPTION:Fridays\, 8:15 – 8:50am Cardio Sculpt: High-energy dance cardio\, followed by strength training
URL:https://vermontsun.com/event/jazzercise-cardio-sculpt-addtl-fee-3/2025-10-10/
LOCATION:VT Sun Middlebury\, 812 Exchange Street\, Middlebury\, VT\, 05753\, United States
CATEGORIES:Jazzercise
END:VEVENT
BEGIN:VEVENT
DTSTART;TZID=America/New_York:20251011T080000
DTEND;TZID=America/New_York:20251011T083000
DTSTAMP:20260422T180231
CREATED:20241007T163857Z
LAST-MODIFIED:20241007T163857Z
UID:10013798-1760169600-1760171400@vermontsun.com
SUMMARY:Jazzercise Stretch (Addt’l fee)
DESCRIPTION:Saturdays\, 8:00 – 8:30am Stretch: Increase flexibility and relieve soreness in this dance-based restorative class.
URL:https://vermontsun.com/event/jazzercise-stretch-addtl-fee/2025-10-11/
LOCATION:VT Sun Middlebury\, 812 Exchange Street\, Middlebury\, VT\, 05753\, United States
CATEGORIES:Jazzercise
END:VEVENT
BEGIN:VEVENT
DTSTART;TZID=America/New_York:20251011T083000
DTEND;TZID=America/New_York:20251011T090000
DTSTAMP:20260422T180231
CREATED:20241007T164008Z
LAST-MODIFIED:20241008T143010Z
UID:10014316-1760171400-1760173200@vermontsun.com
SUMMARY:Jazzercise Cardio Sculpt (Addt’l fee)
DESCRIPTION:Saturdays\, 8:30 – 9:00am Cardio Sculpt: High-energy dance cardio\, followed by strength training
URL:https://vermontsun.com/event/jazzercise-cardio-sculpt-addtl-fee-4/2025-10-11/
LOCATION:VT Sun Middlebury\, 812 Exchange Street\, Middlebury\, VT\, 05753\, United States
CATEGORIES:Jazzercise
END:VEVENT
BEGIN:VEVENT
DTSTART;TZID=America/New_York:20251013T081500
DTEND;TZID=America/New_York:20251013T084500
DTSTAMP:20260422T180231
CREATED:20230313T125655Z
LAST-MODIFIED:20260125T152007Z
UID:10010691-1760343300-1760345100@vermontsun.com
SUMMARY:Jazzercise Cardio (Addt’l fee)
DESCRIPTION:Mondays\, 8:15 – 8:45am Cardio: Thirty minutes of high-energy dance cardio
URL:https://vermontsun.com/event/pop-up-spin-sign-up-required/2025-10-13/
LOCATION:VT Sun Middlebury\, 812 Exchange Street\, Middlebury\, VT\, 05753\, United States
CATEGORIES:Jazzercise
END:VEVENT
BEGIN:VEVENT
DTSTART;TZID=America/New_York:20251014T173000
DTEND;TZID=America/New_York:20251014T183000
DTSTAMP:20260422T180231
CREATED:20241007T162951Z
LAST-MODIFIED:20241030T141004Z
UID:10011209-1760463000-1760466600@vermontsun.com
SUMMARY:Jazzercise Power Sculpt (Addt’l fee)
DESCRIPTION:Tuesdays\, 5:30 – 6:30pm Power Sculpt: Blends heart-pumping bursts of dance cardio with powerful strength training\, followed by a specialized toning segment
URL:https://vermontsun.com/event/jazzercise-power-sculpt-addtl-fee/2025-10-14/
LOCATION:VT Sun Middlebury\, 812 Exchange Street\, Middlebury\, VT\, 05753\, United States
CATEGORIES:Jazzercise
END:VEVENT
BEGIN:VEVENT
DTSTART;TZID=America/New_York:20251015T081500
DTEND;TZID=America/New_York:20251015T090000
DTSTAMP:20260422T180231
CREATED:20241007T163103Z
LAST-MODIFIED:20241030T141350Z
UID:10011727-1760516100-1760518800@vermontsun.com
SUMMARY:Jazzercise Sculpt (Addt’l fee)
DESCRIPTION:Wednesdays\, 8:15 – 9am Sculpt: Focuses on strength training to build strong\, lean muscles
URL:https://vermontsun.com/event/jazzercise-sculpt-addtl-fee/2025-10-15/
LOCATION:VT Sun Middlebury\, 812 Exchange Street\, Middlebury\, VT\, 05753\, United States
CATEGORIES:Jazzercise
END:VEVENT
END:VCALENDAR