BEGIN:VCALENDAR
VERSION:2.0
PRODID:-//Vermont Sun Fitness Centers - ECPv6.15.20//NONSGML v1.0//EN
CALSCALE:GREGORIAN
METHOD:PUBLISH
X-WR-CALNAME:Vermont Sun Fitness Centers
X-ORIGINAL-URL:https://vermontsun.com
X-WR-CALDESC:Events for Vermont Sun Fitness Centers
REFRESH-INTERVAL;VALUE=DURATION:PT1H
X-Robots-Tag:noindex
X-PUBLISHED-TTL:PT1H
BEGIN:VTIMEZONE
TZID:America/New_York
BEGIN:DAYLIGHT
TZOFFSETFROM:-0500
TZOFFSETTO:-0400
TZNAME:EDT
DTSTART:20240310T070000
END:DAYLIGHT
BEGIN:STANDARD
TZOFFSETFROM:-0400
TZOFFSETTO:-0500
TZNAME:EST
DTSTART:20241103T060000
END:STANDARD
BEGIN:DAYLIGHT
TZOFFSETFROM:-0500
TZOFFSETTO:-0400
TZNAME:EDT
DTSTART:20250309T070000
END:DAYLIGHT
BEGIN:STANDARD
TZOFFSETFROM:-0400
TZOFFSETTO:-0500
TZNAME:EST
DTSTART:20251102T060000
END:STANDARD
BEGIN:DAYLIGHT
TZOFFSETFROM:-0500
TZOFFSETTO:-0400
TZNAME:EDT
DTSTART:20260308T070000
END:DAYLIGHT
BEGIN:STANDARD
TZOFFSETFROM:-0400
TZOFFSETTO:-0500
TZNAME:EST
DTSTART:20261101T060000
END:STANDARD
END:VTIMEZONE
BEGIN:VEVENT
DTSTART;TZID=America/New_York:20250718T081500
DTEND;TZID=America/New_York:20250718T085000
DTSTAMP:20260422T190459
CREATED:20241007T163759Z
LAST-MODIFIED:20251204T113017Z
UID:10013268-1752826500-1752828600@vermontsun.com
SUMMARY:Jazzercise Cardio Sculpt (Addt’l fee)
DESCRIPTION:Fridays\, 8:15 – 8:50am Cardio Sculpt: High-energy dance cardio\, followed by strength training
URL:https://vermontsun.com/event/jazzercise-cardio-sculpt-addtl-fee-3/2025-07-18/
LOCATION:VT Sun Middlebury\, 812 Exchange Street\, Middlebury\, VT\, 05753\, United States
CATEGORIES:Jazzercise
END:VEVENT
BEGIN:VEVENT
DTSTART;TZID=America/New_York:20250719T080000
DTEND;TZID=America/New_York:20250719T083000
DTSTAMP:20260422T190459
CREATED:20241007T163857Z
LAST-MODIFIED:20241007T163857Z
UID:10013786-1752912000-1752913800@vermontsun.com
SUMMARY:Jazzercise Stretch (Addt’l fee)
DESCRIPTION:Saturdays\, 8:00 – 8:30am Stretch: Increase flexibility and relieve soreness in this dance-based restorative class.
URL:https://vermontsun.com/event/jazzercise-stretch-addtl-fee/2025-07-19/
LOCATION:VT Sun Middlebury\, 812 Exchange Street\, Middlebury\, VT\, 05753\, United States
CATEGORIES:Jazzercise
END:VEVENT
BEGIN:VEVENT
DTSTART;TZID=America/New_York:20250719T083000
DTEND;TZID=America/New_York:20250719T090000
DTSTAMP:20260422T190459
CREATED:20241007T164008Z
LAST-MODIFIED:20241008T143010Z
UID:10014304-1752913800-1752915600@vermontsun.com
SUMMARY:Jazzercise Cardio Sculpt (Addt’l fee)
DESCRIPTION:Saturdays\, 8:30 – 9:00am Cardio Sculpt: High-energy dance cardio\, followed by strength training
URL:https://vermontsun.com/event/jazzercise-cardio-sculpt-addtl-fee-4/2025-07-19/
LOCATION:VT Sun Middlebury\, 812 Exchange Street\, Middlebury\, VT\, 05753\, United States
CATEGORIES:Jazzercise
END:VEVENT
BEGIN:VEVENT
DTSTART;TZID=America/New_York:20250721T081500
DTEND;TZID=America/New_York:20250721T084500
DTSTAMP:20260422T190459
CREATED:20230313T125655Z
LAST-MODIFIED:20260125T152007Z
UID:10010679-1753085700-1753087500@vermontsun.com
SUMMARY:Jazzercise Cardio (Addt’l fee)
DESCRIPTION:Mondays\, 8:15 – 8:45am Cardio: Thirty minutes of high-energy dance cardio
URL:https://vermontsun.com/event/pop-up-spin-sign-up-required/2025-07-21/
LOCATION:VT Sun Middlebury\, 812 Exchange Street\, Middlebury\, VT\, 05753\, United States
CATEGORIES:Jazzercise
END:VEVENT
BEGIN:VEVENT
DTSTART;TZID=America/New_York:20250722T173000
DTEND;TZID=America/New_York:20250722T183000
DTSTAMP:20260422T190459
CREATED:20241007T162951Z
LAST-MODIFIED:20241030T141004Z
UID:10011197-1753205400-1753209000@vermontsun.com
SUMMARY:Jazzercise Power Sculpt (Addt’l fee)
DESCRIPTION:Tuesdays\, 5:30 – 6:30pm Power Sculpt: Blends heart-pumping bursts of dance cardio with powerful strength training\, followed by a specialized toning segment
URL:https://vermontsun.com/event/jazzercise-power-sculpt-addtl-fee/2025-07-22/
LOCATION:VT Sun Middlebury\, 812 Exchange Street\, Middlebury\, VT\, 05753\, United States
CATEGORIES:Jazzercise
END:VEVENT
BEGIN:VEVENT
DTSTART;TZID=America/New_York:20250723T081500
DTEND;TZID=America/New_York:20250723T090000
DTSTAMP:20260422T190459
CREATED:20241007T163103Z
LAST-MODIFIED:20241030T141350Z
UID:10011715-1753258500-1753261200@vermontsun.com
SUMMARY:Jazzercise Sculpt (Addt’l fee)
DESCRIPTION:Wednesdays\, 8:15 – 9am Sculpt: Focuses on strength training to build strong\, lean muscles
URL:https://vermontsun.com/event/jazzercise-sculpt-addtl-fee/2025-07-23/
LOCATION:VT Sun Middlebury\, 812 Exchange Street\, Middlebury\, VT\, 05753\, United States
CATEGORIES:Jazzercise
END:VEVENT
BEGIN:VEVENT
DTSTART;TZID=America/New_York:20250723T161500
DTEND;TZID=America/New_York:20250723T171500
DTSTAMP:20260422T190459
CREATED:20241007T163521Z
LAST-MODIFIED:20251204T115102Z
UID:10012233-1753287300-1753290900@vermontsun.com
SUMMARY:Jazzercise Cardio Sculpt (Addt’l fee)
DESCRIPTION:Wednesdays\, 4:15 – 5pm Cardio Sculpt: High-energy dance cardio\, followed by strength training
URL:https://vermontsun.com/event/jazzercise-cardio-sculpt-addtl-fee/2025-07-23/
LOCATION:VT Sun Middlebury\, 812 Exchange Street\, Middlebury\, VT\, 05753\, United States
CATEGORIES:Jazzercise
END:VEVENT
BEGIN:VEVENT
DTSTART;TZID=America/New_York:20250724T173000
DTEND;TZID=America/New_York:20250724T183000
DTSTAMP:20260422T190459
CREATED:20241007T163635Z
LAST-MODIFIED:20251204T113115Z
UID:10012751-1753378200-1753381800@vermontsun.com
SUMMARY:Jazzercise Cardio Sculpt (Addt’l fee)
DESCRIPTION:Thursdays\, 5:30 – 6:30pm Cardio Sculpt: High-energy dance cardio\, followed by strength training
URL:https://vermontsun.com/event/jazzercise-cardio-sculpt-addtl-fee-2/2025-07-24/
LOCATION:VT Sun Middlebury\, 812 Exchange Street\, Middlebury\, VT\, 05753\, United States
CATEGORIES:Jazzercise
END:VEVENT
BEGIN:VEVENT
DTSTART;TZID=America/New_York:20250725T081500
DTEND;TZID=America/New_York:20250725T085000
DTSTAMP:20260422T190459
CREATED:20241007T163759Z
LAST-MODIFIED:20251204T113017Z
UID:10013269-1753431300-1753433400@vermontsun.com
SUMMARY:Jazzercise Cardio Sculpt (Addt’l fee)
DESCRIPTION:Fridays\, 8:15 – 8:50am Cardio Sculpt: High-energy dance cardio\, followed by strength training
URL:https://vermontsun.com/event/jazzercise-cardio-sculpt-addtl-fee-3/2025-07-25/
LOCATION:VT Sun Middlebury\, 812 Exchange Street\, Middlebury\, VT\, 05753\, United States
CATEGORIES:Jazzercise
END:VEVENT
BEGIN:VEVENT
DTSTART;TZID=America/New_York:20250726T080000
DTEND;TZID=America/New_York:20250726T083000
DTSTAMP:20260422T190459
CREATED:20241007T163857Z
LAST-MODIFIED:20241007T163857Z
UID:10013787-1753516800-1753518600@vermontsun.com
SUMMARY:Jazzercise Stretch (Addt’l fee)
DESCRIPTION:Saturdays\, 8:00 – 8:30am Stretch: Increase flexibility and relieve soreness in this dance-based restorative class.
URL:https://vermontsun.com/event/jazzercise-stretch-addtl-fee/2025-07-26/
LOCATION:VT Sun Middlebury\, 812 Exchange Street\, Middlebury\, VT\, 05753\, United States
CATEGORIES:Jazzercise
END:VEVENT
BEGIN:VEVENT
DTSTART;TZID=America/New_York:20250726T083000
DTEND;TZID=America/New_York:20250726T090000
DTSTAMP:20260422T190459
CREATED:20241007T164008Z
LAST-MODIFIED:20241008T143010Z
UID:10014305-1753518600-1753520400@vermontsun.com
SUMMARY:Jazzercise Cardio Sculpt (Addt’l fee)
DESCRIPTION:Saturdays\, 8:30 – 9:00am Cardio Sculpt: High-energy dance cardio\, followed by strength training
URL:https://vermontsun.com/event/jazzercise-cardio-sculpt-addtl-fee-4/2025-07-26/
LOCATION:VT Sun Middlebury\, 812 Exchange Street\, Middlebury\, VT\, 05753\, United States
CATEGORIES:Jazzercise
END:VEVENT
BEGIN:VEVENT
DTSTART;TZID=America/New_York:20250728T081500
DTEND;TZID=America/New_York:20250728T084500
DTSTAMP:20260422T190459
CREATED:20230313T125655Z
LAST-MODIFIED:20260125T152007Z
UID:10010680-1753690500-1753692300@vermontsun.com
SUMMARY:Jazzercise Cardio (Addt’l fee)
DESCRIPTION:Mondays\, 8:15 – 8:45am Cardio: Thirty minutes of high-energy dance cardio
URL:https://vermontsun.com/event/pop-up-spin-sign-up-required/2025-07-28/
LOCATION:VT Sun Middlebury\, 812 Exchange Street\, Middlebury\, VT\, 05753\, United States
CATEGORIES:Jazzercise
END:VEVENT
BEGIN:VEVENT
DTSTART;TZID=America/New_York:20250729T173000
DTEND;TZID=America/New_York:20250729T183000
DTSTAMP:20260422T190459
CREATED:20241007T162951Z
LAST-MODIFIED:20241030T141004Z
UID:10011198-1753810200-1753813800@vermontsun.com
SUMMARY:Jazzercise Power Sculpt (Addt’l fee)
DESCRIPTION:Tuesdays\, 5:30 – 6:30pm Power Sculpt: Blends heart-pumping bursts of dance cardio with powerful strength training\, followed by a specialized toning segment
URL:https://vermontsun.com/event/jazzercise-power-sculpt-addtl-fee/2025-07-29/
LOCATION:VT Sun Middlebury\, 812 Exchange Street\, Middlebury\, VT\, 05753\, United States
CATEGORIES:Jazzercise
END:VEVENT
BEGIN:VEVENT
DTSTART;TZID=America/New_York:20250730T081500
DTEND;TZID=America/New_York:20250730T090000
DTSTAMP:20260422T190459
CREATED:20241007T163103Z
LAST-MODIFIED:20241030T141350Z
UID:10011716-1753863300-1753866000@vermontsun.com
SUMMARY:Jazzercise Sculpt (Addt’l fee)
DESCRIPTION:Wednesdays\, 8:15 – 9am Sculpt: Focuses on strength training to build strong\, lean muscles
URL:https://vermontsun.com/event/jazzercise-sculpt-addtl-fee/2025-07-30/
LOCATION:VT Sun Middlebury\, 812 Exchange Street\, Middlebury\, VT\, 05753\, United States
CATEGORIES:Jazzercise
END:VEVENT
BEGIN:VEVENT
DTSTART;TZID=America/New_York:20250730T161500
DTEND;TZID=America/New_York:20250730T171500
DTSTAMP:20260422T190459
CREATED:20241007T163521Z
LAST-MODIFIED:20251204T115102Z
UID:10012234-1753892100-1753895700@vermontsun.com
SUMMARY:Jazzercise Cardio Sculpt (Addt’l fee)
DESCRIPTION:Wednesdays\, 4:15 – 5pm Cardio Sculpt: High-energy dance cardio\, followed by strength training
URL:https://vermontsun.com/event/jazzercise-cardio-sculpt-addtl-fee/2025-07-30/
LOCATION:VT Sun Middlebury\, 812 Exchange Street\, Middlebury\, VT\, 05753\, United States
CATEGORIES:Jazzercise
END:VEVENT
BEGIN:VEVENT
DTSTART;TZID=America/New_York:20250731T173000
DTEND;TZID=America/New_York:20250731T183000
DTSTAMP:20260422T190459
CREATED:20241007T163635Z
LAST-MODIFIED:20251204T113115Z
UID:10012752-1753983000-1753986600@vermontsun.com
SUMMARY:Jazzercise Cardio Sculpt (Addt’l fee)
DESCRIPTION:Thursdays\, 5:30 – 6:30pm Cardio Sculpt: High-energy dance cardio\, followed by strength training
URL:https://vermontsun.com/event/jazzercise-cardio-sculpt-addtl-fee-2/2025-07-31/
LOCATION:VT Sun Middlebury\, 812 Exchange Street\, Middlebury\, VT\, 05753\, United States
CATEGORIES:Jazzercise
END:VEVENT
BEGIN:VEVENT
DTSTART;TZID=America/New_York:20250801T081500
DTEND;TZID=America/New_York:20250801T085000
DTSTAMP:20260422T190459
CREATED:20241007T163759Z
LAST-MODIFIED:20251204T113017Z
UID:10013270-1754036100-1754038200@vermontsun.com
SUMMARY:Jazzercise Cardio Sculpt (Addt’l fee)
DESCRIPTION:Fridays\, 8:15 – 8:50am Cardio Sculpt: High-energy dance cardio\, followed by strength training
URL:https://vermontsun.com/event/jazzercise-cardio-sculpt-addtl-fee-3/2025-08-01/
LOCATION:VT Sun Middlebury\, 812 Exchange Street\, Middlebury\, VT\, 05753\, United States
CATEGORIES:Jazzercise
END:VEVENT
BEGIN:VEVENT
DTSTART;TZID=America/New_York:20250802T080000
DTEND;TZID=America/New_York:20250802T083000
DTSTAMP:20260422T190459
CREATED:20241007T163857Z
LAST-MODIFIED:20241007T163857Z
UID:10013788-1754121600-1754123400@vermontsun.com
SUMMARY:Jazzercise Stretch (Addt’l fee)
DESCRIPTION:Saturdays\, 8:00 – 8:30am Stretch: Increase flexibility and relieve soreness in this dance-based restorative class.
URL:https://vermontsun.com/event/jazzercise-stretch-addtl-fee/2025-08-02/
LOCATION:VT Sun Middlebury\, 812 Exchange Street\, Middlebury\, VT\, 05753\, United States
CATEGORIES:Jazzercise
END:VEVENT
BEGIN:VEVENT
DTSTART;TZID=America/New_York:20250802T083000
DTEND;TZID=America/New_York:20250802T090000
DTSTAMP:20260422T190459
CREATED:20241007T164008Z
LAST-MODIFIED:20241008T143010Z
UID:10014306-1754123400-1754125200@vermontsun.com
SUMMARY:Jazzercise Cardio Sculpt (Addt’l fee)
DESCRIPTION:Saturdays\, 8:30 – 9:00am Cardio Sculpt: High-energy dance cardio\, followed by strength training
URL:https://vermontsun.com/event/jazzercise-cardio-sculpt-addtl-fee-4/2025-08-02/
LOCATION:VT Sun Middlebury\, 812 Exchange Street\, Middlebury\, VT\, 05753\, United States
CATEGORIES:Jazzercise
END:VEVENT
BEGIN:VEVENT
DTSTART;TZID=America/New_York:20250804T081500
DTEND;TZID=America/New_York:20250804T084500
DTSTAMP:20260422T190500
CREATED:20230313T125655Z
LAST-MODIFIED:20260125T152007Z
UID:10010681-1754295300-1754297100@vermontsun.com
SUMMARY:Jazzercise Cardio (Addt’l fee)
DESCRIPTION:Mondays\, 8:15 – 8:45am Cardio: Thirty minutes of high-energy dance cardio
URL:https://vermontsun.com/event/pop-up-spin-sign-up-required/2025-08-04/
LOCATION:VT Sun Middlebury\, 812 Exchange Street\, Middlebury\, VT\, 05753\, United States
CATEGORIES:Jazzercise
END:VEVENT
BEGIN:VEVENT
DTSTART;TZID=America/New_York:20250805T173000
DTEND;TZID=America/New_York:20250805T183000
DTSTAMP:20260422T190500
CREATED:20241007T162951Z
LAST-MODIFIED:20241030T141004Z
UID:10011199-1754415000-1754418600@vermontsun.com
SUMMARY:Jazzercise Power Sculpt (Addt’l fee)
DESCRIPTION:Tuesdays\, 5:30 – 6:30pm Power Sculpt: Blends heart-pumping bursts of dance cardio with powerful strength training\, followed by a specialized toning segment
URL:https://vermontsun.com/event/jazzercise-power-sculpt-addtl-fee/2025-08-05/
LOCATION:VT Sun Middlebury\, 812 Exchange Street\, Middlebury\, VT\, 05753\, United States
CATEGORIES:Jazzercise
END:VEVENT
BEGIN:VEVENT
DTSTART;TZID=America/New_York:20250806T081500
DTEND;TZID=America/New_York:20250806T090000
DTSTAMP:20260422T190500
CREATED:20241007T163103Z
LAST-MODIFIED:20241030T141350Z
UID:10011717-1754468100-1754470800@vermontsun.com
SUMMARY:Jazzercise Sculpt (Addt’l fee)
DESCRIPTION:Wednesdays\, 8:15 – 9am Sculpt: Focuses on strength training to build strong\, lean muscles
URL:https://vermontsun.com/event/jazzercise-sculpt-addtl-fee/2025-08-06/
LOCATION:VT Sun Middlebury\, 812 Exchange Street\, Middlebury\, VT\, 05753\, United States
CATEGORIES:Jazzercise
END:VEVENT
BEGIN:VEVENT
DTSTART;TZID=America/New_York:20250806T161500
DTEND;TZID=America/New_York:20250806T171500
DTSTAMP:20260422T190500
CREATED:20241007T163521Z
LAST-MODIFIED:20251204T115102Z
UID:10012235-1754496900-1754500500@vermontsun.com
SUMMARY:Jazzercise Cardio Sculpt (Addt’l fee)
DESCRIPTION:Wednesdays\, 4:15 – 5pm Cardio Sculpt: High-energy dance cardio\, followed by strength training
URL:https://vermontsun.com/event/jazzercise-cardio-sculpt-addtl-fee/2025-08-06/
LOCATION:VT Sun Middlebury\, 812 Exchange Street\, Middlebury\, VT\, 05753\, United States
CATEGORIES:Jazzercise
END:VEVENT
BEGIN:VEVENT
DTSTART;TZID=America/New_York:20250807T173000
DTEND;TZID=America/New_York:20250807T183000
DTSTAMP:20260422T190500
CREATED:20241007T163635Z
LAST-MODIFIED:20251204T113115Z
UID:10012753-1754587800-1754591400@vermontsun.com
SUMMARY:Jazzercise Cardio Sculpt (Addt’l fee)
DESCRIPTION:Thursdays\, 5:30 – 6:30pm Cardio Sculpt: High-energy dance cardio\, followed by strength training
URL:https://vermontsun.com/event/jazzercise-cardio-sculpt-addtl-fee-2/2025-08-07/
LOCATION:VT Sun Middlebury\, 812 Exchange Street\, Middlebury\, VT\, 05753\, United States
CATEGORIES:Jazzercise
END:VEVENT
BEGIN:VEVENT
DTSTART;TZID=America/New_York:20250808T081500
DTEND;TZID=America/New_York:20250808T085000
DTSTAMP:20260422T190500
CREATED:20241007T163759Z
LAST-MODIFIED:20251204T113017Z
UID:10013271-1754640900-1754643000@vermontsun.com
SUMMARY:Jazzercise Cardio Sculpt (Addt’l fee)
DESCRIPTION:Fridays\, 8:15 – 8:50am Cardio Sculpt: High-energy dance cardio\, followed by strength training
URL:https://vermontsun.com/event/jazzercise-cardio-sculpt-addtl-fee-3/2025-08-08/
LOCATION:VT Sun Middlebury\, 812 Exchange Street\, Middlebury\, VT\, 05753\, United States
CATEGORIES:Jazzercise
END:VEVENT
BEGIN:VEVENT
DTSTART;TZID=America/New_York:20250809T080000
DTEND;TZID=America/New_York:20250809T083000
DTSTAMP:20260422T190500
CREATED:20241007T163857Z
LAST-MODIFIED:20241007T163857Z
UID:10013789-1754726400-1754728200@vermontsun.com
SUMMARY:Jazzercise Stretch (Addt’l fee)
DESCRIPTION:Saturdays\, 8:00 – 8:30am Stretch: Increase flexibility and relieve soreness in this dance-based restorative class.
URL:https://vermontsun.com/event/jazzercise-stretch-addtl-fee/2025-08-09/
LOCATION:VT Sun Middlebury\, 812 Exchange Street\, Middlebury\, VT\, 05753\, United States
CATEGORIES:Jazzercise
END:VEVENT
BEGIN:VEVENT
DTSTART;TZID=America/New_York:20250809T083000
DTEND;TZID=America/New_York:20250809T090000
DTSTAMP:20260422T190500
CREATED:20241007T164008Z
LAST-MODIFIED:20241008T143010Z
UID:10014307-1754728200-1754730000@vermontsun.com
SUMMARY:Jazzercise Cardio Sculpt (Addt’l fee)
DESCRIPTION:Saturdays\, 8:30 – 9:00am Cardio Sculpt: High-energy dance cardio\, followed by strength training
URL:https://vermontsun.com/event/jazzercise-cardio-sculpt-addtl-fee-4/2025-08-09/
LOCATION:VT Sun Middlebury\, 812 Exchange Street\, Middlebury\, VT\, 05753\, United States
CATEGORIES:Jazzercise
END:VEVENT
BEGIN:VEVENT
DTSTART;TZID=America/New_York:20250811T081500
DTEND;TZID=America/New_York:20250811T084500
DTSTAMP:20260422T190500
CREATED:20230313T125655Z
LAST-MODIFIED:20260125T152007Z
UID:10010682-1754900100-1754901900@vermontsun.com
SUMMARY:Jazzercise Cardio (Addt’l fee)
DESCRIPTION:Mondays\, 8:15 – 8:45am Cardio: Thirty minutes of high-energy dance cardio
URL:https://vermontsun.com/event/pop-up-spin-sign-up-required/2025-08-11/
LOCATION:VT Sun Middlebury\, 812 Exchange Street\, Middlebury\, VT\, 05753\, United States
CATEGORIES:Jazzercise
END:VEVENT
BEGIN:VEVENT
DTSTART;TZID=America/New_York:20250812T173000
DTEND;TZID=America/New_York:20250812T183000
DTSTAMP:20260422T190500
CREATED:20241007T162951Z
LAST-MODIFIED:20241030T141004Z
UID:10011200-1755019800-1755023400@vermontsun.com
SUMMARY:Jazzercise Power Sculpt (Addt’l fee)
DESCRIPTION:Tuesdays\, 5:30 – 6:30pm Power Sculpt: Blends heart-pumping bursts of dance cardio with powerful strength training\, followed by a specialized toning segment
URL:https://vermontsun.com/event/jazzercise-power-sculpt-addtl-fee/2025-08-12/
LOCATION:VT Sun Middlebury\, 812 Exchange Street\, Middlebury\, VT\, 05753\, United States
CATEGORIES:Jazzercise
END:VEVENT
BEGIN:VEVENT
DTSTART;TZID=America/New_York:20250813T081500
DTEND;TZID=America/New_York:20250813T090000
DTSTAMP:20260422T190500
CREATED:20241007T163103Z
LAST-MODIFIED:20241030T141350Z
UID:10011718-1755072900-1755075600@vermontsun.com
SUMMARY:Jazzercise Sculpt (Addt’l fee)
DESCRIPTION:Wednesdays\, 8:15 – 9am Sculpt: Focuses on strength training to build strong\, lean muscles
URL:https://vermontsun.com/event/jazzercise-sculpt-addtl-fee/2025-08-13/
LOCATION:VT Sun Middlebury\, 812 Exchange Street\, Middlebury\, VT\, 05753\, United States
CATEGORIES:Jazzercise
END:VEVENT
END:VCALENDAR