BEGIN:VCALENDAR
VERSION:2.0
PRODID:-//Vermont Sun Fitness Centers - ECPv6.15.20//NONSGML v1.0//EN
CALSCALE:GREGORIAN
METHOD:PUBLISH
X-WR-CALNAME:Vermont Sun Fitness Centers
X-ORIGINAL-URL:https://vermontsun.com
X-WR-CALDESC:Events for Vermont Sun Fitness Centers
REFRESH-INTERVAL;VALUE=DURATION:PT1H
X-Robots-Tag:noindex
X-PUBLISHED-TTL:PT1H
BEGIN:VTIMEZONE
TZID:America/New_York
BEGIN:DAYLIGHT
TZOFFSETFROM:-0500
TZOFFSETTO:-0400
TZNAME:EDT
DTSTART:20240310T070000
END:DAYLIGHT
BEGIN:STANDARD
TZOFFSETFROM:-0400
TZOFFSETTO:-0500
TZNAME:EST
DTSTART:20241103T060000
END:STANDARD
BEGIN:DAYLIGHT
TZOFFSETFROM:-0500
TZOFFSETTO:-0400
TZNAME:EDT
DTSTART:20250309T070000
END:DAYLIGHT
BEGIN:STANDARD
TZOFFSETFROM:-0400
TZOFFSETTO:-0500
TZNAME:EST
DTSTART:20251102T060000
END:STANDARD
BEGIN:DAYLIGHT
TZOFFSETFROM:-0500
TZOFFSETTO:-0400
TZNAME:EDT
DTSTART:20260308T070000
END:DAYLIGHT
BEGIN:STANDARD
TZOFFSETFROM:-0400
TZOFFSETTO:-0500
TZNAME:EST
DTSTART:20261101T060000
END:STANDARD
END:VTIMEZONE
BEGIN:VEVENT
DTSTART;TZID=America/New_York:20250808T081500
DTEND;TZID=America/New_York:20250808T085000
DTSTAMP:20260422T183027
CREATED:20241007T163759Z
LAST-MODIFIED:20251204T113017Z
UID:10013271-1754640900-1754643000@vermontsun.com
SUMMARY:Jazzercise Cardio Sculpt (Addt’l fee)
DESCRIPTION:Fridays\, 8:15 – 8:50am Cardio Sculpt: High-energy dance cardio\, followed by strength training
URL:https://vermontsun.com/event/jazzercise-cardio-sculpt-addtl-fee-3/2025-08-08/
LOCATION:VT Sun Middlebury\, 812 Exchange Street\, Middlebury\, VT\, 05753\, United States
CATEGORIES:Jazzercise
END:VEVENT
BEGIN:VEVENT
DTSTART;TZID=America/New_York:20250809T080000
DTEND;TZID=America/New_York:20250809T083000
DTSTAMP:20260422T183027
CREATED:20241007T163857Z
LAST-MODIFIED:20241007T163857Z
UID:10013789-1754726400-1754728200@vermontsun.com
SUMMARY:Jazzercise Stretch (Addt’l fee)
DESCRIPTION:Saturdays\, 8:00 – 8:30am Stretch: Increase flexibility and relieve soreness in this dance-based restorative class.
URL:https://vermontsun.com/event/jazzercise-stretch-addtl-fee/2025-08-09/
LOCATION:VT Sun Middlebury\, 812 Exchange Street\, Middlebury\, VT\, 05753\, United States
CATEGORIES:Jazzercise
END:VEVENT
BEGIN:VEVENT
DTSTART;TZID=America/New_York:20250809T083000
DTEND;TZID=America/New_York:20250809T090000
DTSTAMP:20260422T183027
CREATED:20241007T164008Z
LAST-MODIFIED:20241008T143010Z
UID:10014307-1754728200-1754730000@vermontsun.com
SUMMARY:Jazzercise Cardio Sculpt (Addt’l fee)
DESCRIPTION:Saturdays\, 8:30 – 9:00am Cardio Sculpt: High-energy dance cardio\, followed by strength training
URL:https://vermontsun.com/event/jazzercise-cardio-sculpt-addtl-fee-4/2025-08-09/
LOCATION:VT Sun Middlebury\, 812 Exchange Street\, Middlebury\, VT\, 05753\, United States
CATEGORIES:Jazzercise
END:VEVENT
BEGIN:VEVENT
DTSTART;TZID=America/New_York:20250811T081500
DTEND;TZID=America/New_York:20250811T084500
DTSTAMP:20260422T183027
CREATED:20230313T125655Z
LAST-MODIFIED:20260125T152007Z
UID:10010682-1754900100-1754901900@vermontsun.com
SUMMARY:Jazzercise Cardio (Addt’l fee)
DESCRIPTION:Mondays\, 8:15 – 8:45am Cardio: Thirty minutes of high-energy dance cardio
URL:https://vermontsun.com/event/pop-up-spin-sign-up-required/2025-08-11/
LOCATION:VT Sun Middlebury\, 812 Exchange Street\, Middlebury\, VT\, 05753\, United States
CATEGORIES:Jazzercise
END:VEVENT
BEGIN:VEVENT
DTSTART;TZID=America/New_York:20250812T173000
DTEND;TZID=America/New_York:20250812T183000
DTSTAMP:20260422T183027
CREATED:20241007T162951Z
LAST-MODIFIED:20241030T141004Z
UID:10011200-1755019800-1755023400@vermontsun.com
SUMMARY:Jazzercise Power Sculpt (Addt’l fee)
DESCRIPTION:Tuesdays\, 5:30 – 6:30pm Power Sculpt: Blends heart-pumping bursts of dance cardio with powerful strength training\, followed by a specialized toning segment
URL:https://vermontsun.com/event/jazzercise-power-sculpt-addtl-fee/2025-08-12/
LOCATION:VT Sun Middlebury\, 812 Exchange Street\, Middlebury\, VT\, 05753\, United States
CATEGORIES:Jazzercise
END:VEVENT
BEGIN:VEVENT
DTSTART;TZID=America/New_York:20250813T081500
DTEND;TZID=America/New_York:20250813T090000
DTSTAMP:20260422T183027
CREATED:20241007T163103Z
LAST-MODIFIED:20241030T141350Z
UID:10011718-1755072900-1755075600@vermontsun.com
SUMMARY:Jazzercise Sculpt (Addt’l fee)
DESCRIPTION:Wednesdays\, 8:15 – 9am Sculpt: Focuses on strength training to build strong\, lean muscles
URL:https://vermontsun.com/event/jazzercise-sculpt-addtl-fee/2025-08-13/
LOCATION:VT Sun Middlebury\, 812 Exchange Street\, Middlebury\, VT\, 05753\, United States
CATEGORIES:Jazzercise
END:VEVENT
BEGIN:VEVENT
DTSTART;TZID=America/New_York:20250813T161500
DTEND;TZID=America/New_York:20250813T171500
DTSTAMP:20260422T183027
CREATED:20241007T163521Z
LAST-MODIFIED:20251204T115102Z
UID:10012236-1755101700-1755105300@vermontsun.com
SUMMARY:Jazzercise Cardio Sculpt (Addt’l fee)
DESCRIPTION:Wednesdays\, 4:15 – 5pm Cardio Sculpt: High-energy dance cardio\, followed by strength training
URL:https://vermontsun.com/event/jazzercise-cardio-sculpt-addtl-fee/2025-08-13/
LOCATION:VT Sun Middlebury\, 812 Exchange Street\, Middlebury\, VT\, 05753\, United States
CATEGORIES:Jazzercise
END:VEVENT
BEGIN:VEVENT
DTSTART;TZID=America/New_York:20250814T173000
DTEND;TZID=America/New_York:20250814T183000
DTSTAMP:20260422T183027
CREATED:20241007T163635Z
LAST-MODIFIED:20251204T113115Z
UID:10012754-1755192600-1755196200@vermontsun.com
SUMMARY:Jazzercise Cardio Sculpt (Addt’l fee)
DESCRIPTION:Thursdays\, 5:30 – 6:30pm Cardio Sculpt: High-energy dance cardio\, followed by strength training
URL:https://vermontsun.com/event/jazzercise-cardio-sculpt-addtl-fee-2/2025-08-14/
LOCATION:VT Sun Middlebury\, 812 Exchange Street\, Middlebury\, VT\, 05753\, United States
CATEGORIES:Jazzercise
END:VEVENT
BEGIN:VEVENT
DTSTART;TZID=America/New_York:20250815T081500
DTEND;TZID=America/New_York:20250815T085000
DTSTAMP:20260422T183027
CREATED:20241007T163759Z
LAST-MODIFIED:20251204T113017Z
UID:10013272-1755245700-1755247800@vermontsun.com
SUMMARY:Jazzercise Cardio Sculpt (Addt’l fee)
DESCRIPTION:Fridays\, 8:15 – 8:50am Cardio Sculpt: High-energy dance cardio\, followed by strength training
URL:https://vermontsun.com/event/jazzercise-cardio-sculpt-addtl-fee-3/2025-08-15/
LOCATION:VT Sun Middlebury\, 812 Exchange Street\, Middlebury\, VT\, 05753\, United States
CATEGORIES:Jazzercise
END:VEVENT
BEGIN:VEVENT
DTSTART;TZID=America/New_York:20250816T080000
DTEND;TZID=America/New_York:20250816T083000
DTSTAMP:20260422T183027
CREATED:20241007T163857Z
LAST-MODIFIED:20241007T163857Z
UID:10013790-1755331200-1755333000@vermontsun.com
SUMMARY:Jazzercise Stretch (Addt’l fee)
DESCRIPTION:Saturdays\, 8:00 – 8:30am Stretch: Increase flexibility and relieve soreness in this dance-based restorative class.
URL:https://vermontsun.com/event/jazzercise-stretch-addtl-fee/2025-08-16/
LOCATION:VT Sun Middlebury\, 812 Exchange Street\, Middlebury\, VT\, 05753\, United States
CATEGORIES:Jazzercise
END:VEVENT
BEGIN:VEVENT
DTSTART;TZID=America/New_York:20250816T083000
DTEND;TZID=America/New_York:20250816T090000
DTSTAMP:20260422T183027
CREATED:20241007T164008Z
LAST-MODIFIED:20241008T143010Z
UID:10014308-1755333000-1755334800@vermontsun.com
SUMMARY:Jazzercise Cardio Sculpt (Addt’l fee)
DESCRIPTION:Saturdays\, 8:30 – 9:00am Cardio Sculpt: High-energy dance cardio\, followed by strength training
URL:https://vermontsun.com/event/jazzercise-cardio-sculpt-addtl-fee-4/2025-08-16/
LOCATION:VT Sun Middlebury\, 812 Exchange Street\, Middlebury\, VT\, 05753\, United States
CATEGORIES:Jazzercise
END:VEVENT
BEGIN:VEVENT
DTSTART;TZID=America/New_York:20250818T081500
DTEND;TZID=America/New_York:20250818T084500
DTSTAMP:20260422T183027
CREATED:20230313T125655Z
LAST-MODIFIED:20260125T152007Z
UID:10010683-1755504900-1755506700@vermontsun.com
SUMMARY:Jazzercise Cardio (Addt’l fee)
DESCRIPTION:Mondays\, 8:15 – 8:45am Cardio: Thirty minutes of high-energy dance cardio
URL:https://vermontsun.com/event/pop-up-spin-sign-up-required/2025-08-18/
LOCATION:VT Sun Middlebury\, 812 Exchange Street\, Middlebury\, VT\, 05753\, United States
CATEGORIES:Jazzercise
END:VEVENT
BEGIN:VEVENT
DTSTART;TZID=America/New_York:20250819T173000
DTEND;TZID=America/New_York:20250819T183000
DTSTAMP:20260422T183027
CREATED:20241007T162951Z
LAST-MODIFIED:20241030T141004Z
UID:10011201-1755624600-1755628200@vermontsun.com
SUMMARY:Jazzercise Power Sculpt (Addt’l fee)
DESCRIPTION:Tuesdays\, 5:30 – 6:30pm Power Sculpt: Blends heart-pumping bursts of dance cardio with powerful strength training\, followed by a specialized toning segment
URL:https://vermontsun.com/event/jazzercise-power-sculpt-addtl-fee/2025-08-19/
LOCATION:VT Sun Middlebury\, 812 Exchange Street\, Middlebury\, VT\, 05753\, United States
CATEGORIES:Jazzercise
END:VEVENT
BEGIN:VEVENT
DTSTART;TZID=America/New_York:20250820T081500
DTEND;TZID=America/New_York:20250820T090000
DTSTAMP:20260422T183027
CREATED:20241007T163103Z
LAST-MODIFIED:20241030T141350Z
UID:10011719-1755677700-1755680400@vermontsun.com
SUMMARY:Jazzercise Sculpt (Addt’l fee)
DESCRIPTION:Wednesdays\, 8:15 – 9am Sculpt: Focuses on strength training to build strong\, lean muscles
URL:https://vermontsun.com/event/jazzercise-sculpt-addtl-fee/2025-08-20/
LOCATION:VT Sun Middlebury\, 812 Exchange Street\, Middlebury\, VT\, 05753\, United States
CATEGORIES:Jazzercise
END:VEVENT
BEGIN:VEVENT
DTSTART;TZID=America/New_York:20250820T161500
DTEND;TZID=America/New_York:20250820T171500
DTSTAMP:20260422T183027
CREATED:20241007T163521Z
LAST-MODIFIED:20251204T115102Z
UID:10012237-1755706500-1755710100@vermontsun.com
SUMMARY:Jazzercise Cardio Sculpt (Addt’l fee)
DESCRIPTION:Wednesdays\, 4:15 – 5pm Cardio Sculpt: High-energy dance cardio\, followed by strength training
URL:https://vermontsun.com/event/jazzercise-cardio-sculpt-addtl-fee/2025-08-20/
LOCATION:VT Sun Middlebury\, 812 Exchange Street\, Middlebury\, VT\, 05753\, United States
CATEGORIES:Jazzercise
END:VEVENT
BEGIN:VEVENT
DTSTART;TZID=America/New_York:20250821T173000
DTEND;TZID=America/New_York:20250821T183000
DTSTAMP:20260422T183027
CREATED:20241007T163635Z
LAST-MODIFIED:20251204T113115Z
UID:10012755-1755797400-1755801000@vermontsun.com
SUMMARY:Jazzercise Cardio Sculpt (Addt’l fee)
DESCRIPTION:Thursdays\, 5:30 – 6:30pm Cardio Sculpt: High-energy dance cardio\, followed by strength training
URL:https://vermontsun.com/event/jazzercise-cardio-sculpt-addtl-fee-2/2025-08-21/
LOCATION:VT Sun Middlebury\, 812 Exchange Street\, Middlebury\, VT\, 05753\, United States
CATEGORIES:Jazzercise
END:VEVENT
BEGIN:VEVENT
DTSTART;TZID=America/New_York:20250822T081500
DTEND;TZID=America/New_York:20250822T085000
DTSTAMP:20260422T183027
CREATED:20241007T163759Z
LAST-MODIFIED:20251204T113017Z
UID:10013273-1755850500-1755852600@vermontsun.com
SUMMARY:Jazzercise Cardio Sculpt (Addt’l fee)
DESCRIPTION:Fridays\, 8:15 – 8:50am Cardio Sculpt: High-energy dance cardio\, followed by strength training
URL:https://vermontsun.com/event/jazzercise-cardio-sculpt-addtl-fee-3/2025-08-22/
LOCATION:VT Sun Middlebury\, 812 Exchange Street\, Middlebury\, VT\, 05753\, United States
CATEGORIES:Jazzercise
END:VEVENT
BEGIN:VEVENT
DTSTART;TZID=America/New_York:20250823T080000
DTEND;TZID=America/New_York:20250823T083000
DTSTAMP:20260422T183027
CREATED:20241007T163857Z
LAST-MODIFIED:20241007T163857Z
UID:10013791-1755936000-1755937800@vermontsun.com
SUMMARY:Jazzercise Stretch (Addt’l fee)
DESCRIPTION:Saturdays\, 8:00 – 8:30am Stretch: Increase flexibility and relieve soreness in this dance-based restorative class.
URL:https://vermontsun.com/event/jazzercise-stretch-addtl-fee/2025-08-23/
LOCATION:VT Sun Middlebury\, 812 Exchange Street\, Middlebury\, VT\, 05753\, United States
CATEGORIES:Jazzercise
END:VEVENT
BEGIN:VEVENT
DTSTART;TZID=America/New_York:20250823T083000
DTEND;TZID=America/New_York:20250823T090000
DTSTAMP:20260422T183027
CREATED:20241007T164008Z
LAST-MODIFIED:20241008T143010Z
UID:10014309-1755937800-1755939600@vermontsun.com
SUMMARY:Jazzercise Cardio Sculpt (Addt’l fee)
DESCRIPTION:Saturdays\, 8:30 – 9:00am Cardio Sculpt: High-energy dance cardio\, followed by strength training
URL:https://vermontsun.com/event/jazzercise-cardio-sculpt-addtl-fee-4/2025-08-23/
LOCATION:VT Sun Middlebury\, 812 Exchange Street\, Middlebury\, VT\, 05753\, United States
CATEGORIES:Jazzercise
END:VEVENT
BEGIN:VEVENT
DTSTART;TZID=America/New_York:20250825T081500
DTEND;TZID=America/New_York:20250825T084500
DTSTAMP:20260422T183027
CREATED:20230313T125655Z
LAST-MODIFIED:20260125T152007Z
UID:10010684-1756109700-1756111500@vermontsun.com
SUMMARY:Jazzercise Cardio (Addt’l fee)
DESCRIPTION:Mondays\, 8:15 – 8:45am Cardio: Thirty minutes of high-energy dance cardio
URL:https://vermontsun.com/event/pop-up-spin-sign-up-required/2025-08-25/
LOCATION:VT Sun Middlebury\, 812 Exchange Street\, Middlebury\, VT\, 05753\, United States
CATEGORIES:Jazzercise
END:VEVENT
BEGIN:VEVENT
DTSTART;TZID=America/New_York:20250826T173000
DTEND;TZID=America/New_York:20250826T183000
DTSTAMP:20260422T183027
CREATED:20241007T162951Z
LAST-MODIFIED:20241030T141004Z
UID:10011202-1756229400-1756233000@vermontsun.com
SUMMARY:Jazzercise Power Sculpt (Addt’l fee)
DESCRIPTION:Tuesdays\, 5:30 – 6:30pm Power Sculpt: Blends heart-pumping bursts of dance cardio with powerful strength training\, followed by a specialized toning segment
URL:https://vermontsun.com/event/jazzercise-power-sculpt-addtl-fee/2025-08-26/
LOCATION:VT Sun Middlebury\, 812 Exchange Street\, Middlebury\, VT\, 05753\, United States
CATEGORIES:Jazzercise
END:VEVENT
BEGIN:VEVENT
DTSTART;TZID=America/New_York:20250827T081500
DTEND;TZID=America/New_York:20250827T090000
DTSTAMP:20260422T183027
CREATED:20241007T163103Z
LAST-MODIFIED:20241030T141350Z
UID:10011720-1756282500-1756285200@vermontsun.com
SUMMARY:Jazzercise Sculpt (Addt’l fee)
DESCRIPTION:Wednesdays\, 8:15 – 9am Sculpt: Focuses on strength training to build strong\, lean muscles
URL:https://vermontsun.com/event/jazzercise-sculpt-addtl-fee/2025-08-27/
LOCATION:VT Sun Middlebury\, 812 Exchange Street\, Middlebury\, VT\, 05753\, United States
CATEGORIES:Jazzercise
END:VEVENT
BEGIN:VEVENT
DTSTART;TZID=America/New_York:20250827T161500
DTEND;TZID=America/New_York:20250827T171500
DTSTAMP:20260422T183027
CREATED:20241007T163521Z
LAST-MODIFIED:20251204T115102Z
UID:10012238-1756311300-1756314900@vermontsun.com
SUMMARY:Jazzercise Cardio Sculpt (Addt’l fee)
DESCRIPTION:Wednesdays\, 4:15 – 5pm Cardio Sculpt: High-energy dance cardio\, followed by strength training
URL:https://vermontsun.com/event/jazzercise-cardio-sculpt-addtl-fee/2025-08-27/
LOCATION:VT Sun Middlebury\, 812 Exchange Street\, Middlebury\, VT\, 05753\, United States
CATEGORIES:Jazzercise
END:VEVENT
BEGIN:VEVENT
DTSTART;TZID=America/New_York:20250828T173000
DTEND;TZID=America/New_York:20250828T183000
DTSTAMP:20260422T183027
CREATED:20241007T163635Z
LAST-MODIFIED:20251204T113115Z
UID:10012756-1756402200-1756405800@vermontsun.com
SUMMARY:Jazzercise Cardio Sculpt (Addt’l fee)
DESCRIPTION:Thursdays\, 5:30 – 6:30pm Cardio Sculpt: High-energy dance cardio\, followed by strength training
URL:https://vermontsun.com/event/jazzercise-cardio-sculpt-addtl-fee-2/2025-08-28/
LOCATION:VT Sun Middlebury\, 812 Exchange Street\, Middlebury\, VT\, 05753\, United States
CATEGORIES:Jazzercise
END:VEVENT
BEGIN:VEVENT
DTSTART;TZID=America/New_York:20250829T081500
DTEND;TZID=America/New_York:20250829T085000
DTSTAMP:20260422T183027
CREATED:20241007T163759Z
LAST-MODIFIED:20251204T113017Z
UID:10013274-1756455300-1756457400@vermontsun.com
SUMMARY:Jazzercise Cardio Sculpt (Addt’l fee)
DESCRIPTION:Fridays\, 8:15 – 8:50am Cardio Sculpt: High-energy dance cardio\, followed by strength training
URL:https://vermontsun.com/event/jazzercise-cardio-sculpt-addtl-fee-3/2025-08-29/
LOCATION:VT Sun Middlebury\, 812 Exchange Street\, Middlebury\, VT\, 05753\, United States
CATEGORIES:Jazzercise
END:VEVENT
BEGIN:VEVENT
DTSTART;TZID=America/New_York:20250830T080000
DTEND;TZID=America/New_York:20250830T083000
DTSTAMP:20260422T183027
CREATED:20241007T163857Z
LAST-MODIFIED:20241007T163857Z
UID:10013792-1756540800-1756542600@vermontsun.com
SUMMARY:Jazzercise Stretch (Addt’l fee)
DESCRIPTION:Saturdays\, 8:00 – 8:30am Stretch: Increase flexibility and relieve soreness in this dance-based restorative class.
URL:https://vermontsun.com/event/jazzercise-stretch-addtl-fee/2025-08-30/
LOCATION:VT Sun Middlebury\, 812 Exchange Street\, Middlebury\, VT\, 05753\, United States
CATEGORIES:Jazzercise
END:VEVENT
BEGIN:VEVENT
DTSTART;TZID=America/New_York:20250830T083000
DTEND;TZID=America/New_York:20250830T090000
DTSTAMP:20260422T183027
CREATED:20241007T164008Z
LAST-MODIFIED:20241008T143010Z
UID:10014310-1756542600-1756544400@vermontsun.com
SUMMARY:Jazzercise Cardio Sculpt (Addt’l fee)
DESCRIPTION:Saturdays\, 8:30 – 9:00am Cardio Sculpt: High-energy dance cardio\, followed by strength training
URL:https://vermontsun.com/event/jazzercise-cardio-sculpt-addtl-fee-4/2025-08-30/
LOCATION:VT Sun Middlebury\, 812 Exchange Street\, Middlebury\, VT\, 05753\, United States
CATEGORIES:Jazzercise
END:VEVENT
BEGIN:VEVENT
DTSTART;TZID=America/New_York:20250901T081500
DTEND;TZID=America/New_York:20250901T084500
DTSTAMP:20260422T183027
CREATED:20230313T125655Z
LAST-MODIFIED:20260125T152007Z
UID:10021642-1756714500-1756716300@vermontsun.com
SUMMARY:Jazzercise Cardio (Addt’l fee)
DESCRIPTION:Mondays\, 8:15 – 8:45am Cardio: Thirty minutes of high-energy dance cardio
URL:https://vermontsun.com/event/pop-up-spin-sign-up-required/2025-09-01/
LOCATION:VT Sun Middlebury\, 812 Exchange Street\, Middlebury\, VT\, 05753\, United States
CATEGORIES:Jazzercise
END:VEVENT
BEGIN:VEVENT
DTSTART;TZID=America/New_York:20250902T173000
DTEND;TZID=America/New_York:20250902T183000
DTSTAMP:20260422T183027
CREATED:20241007T162951Z
LAST-MODIFIED:20241030T141004Z
UID:10011203-1756834200-1756837800@vermontsun.com
SUMMARY:Jazzercise Power Sculpt (Addt’l fee)
DESCRIPTION:Tuesdays\, 5:30 – 6:30pm Power Sculpt: Blends heart-pumping bursts of dance cardio with powerful strength training\, followed by a specialized toning segment
URL:https://vermontsun.com/event/jazzercise-power-sculpt-addtl-fee/2025-09-02/
LOCATION:VT Sun Middlebury\, 812 Exchange Street\, Middlebury\, VT\, 05753\, United States
CATEGORIES:Jazzercise
END:VEVENT
BEGIN:VEVENT
DTSTART;TZID=America/New_York:20250903T081500
DTEND;TZID=America/New_York:20250903T090000
DTSTAMP:20260422T183027
CREATED:20241007T163103Z
LAST-MODIFIED:20241030T141350Z
UID:10011721-1756887300-1756890000@vermontsun.com
SUMMARY:Jazzercise Sculpt (Addt’l fee)
DESCRIPTION:Wednesdays\, 8:15 – 9am Sculpt: Focuses on strength training to build strong\, lean muscles
URL:https://vermontsun.com/event/jazzercise-sculpt-addtl-fee/2025-09-03/
LOCATION:VT Sun Middlebury\, 812 Exchange Street\, Middlebury\, VT\, 05753\, United States
CATEGORIES:Jazzercise
END:VEVENT
END:VCALENDAR