BEGIN:VCALENDAR
VERSION:2.0
PRODID:-//Vermont Sun Fitness Centers - ECPv6.15.20//NONSGML v1.0//EN
CALSCALE:GREGORIAN
METHOD:PUBLISH
X-WR-CALNAME:Vermont Sun Fitness Centers
X-ORIGINAL-URL:https://vermontsun.com
X-WR-CALDESC:Events for Vermont Sun Fitness Centers
REFRESH-INTERVAL;VALUE=DURATION:PT1H
X-Robots-Tag:noindex
X-PUBLISHED-TTL:PT1H
BEGIN:VTIMEZONE
TZID:America/New_York
BEGIN:DAYLIGHT
TZOFFSETFROM:-0500
TZOFFSETTO:-0400
TZNAME:EDT
DTSTART:20240310T070000
END:DAYLIGHT
BEGIN:STANDARD
TZOFFSETFROM:-0400
TZOFFSETTO:-0500
TZNAME:EST
DTSTART:20241103T060000
END:STANDARD
BEGIN:DAYLIGHT
TZOFFSETFROM:-0500
TZOFFSETTO:-0400
TZNAME:EDT
DTSTART:20250309T070000
END:DAYLIGHT
BEGIN:STANDARD
TZOFFSETFROM:-0400
TZOFFSETTO:-0500
TZNAME:EST
DTSTART:20251102T060000
END:STANDARD
BEGIN:DAYLIGHT
TZOFFSETFROM:-0500
TZOFFSETTO:-0400
TZNAME:EDT
DTSTART:20260308T070000
END:DAYLIGHT
BEGIN:STANDARD
TZOFFSETFROM:-0400
TZOFFSETTO:-0500
TZNAME:EST
DTSTART:20261101T060000
END:STANDARD
END:VTIMEZONE
BEGIN:VEVENT
DTSTART;TZID=America/New_York:20250221T081500
DTEND;TZID=America/New_York:20250221T085000
DTSTAMP:20260423T065013
CREATED:20241007T163759Z
LAST-MODIFIED:20251204T113017Z
UID:10013247-1740125700-1740127800@vermontsun.com
SUMMARY:Jazzercise Cardio Sculpt (Addt’l fee)
DESCRIPTION:Fridays\, 8:15 – 8:50am Cardio Sculpt: High-energy dance cardio\, followed by strength training
URL:https://vermontsun.com/event/jazzercise-cardio-sculpt-addtl-fee-3/2025-02-21/
LOCATION:VT Sun Middlebury\, 812 Exchange Street\, Middlebury\, VT\, 05753\, United States
CATEGORIES:Jazzercise
END:VEVENT
BEGIN:VEVENT
DTSTART;TZID=America/New_York:20250222T080000
DTEND;TZID=America/New_York:20250222T083000
DTSTAMP:20260423T065013
CREATED:20241007T163857Z
LAST-MODIFIED:20241007T163857Z
UID:10013765-1740211200-1740213000@vermontsun.com
SUMMARY:Jazzercise Stretch (Addt’l fee)
DESCRIPTION:Saturdays\, 8:00 – 8:30am Stretch: Increase flexibility and relieve soreness in this dance-based restorative class.
URL:https://vermontsun.com/event/jazzercise-stretch-addtl-fee/2025-02-22/
LOCATION:VT Sun Middlebury\, 812 Exchange Street\, Middlebury\, VT\, 05753\, United States
CATEGORIES:Jazzercise
END:VEVENT
BEGIN:VEVENT
DTSTART;TZID=America/New_York:20250222T083000
DTEND;TZID=America/New_York:20250222T090000
DTSTAMP:20260423T065013
CREATED:20241007T164008Z
LAST-MODIFIED:20241008T143010Z
UID:10014283-1740213000-1740214800@vermontsun.com
SUMMARY:Jazzercise Cardio Sculpt (Addt’l fee)
DESCRIPTION:Saturdays\, 8:30 – 9:00am Cardio Sculpt: High-energy dance cardio\, followed by strength training
URL:https://vermontsun.com/event/jazzercise-cardio-sculpt-addtl-fee-4/2025-02-22/
LOCATION:VT Sun Middlebury\, 812 Exchange Street\, Middlebury\, VT\, 05753\, United States
CATEGORIES:Jazzercise
END:VEVENT
BEGIN:VEVENT
DTSTART;TZID=America/New_York:20250224T081500
DTEND;TZID=America/New_York:20250224T084500
DTSTAMP:20260423T065014
CREATED:20230313T125655Z
LAST-MODIFIED:20260125T152007Z
UID:10010658-1740384900-1740386700@vermontsun.com
SUMMARY:Jazzercise Cardio (Addt’l fee)
DESCRIPTION:Mondays\, 8:15 – 8:45am Cardio: Thirty minutes of high-energy dance cardio
URL:https://vermontsun.com/event/pop-up-spin-sign-up-required/2025-02-24/
LOCATION:VT Sun Middlebury\, 812 Exchange Street\, Middlebury\, VT\, 05753\, United States
CATEGORIES:Jazzercise
END:VEVENT
BEGIN:VEVENT
DTSTART;TZID=America/New_York:20250225T173000
DTEND;TZID=America/New_York:20250225T183000
DTSTAMP:20260423T065014
CREATED:20241007T162951Z
LAST-MODIFIED:20241030T141004Z
UID:10011176-1740504600-1740508200@vermontsun.com
SUMMARY:Jazzercise Power Sculpt (Addt’l fee)
DESCRIPTION:Tuesdays\, 5:30 – 6:30pm Power Sculpt: Blends heart-pumping bursts of dance cardio with powerful strength training\, followed by a specialized toning segment
URL:https://vermontsun.com/event/jazzercise-power-sculpt-addtl-fee/2025-02-25/
LOCATION:VT Sun Middlebury\, 812 Exchange Street\, Middlebury\, VT\, 05753\, United States
CATEGORIES:Jazzercise
END:VEVENT
BEGIN:VEVENT
DTSTART;TZID=America/New_York:20250226T081500
DTEND;TZID=America/New_York:20250226T090000
DTSTAMP:20260423T065014
CREATED:20241007T163103Z
LAST-MODIFIED:20241030T141350Z
UID:10011694-1740557700-1740560400@vermontsun.com
SUMMARY:Jazzercise Sculpt (Addt’l fee)
DESCRIPTION:Wednesdays\, 8:15 – 9am Sculpt: Focuses on strength training to build strong\, lean muscles
URL:https://vermontsun.com/event/jazzercise-sculpt-addtl-fee/2025-02-26/
LOCATION:VT Sun Middlebury\, 812 Exchange Street\, Middlebury\, VT\, 05753\, United States
CATEGORIES:Jazzercise
END:VEVENT
BEGIN:VEVENT
DTSTART;TZID=America/New_York:20250226T161500
DTEND;TZID=America/New_York:20250226T171500
DTSTAMP:20260423T065014
CREATED:20241007T163521Z
LAST-MODIFIED:20251204T115102Z
UID:10012212-1740586500-1740590100@vermontsun.com
SUMMARY:Jazzercise Cardio Sculpt (Addt’l fee)
DESCRIPTION:Wednesdays\, 4:15 – 5pm Cardio Sculpt: High-energy dance cardio\, followed by strength training
URL:https://vermontsun.com/event/jazzercise-cardio-sculpt-addtl-fee/2025-02-26/
LOCATION:VT Sun Middlebury\, 812 Exchange Street\, Middlebury\, VT\, 05753\, United States
CATEGORIES:Jazzercise
END:VEVENT
BEGIN:VEVENT
DTSTART;TZID=America/New_York:20250227T173000
DTEND;TZID=America/New_York:20250227T183000
DTSTAMP:20260423T065014
CREATED:20241007T163635Z
LAST-MODIFIED:20251204T113115Z
UID:10012730-1740677400-1740681000@vermontsun.com
SUMMARY:Jazzercise Cardio Sculpt (Addt’l fee)
DESCRIPTION:Thursdays\, 5:30 – 6:30pm Cardio Sculpt: High-energy dance cardio\, followed by strength training
URL:https://vermontsun.com/event/jazzercise-cardio-sculpt-addtl-fee-2/2025-02-27/
LOCATION:VT Sun Middlebury\, 812 Exchange Street\, Middlebury\, VT\, 05753\, United States
CATEGORIES:Jazzercise
END:VEVENT
BEGIN:VEVENT
DTSTART;TZID=America/New_York:20250228T081500
DTEND;TZID=America/New_York:20250228T085000
DTSTAMP:20260423T065014
CREATED:20241007T163759Z
LAST-MODIFIED:20251204T113017Z
UID:10013248-1740730500-1740732600@vermontsun.com
SUMMARY:Jazzercise Cardio Sculpt (Addt’l fee)
DESCRIPTION:Fridays\, 8:15 – 8:50am Cardio Sculpt: High-energy dance cardio\, followed by strength training
URL:https://vermontsun.com/event/jazzercise-cardio-sculpt-addtl-fee-3/2025-02-28/
LOCATION:VT Sun Middlebury\, 812 Exchange Street\, Middlebury\, VT\, 05753\, United States
CATEGORIES:Jazzercise
END:VEVENT
BEGIN:VEVENT
DTSTART;TZID=America/New_York:20250301T080000
DTEND;TZID=America/New_York:20250301T083000
DTSTAMP:20260423T065014
CREATED:20241007T163857Z
LAST-MODIFIED:20241007T163857Z
UID:10013766-1740816000-1740817800@vermontsun.com
SUMMARY:Jazzercise Stretch (Addt’l fee)
DESCRIPTION:Saturdays\, 8:00 – 8:30am Stretch: Increase flexibility and relieve soreness in this dance-based restorative class.
URL:https://vermontsun.com/event/jazzercise-stretch-addtl-fee/2025-03-01/
LOCATION:VT Sun Middlebury\, 812 Exchange Street\, Middlebury\, VT\, 05753\, United States
CATEGORIES:Jazzercise
END:VEVENT
BEGIN:VEVENT
DTSTART;TZID=America/New_York:20250301T083000
DTEND;TZID=America/New_York:20250301T090000
DTSTAMP:20260423T065014
CREATED:20241007T164008Z
LAST-MODIFIED:20241008T143010Z
UID:10014284-1740817800-1740819600@vermontsun.com
SUMMARY:Jazzercise Cardio Sculpt (Addt’l fee)
DESCRIPTION:Saturdays\, 8:30 – 9:00am Cardio Sculpt: High-energy dance cardio\, followed by strength training
URL:https://vermontsun.com/event/jazzercise-cardio-sculpt-addtl-fee-4/2025-03-01/
LOCATION:VT Sun Middlebury\, 812 Exchange Street\, Middlebury\, VT\, 05753\, United States
CATEGORIES:Jazzercise
END:VEVENT
BEGIN:VEVENT
DTSTART;TZID=America/New_York:20250303T081500
DTEND;TZID=America/New_York:20250303T084500
DTSTAMP:20260423T065014
CREATED:20230313T125655Z
LAST-MODIFIED:20260125T152007Z
UID:10010659-1740989700-1740991500@vermontsun.com
SUMMARY:Jazzercise Cardio (Addt’l fee)
DESCRIPTION:Mondays\, 8:15 – 8:45am Cardio: Thirty minutes of high-energy dance cardio
URL:https://vermontsun.com/event/pop-up-spin-sign-up-required/2025-03-03/
LOCATION:VT Sun Middlebury\, 812 Exchange Street\, Middlebury\, VT\, 05753\, United States
CATEGORIES:Jazzercise
END:VEVENT
BEGIN:VEVENT
DTSTART;TZID=America/New_York:20250304T173000
DTEND;TZID=America/New_York:20250304T183000
DTSTAMP:20260423T065014
CREATED:20241007T162951Z
LAST-MODIFIED:20241030T141004Z
UID:10011177-1741109400-1741113000@vermontsun.com
SUMMARY:Jazzercise Power Sculpt (Addt’l fee)
DESCRIPTION:Tuesdays\, 5:30 – 6:30pm Power Sculpt: Blends heart-pumping bursts of dance cardio with powerful strength training\, followed by a specialized toning segment
URL:https://vermontsun.com/event/jazzercise-power-sculpt-addtl-fee/2025-03-04/
LOCATION:VT Sun Middlebury\, 812 Exchange Street\, Middlebury\, VT\, 05753\, United States
CATEGORIES:Jazzercise
END:VEVENT
BEGIN:VEVENT
DTSTART;TZID=America/New_York:20250305T081500
DTEND;TZID=America/New_York:20250305T090000
DTSTAMP:20260423T065014
CREATED:20241007T163103Z
LAST-MODIFIED:20241030T141350Z
UID:10011695-1741162500-1741165200@vermontsun.com
SUMMARY:Jazzercise Sculpt (Addt’l fee)
DESCRIPTION:Wednesdays\, 8:15 – 9am Sculpt: Focuses on strength training to build strong\, lean muscles
URL:https://vermontsun.com/event/jazzercise-sculpt-addtl-fee/2025-03-05/
LOCATION:VT Sun Middlebury\, 812 Exchange Street\, Middlebury\, VT\, 05753\, United States
CATEGORIES:Jazzercise
END:VEVENT
BEGIN:VEVENT
DTSTART;TZID=America/New_York:20250305T161500
DTEND;TZID=America/New_York:20250305T171500
DTSTAMP:20260423T065014
CREATED:20241007T163521Z
LAST-MODIFIED:20251204T115102Z
UID:10012213-1741191300-1741194900@vermontsun.com
SUMMARY:Jazzercise Cardio Sculpt (Addt’l fee)
DESCRIPTION:Wednesdays\, 4:15 – 5pm Cardio Sculpt: High-energy dance cardio\, followed by strength training
URL:https://vermontsun.com/event/jazzercise-cardio-sculpt-addtl-fee/2025-03-05/
LOCATION:VT Sun Middlebury\, 812 Exchange Street\, Middlebury\, VT\, 05753\, United States
CATEGORIES:Jazzercise
END:VEVENT
BEGIN:VEVENT
DTSTART;TZID=America/New_York:20250306T173000
DTEND;TZID=America/New_York:20250306T183000
DTSTAMP:20260423T065014
CREATED:20241007T163635Z
LAST-MODIFIED:20251204T113115Z
UID:10012731-1741282200-1741285800@vermontsun.com
SUMMARY:Jazzercise Cardio Sculpt (Addt’l fee)
DESCRIPTION:Thursdays\, 5:30 – 6:30pm Cardio Sculpt: High-energy dance cardio\, followed by strength training
URL:https://vermontsun.com/event/jazzercise-cardio-sculpt-addtl-fee-2/2025-03-06/
LOCATION:VT Sun Middlebury\, 812 Exchange Street\, Middlebury\, VT\, 05753\, United States
CATEGORIES:Jazzercise
END:VEVENT
BEGIN:VEVENT
DTSTART;TZID=America/New_York:20250307T081500
DTEND;TZID=America/New_York:20250307T085000
DTSTAMP:20260423T065014
CREATED:20241007T163759Z
LAST-MODIFIED:20251204T113017Z
UID:10013249-1741335300-1741337400@vermontsun.com
SUMMARY:Jazzercise Cardio Sculpt (Addt’l fee)
DESCRIPTION:Fridays\, 8:15 – 8:50am Cardio Sculpt: High-energy dance cardio\, followed by strength training
URL:https://vermontsun.com/event/jazzercise-cardio-sculpt-addtl-fee-3/2025-03-07/
LOCATION:VT Sun Middlebury\, 812 Exchange Street\, Middlebury\, VT\, 05753\, United States
CATEGORIES:Jazzercise
END:VEVENT
BEGIN:VEVENT
DTSTART;TZID=America/New_York:20250308T080000
DTEND;TZID=America/New_York:20250308T083000
DTSTAMP:20260423T065014
CREATED:20241007T163857Z
LAST-MODIFIED:20241007T163857Z
UID:10013767-1741420800-1741422600@vermontsun.com
SUMMARY:Jazzercise Stretch (Addt’l fee)
DESCRIPTION:Saturdays\, 8:00 – 8:30am Stretch: Increase flexibility and relieve soreness in this dance-based restorative class.
URL:https://vermontsun.com/event/jazzercise-stretch-addtl-fee/2025-03-08/
LOCATION:VT Sun Middlebury\, 812 Exchange Street\, Middlebury\, VT\, 05753\, United States
CATEGORIES:Jazzercise
END:VEVENT
BEGIN:VEVENT
DTSTART;TZID=America/New_York:20250308T083000
DTEND;TZID=America/New_York:20250308T090000
DTSTAMP:20260423T065014
CREATED:20241007T164008Z
LAST-MODIFIED:20241008T143010Z
UID:10014285-1741422600-1741424400@vermontsun.com
SUMMARY:Jazzercise Cardio Sculpt (Addt’l fee)
DESCRIPTION:Saturdays\, 8:30 – 9:00am Cardio Sculpt: High-energy dance cardio\, followed by strength training
URL:https://vermontsun.com/event/jazzercise-cardio-sculpt-addtl-fee-4/2025-03-08/
LOCATION:VT Sun Middlebury\, 812 Exchange Street\, Middlebury\, VT\, 05753\, United States
CATEGORIES:Jazzercise
END:VEVENT
BEGIN:VEVENT
DTSTART;TZID=America/New_York:20250310T081500
DTEND;TZID=America/New_York:20250310T084500
DTSTAMP:20260423T065014
CREATED:20230313T125655Z
LAST-MODIFIED:20260125T152007Z
UID:10010660-1741594500-1741596300@vermontsun.com
SUMMARY:Jazzercise Cardio (Addt’l fee)
DESCRIPTION:Mondays\, 8:15 – 8:45am Cardio: Thirty minutes of high-energy dance cardio
URL:https://vermontsun.com/event/pop-up-spin-sign-up-required/2025-03-10/
LOCATION:VT Sun Middlebury\, 812 Exchange Street\, Middlebury\, VT\, 05753\, United States
CATEGORIES:Jazzercise
END:VEVENT
BEGIN:VEVENT
DTSTART;TZID=America/New_York:20250311T173000
DTEND;TZID=America/New_York:20250311T183000
DTSTAMP:20260423T065014
CREATED:20241007T162951Z
LAST-MODIFIED:20241030T141004Z
UID:10011178-1741714200-1741717800@vermontsun.com
SUMMARY:Jazzercise Power Sculpt (Addt’l fee)
DESCRIPTION:Tuesdays\, 5:30 – 6:30pm Power Sculpt: Blends heart-pumping bursts of dance cardio with powerful strength training\, followed by a specialized toning segment
URL:https://vermontsun.com/event/jazzercise-power-sculpt-addtl-fee/2025-03-11/
LOCATION:VT Sun Middlebury\, 812 Exchange Street\, Middlebury\, VT\, 05753\, United States
CATEGORIES:Jazzercise
END:VEVENT
BEGIN:VEVENT
DTSTART;TZID=America/New_York:20250312T081500
DTEND;TZID=America/New_York:20250312T090000
DTSTAMP:20260423T065014
CREATED:20241007T163103Z
LAST-MODIFIED:20241030T141350Z
UID:10011696-1741767300-1741770000@vermontsun.com
SUMMARY:Jazzercise Sculpt (Addt’l fee)
DESCRIPTION:Wednesdays\, 8:15 – 9am Sculpt: Focuses on strength training to build strong\, lean muscles
URL:https://vermontsun.com/event/jazzercise-sculpt-addtl-fee/2025-03-12/
LOCATION:VT Sun Middlebury\, 812 Exchange Street\, Middlebury\, VT\, 05753\, United States
CATEGORIES:Jazzercise
END:VEVENT
BEGIN:VEVENT
DTSTART;TZID=America/New_York:20250312T161500
DTEND;TZID=America/New_York:20250312T171500
DTSTAMP:20260423T065014
CREATED:20241007T163521Z
LAST-MODIFIED:20251204T115102Z
UID:10012214-1741796100-1741799700@vermontsun.com
SUMMARY:Jazzercise Cardio Sculpt (Addt’l fee)
DESCRIPTION:Wednesdays\, 4:15 – 5pm Cardio Sculpt: High-energy dance cardio\, followed by strength training
URL:https://vermontsun.com/event/jazzercise-cardio-sculpt-addtl-fee/2025-03-12/
LOCATION:VT Sun Middlebury\, 812 Exchange Street\, Middlebury\, VT\, 05753\, United States
CATEGORIES:Jazzercise
END:VEVENT
BEGIN:VEVENT
DTSTART;TZID=America/New_York:20250313T173000
DTEND;TZID=America/New_York:20250313T183000
DTSTAMP:20260423T065014
CREATED:20241007T163635Z
LAST-MODIFIED:20251204T113115Z
UID:10012732-1741887000-1741890600@vermontsun.com
SUMMARY:Jazzercise Cardio Sculpt (Addt’l fee)
DESCRIPTION:Thursdays\, 5:30 – 6:30pm Cardio Sculpt: High-energy dance cardio\, followed by strength training
URL:https://vermontsun.com/event/jazzercise-cardio-sculpt-addtl-fee-2/2025-03-13/
LOCATION:VT Sun Middlebury\, 812 Exchange Street\, Middlebury\, VT\, 05753\, United States
CATEGORIES:Jazzercise
END:VEVENT
BEGIN:VEVENT
DTSTART;TZID=America/New_York:20250314T081500
DTEND;TZID=America/New_York:20250314T085000
DTSTAMP:20260423T065014
CREATED:20241007T163759Z
LAST-MODIFIED:20251204T113017Z
UID:10013250-1741940100-1741942200@vermontsun.com
SUMMARY:Jazzercise Cardio Sculpt (Addt’l fee)
DESCRIPTION:Fridays\, 8:15 – 8:50am Cardio Sculpt: High-energy dance cardio\, followed by strength training
URL:https://vermontsun.com/event/jazzercise-cardio-sculpt-addtl-fee-3/2025-03-14/
LOCATION:VT Sun Middlebury\, 812 Exchange Street\, Middlebury\, VT\, 05753\, United States
CATEGORIES:Jazzercise
END:VEVENT
BEGIN:VEVENT
DTSTART;TZID=America/New_York:20250315T080000
DTEND;TZID=America/New_York:20250315T083000
DTSTAMP:20260423T065014
CREATED:20241007T163857Z
LAST-MODIFIED:20241007T163857Z
UID:10013768-1742025600-1742027400@vermontsun.com
SUMMARY:Jazzercise Stretch (Addt’l fee)
DESCRIPTION:Saturdays\, 8:00 – 8:30am Stretch: Increase flexibility and relieve soreness in this dance-based restorative class.
URL:https://vermontsun.com/event/jazzercise-stretch-addtl-fee/2025-03-15/
LOCATION:VT Sun Middlebury\, 812 Exchange Street\, Middlebury\, VT\, 05753\, United States
CATEGORIES:Jazzercise
END:VEVENT
BEGIN:VEVENT
DTSTART;TZID=America/New_York:20250315T083000
DTEND;TZID=America/New_York:20250315T090000
DTSTAMP:20260423T065014
CREATED:20241007T164008Z
LAST-MODIFIED:20241008T143010Z
UID:10014286-1742027400-1742029200@vermontsun.com
SUMMARY:Jazzercise Cardio Sculpt (Addt’l fee)
DESCRIPTION:Saturdays\, 8:30 – 9:00am Cardio Sculpt: High-energy dance cardio\, followed by strength training
URL:https://vermontsun.com/event/jazzercise-cardio-sculpt-addtl-fee-4/2025-03-15/
LOCATION:VT Sun Middlebury\, 812 Exchange Street\, Middlebury\, VT\, 05753\, United States
CATEGORIES:Jazzercise
END:VEVENT
BEGIN:VEVENT
DTSTART;TZID=America/New_York:20250317T081500
DTEND;TZID=America/New_York:20250317T084500
DTSTAMP:20260423T065014
CREATED:20230313T125655Z
LAST-MODIFIED:20260125T152007Z
UID:10010661-1742199300-1742201100@vermontsun.com
SUMMARY:Jazzercise Cardio (Addt’l fee)
DESCRIPTION:Mondays\, 8:15 – 8:45am Cardio: Thirty minutes of high-energy dance cardio
URL:https://vermontsun.com/event/pop-up-spin-sign-up-required/2025-03-17/
LOCATION:VT Sun Middlebury\, 812 Exchange Street\, Middlebury\, VT\, 05753\, United States
CATEGORIES:Jazzercise
END:VEVENT
BEGIN:VEVENT
DTSTART;TZID=America/New_York:20250318T173000
DTEND;TZID=America/New_York:20250318T183000
DTSTAMP:20260423T065014
CREATED:20241007T162951Z
LAST-MODIFIED:20241030T141004Z
UID:10011179-1742319000-1742322600@vermontsun.com
SUMMARY:Jazzercise Power Sculpt (Addt’l fee)
DESCRIPTION:Tuesdays\, 5:30 – 6:30pm Power Sculpt: Blends heart-pumping bursts of dance cardio with powerful strength training\, followed by a specialized toning segment
URL:https://vermontsun.com/event/jazzercise-power-sculpt-addtl-fee/2025-03-18/
LOCATION:VT Sun Middlebury\, 812 Exchange Street\, Middlebury\, VT\, 05753\, United States
CATEGORIES:Jazzercise
END:VEVENT
BEGIN:VEVENT
DTSTART;TZID=America/New_York:20250319T081500
DTEND;TZID=America/New_York:20250319T090000
DTSTAMP:20260423T065014
CREATED:20241007T163103Z
LAST-MODIFIED:20241030T141350Z
UID:10011697-1742372100-1742374800@vermontsun.com
SUMMARY:Jazzercise Sculpt (Addt’l fee)
DESCRIPTION:Wednesdays\, 8:15 – 9am Sculpt: Focuses on strength training to build strong\, lean muscles
URL:https://vermontsun.com/event/jazzercise-sculpt-addtl-fee/2025-03-19/
LOCATION:VT Sun Middlebury\, 812 Exchange Street\, Middlebury\, VT\, 05753\, United States
CATEGORIES:Jazzercise
END:VEVENT
END:VCALENDAR